{"text_format":"1","workbook":"xlsx","n_sheets":15,"sheets":["1 Instructions","2 Position Details","3 Duties & Requirements","Post Ext","5 Screening","Interview Worksheet","Interview Schedule","Candidate Ratings","New Job Ad","Old Job Ad","Variables","Salaries","Selected for Interview","Q&A and REF merge","Dev Notes"],"not_rendered":{"charts":0,"images":2,"macros":1,"external_links":2,"defined_names":20,"comments":2,"pivot_tables":0},"unopened":[],"bounds":{"document_bytes":16777216,"sheet_cells":100000,"rows_first":2000,"rows_last":500,"rows_between":2000,"halvings":0,"cell_chars":16384,"cell_head_chars":4096},"cells_cut":0,"cells_raw":0,"read":"whole","date_system":"1900"}

{"sheet":"1 Instructions","index":0,"n_rows":15,"n_cols":2,"rows_kept":15,"cut":false,"hidden":false,"merged":[[0,0,0,1]]}
["Hiring Manager is responsible for entering all data in both Sheets 2 & 3, as applicable (at the bottom of spreadsheet)"]
["·  ","If prompted to do so, make sure that you have selected to Enable content for this file"]
["·  ","All text entered should be print ready (grammar and spell checks completed), as this will feed into the finished job advertisement"]
["·  ","Best practice is to type all information into form"]
["·  ","If cut/paste is used do not use shortcuts keys to paste text into fields, use the cut/paste functions in the Home tab or right click and paste ensuring that 'Match Destination Formatting' is used"]
["·  ","When copying criteria from an MS Word document to MS Excel worksheet, first remove any bullets, this will be automatically included in the job advertisement"]
["·  ","Duties field cannot exceed 1500 characters, including spaces"]
["·  ","You are not required to use all fields for criteria, blank fields will be removed automatically when HR completes the job advertisement"]
["·  ","Criteria that will be used for screening applicants must be determined at this stage of the competition, and noted by selecting this option at the right hand side of the specific criteria - do not choose more than 7 criteria"]
["·  ","Criteria that will be weighted as critical in the interview questions must be determined at this stage of the competition, and noted by selecting this option at the right hand side of the specific criteria"]
["·  ","Fields that cannot be edited are locked by Human Resource Services"]
["·  ","Upon completion of sheets 2 & 3, this worksheet can be saved and attached to the PEAR, Part C, in the 'Job Posting' field"]
[]
[null,"   "]
[null,"  "]

{"sheet":"2 Position Details","index":1,"n_rows":20,"n_cols":5,"rows_kept":20,"cut":false,"hidden":false,"merged":[[13,0,13,5],[17,0,17,5],[5,1,5,5],[0,0,0,5],[3,3,3,5],[1,4,1,5],[2,4,2,5],[6,4,6,5],[7,4,7,5],[9,4,9,5]]}
["To be completed by Hiring Manager - please fill in fields completely, as this is how it will appear on the job advertisement"]
[null,"Position Title",null,"Employment Type"]
[null,"Department (full title)",null,"# of Positions Available (use if more than 1)",1]
[null,"Internal/External"]
[]
[null,"Use MM DD, YYYY format for all dates, i.e. May 12, 2016"]
[null,"Term, start date (if applicable)",null,"Term, end date (if applicable)"]
[null,"Possibility of term extension? (if applicable)",null,"Term extension date (if applicable)"]
[]
[null,"Eligibility List?",null,"Campus Location"]
[]
[null,"Salary Range",null,"←Hourly Rate Follows Per Annum Rate in Drop Down List"]
[null,null,null,"HR office will adjust range when a salary increase is effective within 3 months"]
["To be completed by the Human Resource Consultant"]
[null,"Enter names of screening committee members: (up to 4 persons)"]
[]
[]
["To be completed by the HR Administrative Assistant"]
[null,"Competition Number",null,"Closing Date"]
[null,"Salary increase effective within 3 months?"]

{"sheet":"3 Duties & Requirements","index":2,"n_rows":52,"n_cols":4,"rows_kept":52,"cut":false,"hidden":false,"merged":[[30,2,30,3],[38,2,38,3],[0,0,0,3],[31,2,31,3],[32,2,32,3],[33,2,33,3],[34,2,34,3],[35,2,35,3],[36,2,36,3],[37,2,37,3],[51,2,51,3],[39,2,39,3],[42,2,42,3],[48,2,48,3],[49,2,49,3],[50,2,50,3]]}
["To be completed by Hiring Manager - please fill in fields completely, as this is how it will appear on the job advertisement"]
[null,"Duties"]
[]
[]
[null,null,"Use for "]
[null,null,"Screening Criteria"]
[null,"REQUIRED QUALIFICATIONS","Limit to 7 criteria,\nincluding assets below","Use to Indicate Critical Qualification"]
[1]
[2]
[3]
[4]
[5]
[6]
[7]
[8]
[9]
[10]
[11]
[12]
[13]
[14]
[15]
[16]
[17]
[18]
[19]
[20]
[21,"Values Diversity, Equity, and Inclusion"]
[22,"Commitment to lifelong learning"]
[]
[null,null,"Use for Screening Criteria"]
[null,"ASSET QUALIFICATIONS","Limit to 7 criteria,\nincluding required above"]
[1]
[2]
[3]
[4]
[5]
[6]
[7]
[8]
[]
[null,"CONDITIONS OF EMPLOYMENT"]
[1,"Applicants must be legally entitled to work in Canada"]
[2,"This position may be required to work evenings and/or weekends"]
[3]
[4]
[5]
[6]
[7]
[8]
[9]
[10]

{"sheet":"Post Ext","index":3,"n_rows":88,"n_cols":1,"rows_kept":88,"cut":false,"hidden":true,"merged":[]}
["JOB TITLE"]
[{"$f":"'New Job Ad'!A2","v":""}]
[]
["SALARY"]
[{"$f":"'New Job Ad'!AQ2","v":"TBD"}]
[]
["DESCRIPTION"]
[{"$f":"'New Job Ad'!A2","v":""}]
[{"$f":"'New Job Ad'!B2","v":0}]
[]
[{"$f":"'New Job Ad'!AV2","v":" "}]
[]
[{"$f":"CONCATENATE(\"Position Location: \", 'New Job Ad'!AT2, \" \",'New Job Ad'!AU2 )","v":"Position Location:    "}]
[]
[{"$f":"'New Job Ad'!AX2","v":"Full-Time Position Available "}]
[{"$f":"'New Job Ad'!AY2","v":""}]
[{"$f":"'New Job Ad'!AZ2","v":""}]
[]
[{"$f":"'New Job Ad'!C2","v":"An eligibility list may be created for similar casual, part-time, full-time, and term positions"}]
[]
["Red River College is a leader in applied learning and innovation. Our talented team of employees is passionate about education, innovation and student success.  We offer competitive salaries, extensive benefits, and the opportunity for personal and professional growth in a rewarding career. "]
[]
[{"$f":"CONCATENATE(\"Duties: \",'New Job Ad'!D2)","v":"Duties: 0"}]
[]
["REQUIRED QUALIFICATIONS"]
[{"$f":"CONCATENATE(\"- \",'New Job Ad'!E$2)","v":"- 0"}]
[{"$f":"CONCATENATE(\"- \",'New Job Ad'!F$2)","v":"- 0"}]
[{"$f":"CONCATENATE(\"- \",'New Job Ad'!G$2)","v":"- 0"}]
[{"$f":"CONCATENATE(\"- \",'New Job Ad'!H$2)","v":"- 0"}]
[{"$f":"CONCATENATE(\"- \",'New Job Ad'!I$2)","v":"- 0"}]
[{"$f":"CONCATENATE(\"- \",'New Job Ad'!J$2)","v":"- 0"}]
[{"$f":"CONCATENATE(\"- \",'New Job Ad'!K$2)","v":"- 0"}]
[{"$f":"CONCATENATE(\"- \",'New Job Ad'!L$2)","v":"- 0"}]
[{"$f":"CONCATENATE(\"- \",'New Job Ad'!M$2)","v":"- 0"}]
[{"$f":"CONCATENATE(\"- \",'New Job Ad'!N$2)","v":"- 0"}]
[{"$f":"CONCATENATE(\"- \",'New Job Ad'!O$2)","v":"- 0"}]
[{"$f":"CONCATENATE(\"- \",'New Job Ad'!P$2)","v":"- 0"}]
[{"$f":"CONCATENATE(\"- \",'New Job Ad'!Q$2)","v":"- 0"}]
[{"$f":"CONCATENATE(\"- \",'New Job Ad'!R$2)","v":"- 0"}]
[{"$f":"CONCATENATE(\"- \",'New Job Ad'!S$2)","v":"- 0"}]
[{"$f":"CONCATENATE(\"- \",'New Job Ad'!T$2)","v":"- 0"}]
[{"$f":"CONCATENATE(\"- \",'New Job Ad'!U$2)","v":"- 0"}]
[{"$f":"CONCATENATE(\"- \",'New Job Ad'!V$2)","v":"- 0"}]
[{"$f":"CONCATENATE(\"- \",'New Job Ad'!W$2)","v":"- 0"}]
[{"$f":"CONCATENATE(\"- \",'New Job Ad'!X$2)","v":"- 0"}]
[{"$f":"CONCATENATE(\"- \",'3 Duties & Requirements'!B28)","v":"- Values Diversity, Equity, and Inclusion"}]
[{"$f":"CONCATENATE(\"- \",'3 Duties & Requirements'!B29)","v":"- Commitment to lifelong learning"}]
[]
["ASSET QUALIFICATIONS"]
[{"$f":"CONCATENATE(\"- \",'New Job Ad'!Y$2)","v":"- 0"}]
[{"$f":"CONCATENATE(\"- \",'New Job Ad'!Z$2)","v":"- 0"}]
[{"$f":"CONCATENATE(\"- \",'New Job Ad'!AA$2)","v":"- 0"}]
[{"$f":"CONCATENATE(\"- \",'New Job Ad'!AB$2)","v":"- 0"}]
[{"$f":"CONCATENATE(\"- \",'New Job Ad'!AC$2)","v":"- 0"}]
[{"$f":"CONCATENATE(\"- \",'New Job Ad'!AD$2)","v":"- 0"}]
[{"$f":"CONCATENATE(\"- \",'New Job Ad'!AE$2)","v":"- 0"}]
[{"$f":"CONCATENATE(\"- \",'New Job Ad'!AF$2)","v":"- 0"}]
[]
["CONDTIONS OF EMPLOYMENT"]
[{"$f":"CONCATENATE(\"- \",'3 Duties & Requirements'!B43)","v":"- Applicants must be legally entitled to work in Canada"}]
[{"$f":"CONCATENATE(\"- \",'3 Duties & Requirements'!B44)","v":"- This position may be required to work evenings and/or weekends"}]
[{"$f":"CONCATENATE(\"- \",'New Job Ad'!AG$2)","v":"- "}]
[{"$f":"CONCATENATE(\"- \",'New Job Ad'!AH$2)","v":"- "}]
[{"$f":"CONCATENATE(\"- \",'New Job Ad'!AI$2)","v":"- "}]
[{"$f":"CONCATENATE(\"- \",'New Job Ad'!AJ$2)","v":"- "}]
[{"$f":"CONCATENATE(\"- \",'New Job Ad'!AK$2)","v":"- "}]
[{"$f":"CONCATENATE(\"- \",'New Job Ad'!AL$2)","v":"- 0"}]
[{"$f":"CONCATENATE(\"- \",'New Job Ad'!AM$2)","v":"- 0"}]
[{"$f":"CONCATENATE(\"- \",'New Job Ad'!AN$2)","v":"- 0"}]
[]
["HOW TO APPLY"]
["Applicants are to clearly demonstrate how they satisfy the selection criteria in their written submissions and must identify the competition number they are applying for in the subject line of the email"]
[]
["Apply to Red River College by email: humanresources@rrc.ca "]
[]
[{"$f":"'New Job Ad'!C2","v":"An eligibility list may be created for similar casual, part-time, full-time, and term positions"}]
[]
["We seek diversity in our workplace.  Aboriginal persons, women, visible minorities and individuals with disabilities are encouraged to apply."]
[]
[{"$f":"CONCATENATE(\"Competition #: \",'New Job Ad'!AO2)","v":"Competition #: 0"}]
[{"$f":"CONCATENATE(\"Closing Date: \",'New Job Ad'!AP2)","v":"Closing Date: 0"}]
[{"$f":"CONCATENATE(\"Salary: \",'New Job Ad'!AQ2)","v":"Salary: TBD"}]
[{"$f":"supplement","v":0}]
["We thank all applicants for their interest, but only those selected for an interview will be contacted. Red River College provides accommodations to applicants with disabilities throughout the hiring process. If an applicant requires accommodation during the application or selection process, Human Resource Services will work with the applicant to meet the accommodation needs."]
[]
["For more information and other  employment opportunities, visit www.rrc.ca/hr"]
[]
["2055 Notre Dame Ave, Winnipeg, Manitoba, Canada R3H0J9"]

{"sheet":"5 Screening","index":4,"n_rows":366,"n_cols":19,"rows_kept":366,"cut":false,"hidden":true,"merged":[[8,2,8,12],[9,2,9,12],[10,2,10,12],[11,2,11,12],[12,2,12,12],[2,15,2,16],[1,15,1,16],[2,12,2,13],[1,12,1,13],[1,3,1,10],[6,2,6,12],[7,2,7,12],[5,13,5,17],[14,12,15,12],[351,13,351,16],[14,0,15,3],[243,13,243,16],[244,13,244,16],[245,13,245,16],[246,13,246,16],[247,13,247,16],[248,13,248,16],[264,13,264,16],[265,13,265,16],[266,13,266,16],[267,13,267,16],[268,13,268,16],[269,13,269,16],[196,13,196,16],[197,13,197,16],[198,13,198,16],[199,13,199,16],[200,13,200,16],[201,13,201,16],[202,13,202,16],[203,13,203,16],[204,13,204,16],[214,13,214,16],[215,13,215,16],[216,13,216,16],[217,13,217,16],[218,13,218,16],[219,13,219,16],[220,13,220,16],[221,13,221,16],[222,13,222,16],[20,13,20,16],[92,13,92,16],[93,13,93,16],[94,13,94,16],[95,13,95,16],[96,13,96,16],[31,13,31,16],[32,13,32,16],[33,13,33,16],[34,13,34,16],[35,13,35,16],[21,13,21,16],[22,13,22,16],[23,13,23,16],[24,13,24,16],[25,13,25,16],[26,13,26,16],[27,13,27,16],[28,13,28,16],[29,13,29,16],[30,13,30,16],[41,13,41,16],[42,13,42,16],[43,13,43,16],[165,13,165,16],[166,13,166,16],[167,13,167,16],[168,13,168,16],[169,13,169,16],[170,13,170,16],[259,13,259,16],[260,13,260,16],[261,13,261,16],[205,13,205,16],[206,13,206,16],[207,13,207,16],[249,13,249,16],[250,13,250,16],[255,13,255,16],[256,13,256,16],[257,13,257,16],[258,13,258,16],[208,13,208,16],[209,13,209,16],[210,13,210,16],[211,13,211,16],[212,13,212,16],[213,13,213,16],[44,13,44,16],[45,13,45,16],[36,13,36,16],[37,13,37,16],[38,13,38,16],[39,13,39,16],[40,13,40,16],[51,13,51,16],[52,13,52,16],[53,13,53,16],[54,13,54,16],[55,13,55,16],[46,13,46,16],[47,13,47,16],[48,13,48,16],[49,13,49,16],[50,13,50,16],[56,13,56,16],[331,13,331,16],[332,13,332,16],[297,13,297,16],[298,13,298,16],[299,13,299,16],[300,13,300,16],[301,13,301,16],[302,13,302,16],[312,13,312,16],[313,13,313,16],[315,13,315,16],[316,13,316,16],[317,13,317,16],[318,13,318,16],[319,13,319,16],[320,13,320,16],[14,13,15,16],[16,13,16,16],[14,5,14,11],[14,4,15,4],[17,13,17,16],[18,13,18,16],[19,13,19,16],[344,13,344,16],[345,13,345,16],[289,13,289,16],[290,13,290,16],[291,13,291,16],[281,13,281,16],[282,13,282,16],[283,13,283,16],[284,13,284,16],[285,13,285,16],[278,13,278,16],[279,13,279,16],[280,13,280,16],[273,13,273,16],[274,13,274,16],[275,13,275,16],[276,13,276,16],[57,13,57,16],[58,13,58,16],[59,13,59,16],[60,13,60,16],[61,13,61,16],[62,13,62,16],[63,13,63,16],[64,13,64,16],[65,13,65,16],[66,13,66,16],[67,13,67,16],[68,13,68,16],[69,13,69,16],[70,13,70,16],[71,13,71,16],[72,13,72,16],[73,13,73,16],[74,13,74,16],[75,13,75,16],[76,13,76,16],[77,13,77,16],[78,13,78,16],[79,13,79,16],[80,13,80,16],[81,13,81,16],[82,13,82,16],[83,13,83,16],[84,13,84,16],[85,13,85,16],[86,13,86,16],[87,13,87,16],[88,13,88,16],[89,13,89,16],[90,13,90,16],[91,13,91,16],[108,13,108,16],[97,13,97,16],[98,13,98,16],[99,13,99,16],[100,13,100,16],[101,13,101,16],[102,13,102,16],[103,13,103,16],[104,13,104,16],[105,13,105,16],[106,13,106,16],[107,13,107,16],[109,13,109,16],[110,13,110,16],[111,13,111,16],[112,13,112,16],[113,13,113,16],[114,13,114,16],[115,13,115,16],[116,13,116,16],[117,13,117,16],[118,13,118,16],[119,13,119,16],[120,13,120,16],[121,13,121,16],[122,13,122,16],[123,13,123,16],[124,13,124,16],[125,13,125,16],[126,13,126,16],[127,13,127,16],[128,13,128,16],[129,13,129,16],[130,13,130,16],[131,13,131,16],[132,13,132,16],[133,13,133,16],[134,13,134,16],[135,13,135,16],[136,13,136,16],[137,13,137,16],[138,13,138,16],[139,13,139,16],[140,13,140,16],[141,13,141,16],[142,13,142,16],[143,13,143,16],[144,13,144,16],[145,13,145,16],[146,13,146,16],[147,13,147,16],[148,13,148,16],[149,13,149,16],[150,13,150,16],[151,13,151,16],[152,13,152,16],[164,13,164,16],[153,13,153,16],[154,13,154,16],[155,13,155,16],[156,13,156,16],[157,13,157,16],[158,13,158,16],[159,13,159,16],[160,13,160,16],[161,13,161,16],[162,13,162,16],[163,13,163,16],[171,13,171,16],[172,13,172,16],[173,13,173,16],[174,13,174,16],[175,13,175,16],[176,13,176,16],[177,13,177,16],[178,13,178,16],[179,13,179,16],[180,13,180,16],[181,13,181,16],[195,13,195,16],[191,13,191,16],[192,13,192,16],[193,13,193,16],[188,13,188,16],[189,13,189,16],[190,13,190,16],[182,13,182,16],[183,13,183,16],[184,13,184,16],[185,13,185,16],[186,13,186,16],[187,13,187,16],[194,13,194,16],[223,13,223,16],[224,13,224,16],[225,13,225,16],[226,13,226,16],[227,13,227,16],[228,13,228,16],[229,13,229,16],[230,13,230,16],[231,13,231,16],[232,13,232,16],[233,13,233,16],[234,13,234,16],[235,13,235,16],[236,13,236,16],[237,13,237,16],[238,13,238,16],[239,13,239,16],[251,13,251,16],[252,13,252,16],[253,13,253,16],[254,13,254,16],[240,13,240,16],[241,13,241,16],[242,13,242,16],[270,13,270,16],[271,13,271,16],[272,13,272,16],[262,13,262,16],[263,13,263,16],[277,13,277,16],[306,13,306,16],[307,13,307,16],[308,13,308,16],[309,13,309,16],[310,13,310,16],[314,13,314,16],[304,13,304,16],[305,13,305,16],[292,13,292,16],[293,13,293,16],[294,13,294,16],[295,13,295,16],[296,13,296,16],[286,13,286,16],[287,13,287,16],[288,13,288,16],[311,13,311,16],[303,13,303,16],[355,13,355,16],[356,13,356,16],[357,13,357,16],[358,13,358,16],[359,13,359,16],[360,13,360,16],[361,13,361,16],[346,13,346,16],[321,13,321,16],[322,13,322,16],[323,13,323,16],[324,13,324,16],[325,13,325,16],[326,13,326,16],[327,13,327,16],[328,13,328,16],[329,13,329,16],[347,13,347,16],[348,13,348,16],[349,13,349,16],[350,13,350,16],[342,13,342,16],[343,13,343,16],[330,13,330,16],[14,17,15,17],[6,13,6,17],[7,13,7,17],[8,13,8,17],[9,13,9,17],[10,13,10,17],[11,13,11,17],[12,13,12,17],[365,13,365,16],[362,13,362,16],[363,13,363,16],[364,13,364,16],[333,13,333,16],[334,13,334,16],[335,13,335,16],[336,13,336,16],[337,13,337,16],[338,13,338,16],[339,13,339,16],[340,13,340,16],[341,13,341,16],[352,13,352,16],[353,13,353,16],[354,13,354,16]]}
["Competition #:",null,null,{"$f":"'2 Position Details'!C19","v":0},null,null,null,null,null,null,null,null,"Screening Committee Members:",null,null,null,null,null,"REMOVE LINE?"]
["Position Title:",null,null,{"$f":"'2 Position Details'!C2","v":0},null,null,null,null,null,null,null,1,{"$f":"IF('2 Position Details'!B16>0, '2 Position Details'!B16, \"\")","v":""},null,3,{"$f":"IF('2 Position Details'!D16>0, '2 Position Details'!D16, \"\")","v":""},null,null,"NO"]
[null,null,null,null,null,null,null,null,null,null,null,2,{"$f":"IF('2 Position Details'!C16>0, '2 Position Details'!C16, \"\")","v":""},null,4,{"$f":"IF('2 Position Details'!E16>0, '2 Position Details'!E16, \"\")","v":""},null,null,"NO"]
[null,null,null,null,null,null,null,null,null,null,null,null,null,null,null,null,null,null,"NO"]
["In order to be considered for an interview candidates meet the following screening criteria:",null,null,null,null,null,null,null,null,null,null,null,null,null,null,null,null,null,"NO"]
["R=Required / A=Asset",null,null,null,null,null,null,null,null,null,null,null,null,"(use this field to detail criteria, if required)",null,null,null,null,"NO"]
[1,{"$f":"Variables!G122","v":""},{"$f":"Variables!F122","v":""},null,null,null,null,null,null,null,null,null,null,null,null,null,null,null,{"$f":"IF(B7=\"\", \"YES\", \"NO\")","v":"YES"}]
[2,{"$f":"Variables!I122","v":""},{"$f":"Variables!H122","v":""},null,null,null,null,null,null,null,null,null,null,null,null,null,null,null,{"$f":"IF(B8=\"\",\"YES\", \"NO\")","v":"YES"}]
[3,{"$f":"Variables!K122","v":""},{"$f":"Variables!J122","v":""},null,null,null,null,null,null,null,null,null,null,null,null,null,null,null,{"$f":"IF(B9=\"\",\"YES\", \"NO\")","v":"YES"}]
[4,{"$f":"Variables!M122","v":""},{"$f":"Variables!L122","v":""},null,null,null,null,null,null,null,null,null,null,null,null,null,null,null,{"$f":"IF(B10=\"\", \"YES\", \"NO\")","v":"YES"}]
[5,{"$f":"Variables!O122","v":""},{"$f":"Variables!N122","v":""},null,null,null,null,null,null,null,null,null,null,null,null,null,null,null,{"$f":"IF(B11=\"\", \"YES\", \"NO\")","v":"YES"}]
[6,{"$f":"Variables!Q122","v":""},{"$f":"Variables!P122","v":""},null,null,null,null,null,null,null,null,null,null,null,null,null,null,null,{"$f":"IF(B12=\"\", \"YES\", \"NO\")","v":"YES"}]
[7,{"$f":"Variables!S122","v":""},{"$f":"Variables!R122","v":""},null,null,null,null,null,null,null,null,null,null,null,null,null,null,null,{"$f":"IF(B13=\"\", \"YES\", \"NO\")","v":"YES"}]
[null,null,null,null,null,null,null,null,null,null,null,null,null,null,null,null,null,null,"NO"]
["NAME",null,null,null,"INT","RATING",null,null,null,null,null,null,"Interview\n(Y/N)","COMMENTS",null,null,null,"INDIG","NO"]
[null,null,null,null,null,1,2,3,4,5,6,7,null,null,null,null,null,null,"NO"]
[1,null,null,null,null,null,null,null,null,null,null,null,null,null,null,null,null,null,{"$f":"IF(B17=0, \"YES\", \"NO\")","v":"YES"}]
[2,null,null,null,null,null,null,null,null,null,null,null,null,null,null,null,null,null,{"$f":"IF(B18=0, \"YES\", \"NO\")","v":"YES"}]
[3,null,null,null,null,null,null,null,null,null,null,null,null,null,null,null,null,null,"YES"]
[4,null,null,null,null,null,null,null,null,null,null,null,null,null,null,null,null,null,"YES"]
[5,null,null,null,null,null,null,null,null,null,null,null,null,null,null,null,null,null,"YES"]
[6,null,null,null,null,null,null,null,null,null,null,null,null,null,null,null,null,null,"YES"]
[7,null,null,null,null,null,null,null,null,null,null,null,null,null,null,null,null,null,"YES"]
[8,null,null,null,null,null,null,null,null,null,null,null,null,null,null,null,null,null,"YES"]
[9,null,null,null,null,null,null,null,null,null,null,null,null,null,null,null,null,null,"YES"]
[10,null,null,null,null,null,null,null,null,null,null,null,null,null,null,null,null,null,"YES"]
[11,null,null,null,null,null,null,null,null,null,null,null,null,null,null,null,null,null,"YES"]
[12,null,null,null,null,null,null,null,null,null,null,null,null,null,null,null,null,null,"YES"]
[13,null,null,null,null,null,null,null,null,null,null,null,null,null,null,null,null,null,"YES"]
[14,null,null,null,null,null,null,null,null,null,null,null,null,null,null,null,null,null,"YES"]
[15,null,null,null,null,null,null,null,null,null,null,null,null,null,null,null,null,null,"YES"]
[16,null,null,null,null,null,null,null,null,null,null,null,null,null,null,null,null,null,"YES"]
[17,null,null,null,null,null,null,null,null,null,null,null,null,null,null,null,null,null,"YES"]
[18,null,null,null,null,null,null,null,null,null,null,null,null,null,null,null,null,null,"YES"]
[19,null,null,null,null,null,null,null,null,null,null,null,null,null,null,null,null,null,"YES"]
[20,null,null,null,null,null,null,null,null,null,null,null,null,null,null,null,null,null,"YES"]
[21,null,null,null,null,null,null,null,null,null,null,null,null,null,null,null,null,null,"YES"]
[22,null,null,null,null,null,null,null,null,null,null,null,null,null,null,null,null,null,"YES"]
[23,null,null,null,null,null,null,null,null,null,null,null,null,null,null,null,null,null,"YES"]
[24,null,null,null,null,null,null,null,null,null,null,null,null,null,null,null,null,null,"YES"]
[25,null,null,null,null,null,null,null,null,null,null,null,null,null,null,null,null,null,"YES"]
[26,null,null,null,null,null,null,null,null,null,null,null,null,null,null,null,null,null,"YES"]
[27,null,null,null,null,null,null,null,null,null,null,null,null,null,null,null,null,null,"YES"]
[28,null,null,null,null,null,null,null,null,null,null,null,null,null,null,null,null,null,"YES"]
[29,null,null,null,null,null,null,null,null,null,null,null,null,null,null,null,null,null,"YES"]
[30,null,null,null,null,null,null,null,null,null,null,null,null,null,null,null,null,null,"YES"]
[31,null,null,null,null,null,null,null,null,null,null,null,null,null,null,null,null,null,"YES"]
[32,null,null,null,null,null,null,null,null,null,null,null,null,null,null,null,null,null,"YES"]
[33,null,null,null,null,null,null,null,null,null,null,null,null,null,null,null,null,null,"YES"]
[34,null,null,null,null,null,null,null,null,null,null,null,null,null,null,null,null,null,"YES"]
[35,null,null,null,null,null,null,null,null,null,null,null,null,null,null,null,null,null,"YES"]
[36,null,null,null,null,null,null,null,null,null,null,null,null,null,null,null,null,null,"YES"]
[37,null,null,null,null,null,null,null,null,null,null,null,null,null,null,null,null,null,"YES"]
[38,null,null,null,null,null,null,null,null,null,null,null,null,null,null,null,null,null,"YES"]
[39,null,null,null,null,null,null,null,null,null,null,null,null,null,null,null,null,null,"YES"]
[40,null,null,null,null,null,null,null,null,null,null,null,null,null,null,null,null,null,"YES"]
[41,null,null,null,null,null,null,null,null,null,null,null,null,null,null,null,null,null,"YES"]
[42,null,null,null,null,null,null,null,null,null,null,null,null,null,null,null,null,null,"YES"]
[43,null,null,null,null,null,null,null,null,null,null,null,null,null,null,null,null,null,"YES"]
[44,null,null,null,null,null,null,null,null,null,null,null,null,null,null,null,null,null,"YES"]
[45,null,null,null,null,null,null,null,null,null,null,null,null,null,null,null,null,null,"YES"]
[46,null,null,null,null,null,null,null,null,null,null,null,null,null,null,null,null,null,"YES"]
[47,null,null,null,null,null,null,null,null,null,null,null,null,null,null,null,null,null,"YES"]
[48,null,null,null,null,null,null,null,null,null,null,null,null,null,null,null,null,null,"YES"]
[49,null,null,null,null,null,null,null,null,null,null,null,null,null,null,null,null,null,"YES"]
[50,null,null,null,null,null,null,null,null,null,null,null,null,null,null,null,null,null,"YES"]
[51,null,null,null,null,null,null,null,null,null,null,null,null,null,null,null,null,null,"YES"]
[52,null,null,null,null,null,null,null,null,null,null,null,null,null,null,null,null,null,"YES"]
[53,null,null,null,null,null,null,null,null,null,null,null,null,null,null,null,null,null,"YES"]
[54,null,null,null,null,null,null,null,null,null,null,null,null,null,null,null,null,null,"YES"]
[55,null,null,null,null,null,null,null,null,null,null,null,null,null,null,null,null,null,"YES"]
[56,null,null,null,null,null,null,null,null,null,null,null,null,null,null,null,null,null,"YES"]
[57,null,null,null,null,null,null,null,null,null,null,null,null,null,null,null,null,null,"YES"]
[58,null,null,null,null,null,null,null,null,null,null,null,null,null,null,null,null,null,"YES"]
[59,null,null,null,null,null,null,null,null,null,null,null,null,null,null,null,null,null,"YES"]
[60,null,null,null,null,null,null,null,null,null,null,null,null,null,null,null,null,null,"YES"]
[61,null,null,null,null,null,null,null,null,null,null,null,null,null,null,null,null,null,"YES"]
[62,null,null,null,null,null,null,null,null,null,null,null,null,null,null,null,null,null,"YES"]
[63,null,null,null,null,null,null,null,null,null,null,null,null,null,null,null,null,null,"YES"]
[64,null,null,null,null,null,null,null,null,null,null,null,null,null,null,null,null,null,"YES"]
[65,null,null,null,null,null,null,null,null,null,null,null,null,null,null,null,null,null,{"$f":"IF(B81=0, \"YES\", \"NO\")","v":"YES"}]
[66,null,null,null,null,null,null,null,null,null,null,null,null,null,null,null,null,null,"YES"]
[67,null,null,null,null,null,null,null,null,null,null,null,null,null,null,null,null,null,"YES"]
[68,null,null,null,null,null,null,null,null,null,null,null,null,null,null,null,null,null,"YES"]
[69,null,null,null,null,null,null,null,null,null,null,null,null,null,null,null,null,null,"YES"]
[70,null,null,null,null,null,null,null,null,null,null,null,null,null,null,null,null,null,"YES"]
[71,null,null,null,null,null,null,null,null,null,null,null,null,null,null,null,null,null,"YES"]
[72,null,null,null,null,null,null,null,null,null,null,null,null,null,null,null,null,null,"YES"]
[73,null,null,null,null,null,null,null,null,null,null,null,null,null,null,null,null,null,"YES"]
[74,null,null,null,null,null,null,null,null,null,null,null,null,null,null,null,null,null,"YES"]
[75,null,null,null,null,null,null,null,null,null,null,null,null,null,null,null,null,null,"YES"]
[76,null,null,null,null,null,null,null,null,null,null,null,null,null,null,null,null,null,"YES"]
[77,null,null,null,null,null,null,null,null,null,null,null,null,null,null,null,null,null,"YES"]
[78,null,null,null,null,null,null,null,null,null,null,null,null,null,null,null,null,null,"YES"]
[79,null,null,null,null,null,null,null,null,null,null,null,null,null,null,null,null,null,"YES"]
[80,null,null,null,null,null,null,null,null,null,null,null,null,null,null,null,null,null,"YES"]
[81,null,null,null,null,null,null,null,null,null,null,null,null,null,null,null,null,null,"YES"]
[82,null,null,null,null,null,null,null,null,null,null,null,null,null,null,null,null,null,"YES"]
[83,null,null,null,null,null,null,null,null,null,null,null,null,null,null,null,null,null,"YES"]
[84,null,null,null,null,null,null,null,null,null,null,null,null,null,null,null,null,null,"YES"]
[85,null,null,null,null,null,null,null,null,null,null,null,null,null,null,null,null,null,"YES"]
[86,null,null,null,null,null,null,null,null,null,null,null,null,null,null,null,null,null,"YES"]
[87,null,null,null,null,null,null,null,null,null,null,null,null,null,null,null,null,null,"YES"]
[88,null,null,null,null,null,null,null,null,null,null,null,null,null,null,null,null,null,"YES"]
[89,null,null,null,null,null,null,null,null,null,null,null,null,null,null,null,null,null,"YES"]
[90,null,null,null,null,null,null,null,null,null,null,null,null,null,null,null,null,null,"YES"]
[91,null,null,null,null,null,null,null,null,null,null,null,null,null,null,null,null,null,"YES"]
[92,null,null,null,null,null,null,null,null,null,null,null,null,null,null,null,null,null,"YES"]
[93,null,null,null,null,null,null,null,null,null,null,null,null,null,null,null,null,null,"YES"]
[94,null,null,null,null,null,null,null,null,null,null,null,null,null,null,null,null,null,"YES"]
[95,null,null,null,null,null,null,null,null,null,null,null,null,null,null,null,null,null,"YES"]
[96,null,null,null,null,null,null,null,null,null,null,null,null,null,null,null,null,null,"YES"]
[97,null,null,null,null,null,null,null,null,null,null,null,null,null,null,null,null,null,"YES"]
[98,null,null,null,null,null,null,null,null,null,null,null,null,null,null,null,null,null,"YES"]
[99,null,null,null,null,null,null,null,null,null,null,null,null,null,null,null,null,null,"YES"]
[100,null,null,null,null,null,null,null,null,null,null,null,null,null,null,null,null,null,"YES"]
[101,null,null,null,null,null,null,null,null,null,null,null,null,null,null,null,null,null,"YES"]
[102,null,null,null,null,null,null,null,null,null,null,null,null,null,null,null,null,null,"YES"]
[103,null,null,null,null,null,null,null,null,null,null,null,null,null,null,null,null,null,"YES"]
[104,null,null,null,null,null,null,null,null,null,null,null,null,null,null,null,null,null,"YES"]
[105,null,null,null,null,null,null,null,null,null,null,null,null,null,null,null,null,null,"YES"]
[106,null,null,null,null,null,null,null,null,null,null,null,null,null,null,null,null,null,"YES"]
[107,null,null,null,null,null,null,null,null,null,null,null,null,null,null,null,null,null,"YES"]
[108,null,null,null,null,null,null,null,null,null,null,null,null,null,null,null,null,null,"YES"]
[109,null,null,null,null,null,null,null,null,null,null,null,null,null,null,null,null,null,"YES"]
[110,null,null,null,null,null,null,null,null,null,null,null,null,null,null,null,null,null,"YES"]
[111,null,null,null,null,null,null,null,null,null,null,null,null,null,null,null,null,null,"YES"]
[112,null,null,null,null,null,null,null,null,null,null,null,null,null,null,null,null,null,"YES"]
[113,null,null,null,null,null,null,null,null,null,null,null,null,null,null,null,null,null,"YES"]
[114,null,null,null,null,null,null,null,null,null,null,null,null,null,null,null,null,null,"YES"]
[115,null,null,null,null,null,null,null,null,null,null,null,null,null,null,null,null,null,"YES"]
[116,null,null,null,null,null,null,null,null,null,null,null,null,null,null,null,null,null,"YES"]
[117,null,null,null,null,null,null,null,null,null,null,null,null,null,null,null,null,null,"YES"]
[118,null,null,null,null,null,null,null,null,null,null,null,null,null,null,null,null,null,"YES"]
[119,null,null,null,null,null,null,null,null,null,null,null,null,null,null,null,null,null,"YES"]
[120,null,null,null,null,null,null,null,null,null,null,null,null,null,null,null,null,null,"YES"]
[121,null,null,null,null,null,null,null,null,null,null,null,null,null,null,null,null,null,"YES"]
[122,null,null,null,null,null,null,null,null,null,null,null,null,null,null,null,null,null,"YES"]
[123,null,null,null,null,null,null,null,null,null,null,null,null,null,null,null,null,null,"YES"]
[124,null,null,null,null,null,null,null,null,null,null,null,null,null,null,null,null,null,"YES"]
[125,null,null,null,null,null,null,null,null,null,null,null,null,null,null,null,null,null,"YES"]
[126,null,null,null,null,null,null,null,null,null,null,null,null,null,null,null,null,null,"YES"]
[127,null,null,null,null,null,null,null,null,null,null,null,null,null,null,null,null,null,"YES"]
[128,null,null,null,null,null,null,null,null,null,null,null,null,null,null,null,null,null,"YES"]
[129,null,null,null,null,null,null,null,null,null,null,null,null,null,null,null,null,null,{"$f":"IF(B145=0, \"YES\", \"NO\")","v":"YES"}]
[130,null,null,null,null,null,null,null,null,null,null,null,null,null,null,null,null,null,"YES"]
[131,null,null,null,null,null,null,null,null,null,null,null,null,null,null,null,null,null,"YES"]
[132,null,null,null,null,null,null,null,null,null,null,null,null,null,null,null,null,null,"YES"]
[133,null,null,null,null,null,null,null,null,null,null,null,null,null,null,null,null,null,"YES"]
[134,null,null,null,null,null,null,null,null,null,null,null,null,null,null,null,null,null,"YES"]
[135,null,null,null,null,null,null,null,null,null,null,null,null,null,null,null,null,null,"YES"]
[136,null,null,null,null,null,null,null,null,null,null,null,null,null,null,null,null,null,"YES"]
[137,null,null,null,null,null,null,null,null,null,null,null,null,null,null,null,null,null,"YES"]
[138,null,null,null,null,null,null,null,null,null,null,null,null,null,null,null,null,null,"YES"]
[139,null,null,null,null,null,null,null,null,null,null,null,null,null,null,null,null,null,"YES"]
[140,null,null,null,null,null,null,null,null,null,null,null,null,null,null,null,null,null,"YES"]
[141,null,null,null,null,null,null,null,null,null,null,null,null,null,null,null,null,null,"YES"]
[142,null,null,null,null,null,null,null,null,null,null,null,null,null,null,null,null,null,"YES"]
[143,null,null,null,null,null,null,null,null,null,null,null,null,null,null,null,null,null,"YES"]
[144,null,null,null,null,null,null,null,null,null,null,null,null,null,null,null,null,null,"YES"]
[145,null,null,null,null,null,null,null,null,null,null,null,null,null,null,null,null,null,"YES"]
[146,null,null,null,null,null,null,null,null,null,null,null,null,null,null,null,null,null,"YES"]
[147,null,null,null,null,null,null,null,null,null,null,null,null,null,null,null,null,null,"YES"]
[148,null,null,null,null,null,null,null,null,null,null,null,null,null,null,null,null,null,"YES"]
[149,null,null,null,null,null,null,null,null,null,null,null,null,null,null,null,null,null,"YES"]
[150,null,null,null,null,null,null,null,null,null,null,null,null,null,null,null,null,null,"YES"]
[151,null,null,null,null,null,null,null,null,null,null,null,null,null,null,null,null,null,"YES"]
[152,null,null,null,null,null,null,null,null,null,null,null,null,null,null,null,null,null,"YES"]
[153,null,null,null,null,null,null,null,null,null,null,null,null,null,null,null,null,null,"YES"]
[154,null,null,null,null,null,null,null,null,null,null,null,null,null,null,null,null,null,"YES"]
[155,null,null,null,null,null,null,null,null,null,null,null,null,null,null,null,null,null,"YES"]
[156,null,null,null,null,null,null,null,null,null,null,null,null,null,null,null,null,null,"YES"]
[157,null,null,null,null,null,null,null,null,null,null,null,null,null,null,null,null,null,"YES"]
[158,null,null,null,null,null,null,null,null,null,null,null,null,null,null,null,null,null,"YES"]
[159,null,null,null,null,null,null,null,null,null,null,null,null,null,null,null,null,null,"YES"]
[160,null,null,null,null,null,null,null,null,null,null,null,null,null,null,null,null,null,"YES"]
[161,null,null,null,null,null,null,null,null,null,null,null,null,null,null,null,null,null,"YES"]
[162,null,null,null,null,null,null,null,null,null,null,null,null,null,null,null,null,null,"YES"]
[163,null,null,null,null,null,null,null,null,null,null,null,null,null,null,null,null,null,"YES"]
[164,null,null,null,null,null,null,null,null,null,null,null,null,null,null,null,null,null,"YES"]
[165,null,null,null,null,null,null,null,null,null,null,null,null,null,null,null,null,null,"YES"]
[166,null,null,null,null,null,null,null,null,null,null,null,null,null,null,null,null,null,"YES"]
[167,null,null,null,null,null,null,null,null,null,null,null,null,null,null,null,null,null,"YES"]
[168,null,null,null,null,null,null,null,null,null,null,null,null,null,null,null,null,null,"YES"]
[169,null,null,null,null,null,null,null,null,null,null,null,null,null,null,null,null,null,"YES"]
[170,null,null,null,null,null,null,null,null,null,null,null,null,null,null,null,null,null,"YES"]
[171,null,null,null,null,null,null,null,null,null,null,null,null,null,null,null,null,null,"YES"]
[172,null,null,null,null,null,null,null,null,null,null,null,null,null,null,null,null,null,"YES"]
[173,null,null,null,null,null,null,null,null,null,null,null,null,null,null,null,null,null,"YES"]
[174,null,null,null,null,null,null,null,null,null,null,null,null,null,null,null,null,null,"YES"]
[175,null,null,null,null,null,null,null,null,null,null,null,null,null,null,null,null,null,"YES"]
[176,null,null,null,null,null,null,null,null,null,null,null,null,null,null,null,null,null,"YES"]
[177,null,null,null,null,null,null,null,null,null,null,null,null,null,null,null,null,null,"YES"]
[178,null,null,null,null,null,null,null,null,null,null,null,null,null,null,null,null,null,"YES"]
[179,null,null,null,null,null,null,null,null,null,null,null,null,null,null,null,null,null,"YES"]
[180,null,null,null,null,null,null,null,null,null,null,null,null,null,null,null,null,null,"YES"]
[181,null,null,null,null,null,null,null,null,null,null,null,null,null,null,null,null,null,"YES"]
[182,null,null,null,null,null,null,null,null,null,null,null,null,null,null,null,null,null,"YES"]
[183,null,null,null,null,null,null,null,null,null,null,null,null,null,null,null,null,null,"YES"]
[184,null,null,null,null,null,null,null,null,null,null,null,null,null,null,null,null,null,"YES"]
[185,null,null,null,null,null,null,null,null,null,null,null,null,null,null,null,null,null,"YES"]
[186,null,null,null,null,null,null,null,null,null,null,null,null,null,null,null,null,null,"YES"]
[187,null,null,null,null,null,null,null,null,null,null,null,null,null,null,null,null,null,"YES"]
[188,null,null,null,null,null,null,null,null,null,null,null,null,null,null,null,null,null,"YES"]
[189,null,null,null,null,null,null,null,null,null,null,null,null,null,null,null,null,null,"YES"]
[190,null,null,null,null,null,null,null,null,null,null,null,null,null,null,null,null,null,"YES"]
[191,null,null,null,null,null,null,null,null,null,null,null,null,null,null,null,null,null,"YES"]
[192,null,null,null,null,null,null,null,null,null,null,null,null,null,null,null,null,null,"YES"]
[193,null,null,null,null,null,null,null,null,null,null,null,null,null,null,null,null,null,{"$f":"IF(B209=0, \"YES\", \"NO\")","v":"YES"}]
[194,null,null,null,null,null,null,null,null,null,null,null,null,null,null,null,null,null,"YES"]
[195,null,null,null,null,null,null,null,null,null,null,null,null,null,null,null,null,null,"YES"]
[196,null,null,null,null,null,null,null,null,null,null,null,null,null,null,null,null,null,"YES"]
[197,null,null,null,null,null,null,null,null,null,null,null,null,null,null,null,null,null,"YES"]
[198,null,null,null,null,null,null,null,null,null,null,null,null,null,null,null,null,null,"YES"]
[199,null,null,null,null,null,null,null,null,null,null,null,null,null,null,null,null,null,"YES"]
[200,null,null,null,null,null,null,null,null,null,null,null,null,null,null,null,null,null,"YES"]
[201,null,null,null,null,null,null,null,null,null,null,null,null,null,null,null,null,null,"YES"]
[202,null,null,null,null,null,null,null,null,null,null,null,null,null,null,null,null,null,"YES"]
[203,null,null,null,null,null,null,null,null,null,null,null,null,null,null,null,null,null,"YES"]
[204,null,null,null,null,null,null,null,null,null,null,null,null,null,null,null,null,null,"YES"]
[205,null,null,null,null,null,null,null,null,null,null,null,null,null,null,null,null,null,"YES"]
[206,null,null,null,null,null,null,null,null,null,null,null,null,null,null,null,null,null,"YES"]
[207,null,null,null,null,null,null,null,null,null,null,null,null,null,null,null,null,null,"YES"]
[208,null,null,null,null,null,null,null,null,null,null,null,null,null,null,null,null,null,"YES"]
[209,null,null,null,null,null,null,null,null,null,null,null,null,null,null,null,null,null,"YES"]
[210,null,null,null,null,null,null,null,null,null,null,null,null,null,null,null,null,null,"YES"]
[211,null,null,null,null,null,null,null,null,null,null,null,null,null,null,null,null,null,"YES"]
[212,null,null,null,null,null,null,null,null,null,null,null,null,null,null,null,null,null,"YES"]
[213,null,null,null,null,null,null,null,null,null,null,null,null,null,null,null,null,null,"YES"]
[214,null,null,null,null,null,null,null,null,null,null,null,null,null,null,null,null,null,"YES"]
[215,null,null,null,null,null,null,null,null,null,null,null,null,null,null,null,null,null,"YES"]
[216,null,null,null,null,null,null,null,null,null,null,null,null,null,null,null,null,null,"YES"]
[217,null,null,null,null,null,null,null,null,null,null,null,null,null,null,null,null,null,"YES"]
[218,null,null,null,null,null,null,null,null,null,null,null,null,null,null,null,null,null,"YES"]
[219,null,null,null,null,null,null,null,null,null,null,null,null,null,null,null,null,null,"YES"]
[220,null,null,null,null,null,null,null,null,null,null,null,null,null,null,null,null,null,"YES"]
[221,null,null,null,null,null,null,null,null,null,null,null,null,null,null,null,null,null,"YES"]
[222,null,null,null,null,null,null,null,null,null,null,null,null,null,null,null,null,null,"YES"]
[223,null,null,null,null,null,null,null,null,null,null,null,null,null,null,null,null,null,"YES"]
[224,null,null,null,null,null,null,null,null,null,null,null,null,null,null,null,null,null,"YES"]
[225,null,null,null,null,null,null,null,null,null,null,null,null,null,null,null,null,null,"YES"]
[226,null,null,null,null,null,null,null,null,null,null,null,null,null,null,null,null,null,"YES"]
[227,null,null,null,null,null,null,null,null,null,null,null,null,null,null,null,null,null,"YES"]
[228,null,null,null,null,null,null,null,null,null,null,null,null,null,null,null,null,null,"YES"]
[229,null,null,null,null,null,null,null,null,null,null,null,null,null,null,null,null,null,"YES"]
[230,null,null,null,null,null,null,null,null,null,null,null,null,null,null,null,null,null,"YES"]
[231,null,null,null,null,null,null,null,null,null,null,null,null,null,null,null,null,null,"YES"]
[232,null,null,null,null,null,null,null,null,null,null,null,null,null,null,null,null,null,"YES"]
[233,null,null,null,null,null,null,null,null,null,null,null,null,null,null,null,null,null,"YES"]
[234,null,null,null,null,null,null,null,null,null,null,null,null,null,null,null,null,null,"YES"]
[235,null,null,null,null,null,null,null,null,null,null,null,null,null,null,null,null,null,"YES"]
[236,null,null,null,null,null,null,null,null,null,null,null,null,null,null,null,null,null,"YES"]
[237,null,null,null,null,null,null,null,null,null,null,null,null,null,null,null,null,null,"YES"]
[238,null,null,null,null,null,null,null,null,null,null,null,null,null,null,null,null,null,"YES"]
[239,null,null,null,null,null,null,null,null,null,null,null,null,null,null,null,null,null,"YES"]
[240,null,null,null,null,null,null,null,null,null,null,null,null,null,null,null,null,null,"YES"]
[241,null,null,null,null,null,null,null,null,null,null,null,null,null,null,null,null,null,"YES"]
[242,null,null,null,null,null,null,null,null,null,null,null,null,null,null,null,null,null,"YES"]
[243,null,null,null,null,null,null,null,null,null,null,null,null,null,null,null,null,null,"YES"]
[244,null,null,null,null,null,null,null,null,null,null,null,null,null,null,null,null,null,"YES"]
[245,null,null,null,null,null,null,null,null,null,null,null,null,null,null,null,null,null,"YES"]
[246,null,null,null,null,null,null,null,null,null,null,null,null,null,null,null,null,null,"YES"]
[247,null,null,null,null,null,null,null,null,null,null,null,null,null,null,null,null,null,"YES"]
[248,null,null,null,null,null,null,null,null,null,null,null,null,null,null,null,null,null,"YES"]
[249,null,null,null,null,null,null,null,null,null,null,null,null,null,null,null,null,null,"YES"]
[250,null,null,null,null,null,null,null,null,null,null,null,null,null,null,null,null,null,"YES"]
[251,null,null,null,null,null,null,null,null,null,null,null,null,null,null,null,null,null,"YES"]
[252,null,null,null,null,null,null,null,null,null,null,null,null,null,null,null,null,null,"YES"]
[253,null,null,null,null,null,null,null,null,null,null,null,null,null,null,null,null,null,"YES"]
[254,null,null,null,null,null,null,null,null,null,null,null,null,null,null,null,null,null,"YES"]
[255,null,null,null,null,null,null,null,null,null,null,null,null,null,null,null,null,null,"YES"]
[256,null,null,null,null,null,null,null,null,null,null,null,null,null,null,null,null,null,"YES"]
[257,null,null,null,null,null,null,null,null,null,null,null,null,null,null,null,null,null,{"$f":"IF(B273=0, \"YES\", \"NO\")","v":"YES"}]
[258,null,null,null,null,null,null,null,null,null,null,null,null,null,null,null,null,null,"YES"]
[259,null,null,null,null,null,null,null,null,null,null,null,null,null,null,null,null,null,"YES"]
[260,null,null,null,null,null,null,null,null,null,null,null,null,null,null,null,null,null,"YES"]
[261,null,null,null,null,null,null,null,null,null,null,null,null,null,null,null,null,null,"YES"]
[262,null,null,null,null,null,null,null,null,null,null,null,null,null,null,null,null,null,"YES"]
[263,null,null,null,null,null,null,null,null,null,null,null,null,null,null,null,null,null,"YES"]
[264,null,null,null,null,null,null,null,null,null,null,null,null,null,null,null,null,null,"YES"]
[265,null,null,null,null,null,null,null,null,null,null,null,null,null,null,null,null,null,"YES"]
[266,null,null,null,null,null,null,null,null,null,null,null,null,null,null,null,null,null,"YES"]
[267,null,null,null,null,null,null,null,null,null,null,null,null,null,null,null,null,null,"YES"]
[268,null,null,null,null,null,null,null,null,null,null,null,null,null,null,null,null,null,"YES"]
[269,null,null,null,null,null,null,null,null,null,null,null,null,null,null,null,null,null,"YES"]
[270,null,null,null,null,null,null,null,null,null,null,null,null,null,null,null,null,null,"YES"]
[271,null,null,null,null,null,null,null,null,null,null,null,null,null,null,null,null,null,"YES"]
[272,null,null,null,null,null,null,null,null,null,null,null,null,null,null,null,null,null,"YES"]
[273,null,null,null,null,null,null,null,null,null,null,null,null,null,null,null,null,null,"YES"]
[274,null,null,null,null,null,null,null,null,null,null,null,null,null,null,null,null,null,"YES"]
[275,null,null,null,null,null,null,null,null,null,null,null,null,null,null,null,null,null,"YES"]
[276,null,null,null,null,null,null,null,null,null,null,null,null,null,null,null,null,null,"YES"]
[277,null,null,null,null,null,null,null,null,null,null,null,null,null,null,null,null,null,"YES"]
[278,null,null,null,null,null,null,null,null,null,null,null,null,null,null,null,null,null,"YES"]
[279,null,null,null,null,null,null,null,null,null,null,null,null,null,null,null,null,null,"YES"]
[280,null,null,null,null,null,null,null,null,null,null,null,null,null,null,null,null,null,"YES"]
[281,null,null,null,null,null,null,null,null,null,null,null,null,null,null,null,null,null,"YES"]
[282,null,null,null,null,null,null,null,null,null,null,null,null,null,null,null,null,null,"YES"]
[283,null,null,null,null,null,null,null,null,null,null,null,null,null,null,null,null,null,"YES"]
[284,null,null,null,null,null,null,null,null,null,null,null,null,null,null,null,null,null,"YES"]
[285,null,null,null,null,null,null,null,null,null,null,null,null,null,null,null,null,null,"YES"]
[286,null,null,null,null,null,null,null,null,null,null,null,null,null,null,null,null,null,"YES"]
[287,null,null,null,null,null,null,null,null,null,null,null,null,null,null,null,null,null,"YES"]
[288,null,null,null,null,null,null,null,null,null,null,null,null,null,null,null,null,null,"YES"]
[289,null,null,null,null,null,null,null,null,null,null,null,null,null,null,null,null,null,"YES"]
[290,null,null,null,null,null,null,null,null,null,null,null,null,null,null,null,null,null,"YES"]
[291,null,null,null,null,null,null,null,null,null,null,null,null,null,null,null,null,null,"YES"]
[292,null,null,null,null,null,null,null,null,null,null,null,null,null,null,null,null,null,"YES"]
[293,null,null,null,null,null,null,null,null,null,null,null,null,null,null,null,null,null,"YES"]
[294,null,null,null,null,null,null,null,null,null,null,null,null,null,null,null,null,null,"YES"]
[295,null,null,null,null,null,null,null,null,null,null,null,null,null,null,null,null,null,"YES"]
[296,null,null,null,null,null,null,null,null,null,null,null,null,null,null,null,null,null,"YES"]
[297,null,null,null,null,null,null,null,null,null,null,null,null,null,null,null,null,null,"YES"]
[298,null,null,null,null,null,null,null,null,null,null,null,null,null,null,null,null,null,"YES"]
[299,null,null,null,null,null,null,null,null,null,null,null,null,null,null,null,null,null,"YES"]
[300,null,null,null,null,null,null,null,null,null,null,null,null,null,null,null,null,null,"YES"]
[301,null,null,null,null,null,null,null,null,null,null,null,null,null,null,null,null,null,"YES"]
[302,null,null,null,null,null,null,null,null,null,null,null,null,null,null,null,null,null,"YES"]
[303,null,null,null,null,null,null,null,null,null,null,null,null,null,null,null,null,null,"YES"]
[304,null,null,null,null,null,null,null,null,null,null,null,null,null,null,null,null,null,"YES"]
[305,null,null,null,null,null,null,null,null,null,null,null,null,null,null,null,null,null,"YES"]
[306,null,null,null,null,null,null,null,null,null,null,null,null,null,null,null,null,null,"YES"]
[307,null,null,null,null,null,null,null,null,null,null,null,null,null,null,null,null,null,"YES"]
[308,null,null,null,null,null,null,null,null,null,null,null,null,null,null,null,null,null,"YES"]
[309,null,null,null,null,null,null,null,null,null,null,null,null,null,null,null,null,null,"YES"]
[310,null,null,null,null,null,null,null,null,null,null,null,null,null,null,null,null,null,"YES"]
[311,null,null,null,null,null,null,null,null,null,null,null,null,null,null,null,null,null,"YES"]
[312,null,null,null,null,null,null,null,null,null,null,null,null,null,null,null,null,null,"YES"]
[313,null,null,null,null,null,null,null,null,null,null,null,null,null,null,null,null,null,"YES"]
[314,null,null,null,null,null,null,null,null,null,null,null,null,null,null,null,null,null,"YES"]
[315,null,null,null,null,null,null,null,null,null,null,null,null,null,null,null,null,null,"YES"]
[316,null,null,null,null,null,null,null,null,null,null,null,null,null,null,null,null,null,"YES"]
[317,null,null,null,null,null,null,null,null,null,null,null,null,null,null,null,null,null,"YES"]
[318,null,null,null,null,null,null,null,null,null,null,null,null,null,null,null,null,null,"YES"]
[319,null,null,null,null,null,null,null,null,null,null,null,null,null,null,null,null,null,"YES"]
[320,null,null,null,null,null,null,null,null,null,null,null,null,null,null,null,null,null,"YES"]
[321,null,null,null,null,null,null,null,null,null,null,null,null,null,null,null,null,null,{"$f":"IF(B337=0, \"YES\", \"NO\")","v":"YES"}]
[322,null,null,null,null,null,null,null,null,null,null,null,null,null,null,null,null,null,"YES"]
[323,null,null,null,null,null,null,null,null,null,null,null,null,null,null,null,null,null,"YES"]
[324,null,null,null,null,null,null,null,null,null,null,null,null,null,null,null,null,null,"YES"]
[325,null,null,null,null,null,null,null,null,null,null,null,null,null,null,null,null,null,"YES"]
[326,null,null,null,null,null,null,null,null,null,null,null,null,null,null,null,null,null,"YES"]
[327,null,null,null,null,null,null,null,null,null,null,null,null,null,null,null,null,null,"YES"]
[328,null,null,null,null,null,null,null,null,null,null,null,null,null,null,null,null,null,"YES"]
[329,null,null,null,null,null,null,null,null,null,null,null,null,null,null,null,null,null,"YES"]
[330,null,null,null,null,null,null,null,null,null,null,null,null,null,null,null,null,null,"YES"]
[331,null,null,null,null,null,null,null,null,null,null,null,null,null,null,null,null,null,"YES"]
[332,null,null,null,null,null,null,null,null,null,null,null,null,null,null,null,null,null,"YES"]
[333,null,null,null,null,null,null,null,null,null,null,null,null,null,null,null,null,null,"YES"]
[334,null,null,null,null,null,null,null,null,null,null,null,null,null,null,null,null,null,"YES"]
[335,null,null,null,null,null,null,null,null,null,null,null,null,null,null,null,null,null,"YES"]
[336,null,null,null,null,null,null,null,null,null,null,null,null,null,null,null,null,null,"YES"]
[337,null,null,null,null,null,null,null,null,null,null,null,null,null,null,null,null,null,"YES"]
[338,null,null,null,null,null,null,null,null,null,null,null,null,null,null,null,null,null,"YES"]
[339,null,null,null,null,null,null,null,null,null,null,null,null,null,null,null,null,null,"YES"]
[340,null,null,null,null,null,null,null,null,null,null,null,null,null,null,null,null,null,"YES"]
[341,null,null,null,null,null,null,null,null,null,null,null,null,null,null,null,null,null,"YES"]
[342,null,null,null,null,null,null,null,null,null,null,null,null,null,null,null,null,null,"YES"]
[343,null,null,null,null,null,null,null,null,null,null,null,null,null,null,null,null,null,"YES"]
[344,null,null,null,null,null,null,null,null,null,null,null,null,null,null,null,null,null,"YES"]
[345,null,null,null,null,null,null,null,null,null,null,null,null,null,null,null,null,null,"YES"]
[346,null,null,null,null,null,null,null,null,null,null,null,null,null,null,null,null,null,"YES"]
[347,null,null,null,null,null,null,null,null,null,null,null,null,null,null,null,null,null,"YES"]
[348,null,null,null,null,null,null,null,null,null,null,null,null,null,null,null,null,null,"YES"]
[349,null,null,null,null,null,null,null,null,null,null,null,null,null,null,null,null,null,"YES"]
[350,null,null,null,null,null,null,null,null,null,null,null,null,null,null,null,null,null,{"$f":"IF(B366=0, \"YES\", \"NO\")","v":"YES"}]

{"sheet":"Interview Worksheet","index":5,"n_rows":380,"n_cols":12,"rows_kept":380,"cut":false,"hidden":true,"merged":[[30,0,30,2]]}
["Board Members:"]
[]
[]
[]
["Interview Date 1:",null,null,null,"Interview Date 2 (if applicable):",null,null,null,"Interview Date 3 (if applicable):"]
[]
["Room #:",null,null,null,"Room #:",null,null,null,"Room #:"]
[]
["Activity",null,"Time",null,"Activity",null,"Time",null,"Activity",null,"Time"]
[]
[]
[" "]
[]
[]
[]
[]
[]
[]
[]
[]
[]
[]
[]
[]
[]
[]
[]
[]
[]
["Candidates Names:",null,null,null,"1st Call",null,null,null,"2nd Call",null,null,"3rd Call"]
[{"$f":"Variables!D$484","v":""}]
[{"$f":"Variables!E$484","v":""}]
[{"$f":"Variables!F$484","v":""}]
[{"$f":"Variables!G$484","v":""}]
[{"$f":"Variables!H$484","v":""}]
[{"$f":"Variables!I$484","v":""}]
[null,null,null,null,{"$f":"Variables!J$484","v":""}]
[null,null,null,null,{"$f":"Variables!K$484","v":""}]
[null,null,null,null,{"$f":"Variables!L$484","v":""}]
[null,null,null,null,{"$f":"Variables!M$484","v":""}]
[null,null,null,null,{"$f":"Variables!N$484","v":""}]
[null,null,null,null,{"$f":"Variables!O$484","v":""}]
[null,null,null,null,{"$f":"Variables!P$484","v":""}]
[null,null,null,null,{"$f":"Variables!Q$484","v":""}]
[null,null,null,null,{"$f":"Variables!R$484","v":""}]
[null,null,null,null,{"$f":"Variables!S$484","v":""}]
[null,null,null,null,{"$f":"Variables!T$484","v":""}]
[null,null,null,null,{"$f":"Variables!U$484","v":""}]
[null,null,null,null,{"$f":"Variables!V$484","v":""}]
[null,null,null,null,{"$f":"Variables!W$484","v":""}]
[null,null,null,null,{"$f":"Variables!X$484","v":""}]
[null,null,null,null,{"$f":"Variables!Y$484","v":""}]
[null,null,null,null,{"$f":"Variables!Z$484","v":""}]
[null,null,null,null,{"$f":"Variables!AA$484","v":""}]
[null,null,null,null,{"$f":"Variables!AB$484","v":""}]
[null,null,null,null,{"$f":"Variables!AC$484","v":""}]
[null,null,null,null,{"$f":"Variables!AD$484","v":""}]
[null,null,null,null,{"$f":"Variables!AE$484","v":""}]
[null,null,null,null,{"$f":"Variables!AF$484","v":""}]
[null,null,null,null,{"$f":"Variables!AG$484","v":""}]
[null,null,null,null,{"$f":"Variables!AH$484","v":""}]
[null,null,null,null,{"$f":"Variables!AI$484","v":""}]
[null,null,null,null,{"$f":"Variables!AJ$484","v":""}]
[null,null,null,null,{"$f":"Variables!AK$484","v":""}]
[null,null,null,null,{"$f":"Variables!AL$484","v":""}]
[null,null,null,null,{"$f":"Variables!AM$484","v":""}]
[null,null,null,null,{"$f":"Variables!AN$484","v":""}]
[null,null,null,null,{"$f":"Variables!AO$484","v":""}]
[null,null,null,null,{"$f":"Variables!AP$484","v":""}]
[null,null,null,null,{"$f":"Variables!AQ$484","v":""}]
[null,null,null,null,{"$f":"Variables!AR$484","v":""}]
[null,null,null,null,{"$f":"Variables!AS$484","v":""}]
[null,null,null,null,{"$f":"Variables!AT$484","v":""}]
[null,null,null,null,{"$f":"Variables!AU$484","v":""}]
[null,null,null,null,{"$f":"Variables!AV$484","v":""}]
[null,null,null,null,{"$f":"Variables!AW$484","v":""}]
[null,null,null,null,{"$f":"Variables!AX$484","v":""}]
[null,null,null,null,{"$f":"Variables!AY$484","v":""}]
[null,null,null,null,{"$f":"Variables!AZ$484","v":""}]
[null,null,null,null,{"$f":"Variables!BA$484","v":""}]
[null,null,null,null,{"$f":"Variables!BB$484","v":""}]
[null,null,null,null,{"$f":"Variables!BC$484","v":""}]
[null,null,null,null,{"$f":"Variables!BD$484","v":""}]
[null,null,null,null,{"$f":"Variables!BE$484","v":""}]
[null,null,null,null,{"$f":"Variables!BF$484","v":""}]
[null,null,null,null,{"$f":"Variables!BG$484","v":""}]
[null,null,null,null,{"$f":"Variables!BH$484","v":""}]
[null,null,null,null,{"$f":"Variables!BI$484","v":""}]
[null,null,null,null,{"$f":"Variables!BJ$484","v":""}]
[null,null,null,null,{"$f":"Variables!BK$484","v":""}]
[null,null,null,null,{"$f":"Variables!BL$484","v":""}]
[null,null,null,null,{"$f":"Variables!BM$484","v":""}]
[null,null,null,null,{"$f":"Variables!BN$484","v":""}]
[null,null,null,null,{"$f":"Variables!BO$484","v":""}]
[null,null,null,null,{"$f":"Variables!BP$484","v":""}]
[null,null,null,null,{"$f":"Variables!BQ$484","v":""}]
[null,null,null,null,{"$f":"Variables!BR$484","v":""}]
[null,null,null,null,{"$f":"Variables!BS$484","v":""}]
[null,null,null,null,{"$f":"Variables!BT$484","v":""}]
[null,null,null,null,{"$f":"Variables!BU$484","v":""}]
[null,null,null,null,{"$f":"Variables!BV$484","v":""}]
[null,null,null,null,{"$f":"Variables!BW$484","v":""}]
[null,null,null,null,{"$f":"Variables!BX$484","v":""}]
[null,null,null,null,{"$f":"Variables!BY$484","v":""}]
[null,null,null,null,{"$f":"Variables!BZ$484","v":""}]
[null,null,null,null,{"$f":"Variables!CA$484","v":""}]
[null,null,null,null,{"$f":"Variables!CB$484","v":""}]
[null,null,null,null,{"$f":"Variables!CC$484","v":""}]
[null,null,null,null,{"$f":"Variables!CD$484","v":""}]
[null,null,null,null,{"$f":"Variables!CE$484","v":""}]
[null,null,null,null,{"$f":"Variables!CF$484","v":""}]
[null,null,null,null,{"$f":"Variables!CG$484","v":""}]
[null,null,null,null,{"$f":"Variables!CH$484","v":""}]
[null,null,null,null,{"$f":"Variables!CI$484","v":""}]
[null,null,null,null,{"$f":"Variables!CJ$484","v":""}]
[null,null,null,null,{"$f":"Variables!CK$484","v":""}]
[null,null,null,null,{"$f":"Variables!CL$484","v":""}]
[null,null,null,null,{"$f":"Variables!CM$484","v":""}]
[null,null,null,null,{"$f":"Variables!CN$484","v":""}]
[null,null,null,null,{"$f":"Variables!CO$484","v":""}]
[null,null,null,null,{"$f":"Variables!CP$484","v":""}]
[null,null,null,null,{"$f":"Variables!CQ$484","v":""}]
[null,null,null,null,{"$f":"Variables!CR$484","v":""}]
[null,null,null,null,{"$f":"Variables!CS$484","v":""}]
[null,null,null,null,{"$f":"Variables!CT$484","v":""}]
[null,null,null,null,{"$f":"Variables!CU$484","v":""}]
[null,null,null,null,{"$f":"Variables!CV$484","v":""}]
[null,null,null,null,{"$f":"Variables!CW$484","v":""}]
[null,null,null,null,{"$f":"Variables!CX$484","v":""}]
[null,null,null,null,{"$f":"Variables!CY$484","v":""}]
[null,null,null,null,{"$f":"Variables!CZ$484","v":""}]
[null,null,null,null,{"$f":"Variables!DA$484","v":""}]
[null,null,null,null,{"$f":"Variables!DB$484","v":""}]
[null,null,null,null,{"$f":"Variables!DC$484","v":""}]
[null,null,null,null,{"$f":"Variables!DD$484","v":""}]
[null,null,null,null,{"$f":"Variables!DE$484","v":""}]
[null,null,null,null,{"$f":"Variables!DF$484","v":""}]
[null,null,null,null,{"$f":"Variables!DG$484","v":""}]
[null,null,null,null,{"$f":"Variables!DH$484","v":""}]
[null,null,null,null,{"$f":"Variables!DI$484","v":""}]
[null,null,null,null,{"$f":"Variables!DJ$484","v":""}]
[null,null,null,null,{"$f":"Variables!DK$484","v":""}]
[null,null,null,null,{"$f":"Variables!DL$484","v":""}]
[null,null,null,null,{"$f":"Variables!DM$484","v":""}]
[null,null,null,null,{"$f":"Variables!DN$484","v":""}]
[null,null,null,null,{"$f":"Variables!DO$484","v":""}]
[null,null,null,null,{"$f":"Variables!DP$484","v":""}]
[null,null,null,null,{"$f":"Variables!DQ$484","v":""}]
[null,null,null,null,{"$f":"Variables!DR$484","v":""}]
[null,null,null,null,{"$f":"Variables!DS$484","v":""}]
[null,null,null,null,{"$f":"Variables!DT$484","v":""}]
[null,null,null,null,{"$f":"Variables!DU$484","v":""}]
[null,null,null,null,{"$f":"Variables!DV$484","v":""}]
[null,null,null,null,{"$f":"Variables!DW$484","v":""}]
[null,null,null,null,{"$f":"Variables!DX$484","v":""}]
[null,null,null,null,{"$f":"Variables!DY$484","v":""}]
[null,null,null,null,{"$f":"Variables!DZ$484","v":""}]
[null,null,null,null,{"$f":"Variables!EA$484","v":""}]
[null,null,null,null,{"$f":"Variables!EB$484","v":""}]
[null,null,null,null,{"$f":"Variables!EC$484","v":""}]
[null,null,null,null,{"$f":"Variables!ED$484","v":""}]
[null,null,null,null,{"$f":"Variables!EE$484","v":""}]
[null,null,null,null,{"$f":"Variables!EF$484","v":""}]
[null,null,null,null,{"$f":"Variables!EG$484","v":""}]
[null,null,null,null,{"$f":"Variables!EH$484","v":""}]
[null,null,null,null,{"$f":"Variables!EI$484","v":""}]
[null,null,null,null,{"$f":"Variables!EJ$484","v":""}]
[null,null,null,null,{"$f":"Variables!EK$484","v":""}]
[null,null,null,null,{"$f":"Variables!EL$484","v":""}]
[null,null,null,null,{"$f":"Variables!EM$484","v":""}]
[null,null,null,null,{"$f":"Variables!EN$484","v":""}]
[null,null,null,null,{"$f":"Variables!EO$484","v":""}]
[null,null,null,null,{"$f":"Variables!EP$484","v":""}]
[null,null,null,null,{"$f":"Variables!EQ$484","v":""}]
[null,null,null,null,{"$f":"Variables!ER$484","v":""}]
[null,null,null,null,{"$f":"Variables!ES$484","v":""}]
[null,null,null,null,{"$f":"Variables!ET$484","v":""}]
[null,null,null,null,{"$f":"Variables!EU$484","v":""}]
[null,null,null,null,{"$f":"Variables!EV$484","v":""}]
[null,null,null,null,{"$f":"Variables!EW$484","v":""}]
[null,null,null,null,{"$f":"Variables!EX$484","v":""}]
[null,null,null,null,{"$f":"Variables!EY$484","v":""}]
[null,null,null,null,{"$f":"Variables!EZ$484","v":""}]
[null,null,null,null,{"$f":"Variables!FA$484","v":""}]
[null,null,null,null,{"$f":"Variables!FB$484","v":""}]
[null,null,null,null,{"$f":"Variables!FC$484","v":""}]
[null,null,null,null,{"$f":"Variables!FD$484","v":""}]
[null,null,null,null,{"$f":"Variables!FE$484","v":""}]
[null,null,null,null,{"$f":"Variables!FF$484","v":""}]
[null,null,null,null,{"$f":"Variables!FG$484","v":""}]
[null,null,null,null,{"$f":"Variables!FH$484","v":""}]
[null,null,null,null,{"$f":"Variables!FI$484","v":""}]
[null,null,null,null,{"$f":"Variables!FJ$484","v":""}]
[null,null,null,null,{"$f":"Variables!FK$484","v":""}]
[null,null,null,null,{"$f":"Variables!FL$484","v":""}]
[null,null,null,null,{"$f":"Variables!FM$484","v":""}]
[null,null,null,null,{"$f":"Variables!FN$484","v":""}]
[null,null,null,null,{"$f":"Variables!FO$484","v":""}]
[null,null,null,null,{"$f":"Variables!FP$484","v":""}]
[null,null,null,null,{"$f":"Variables!FQ$484","v":""}]
[null,null,null,null,{"$f":"Variables!FR$484","v":""}]
[null,null,null,null,{"$f":"Variables!FS$484","v":""}]
[null,null,null,null,{"$f":"Variables!FT$484","v":""}]
[null,null,null,null,{"$f":"Variables!FU$484","v":""}]
[null,null,null,null,{"$f":"Variables!FV$484","v":""}]
[null,null,null,null,{"$f":"Variables!FW$484","v":""}]
[null,null,null,null,{"$f":"Variables!FX$484","v":""}]
[null,null,null,null,{"$f":"Variables!FY$484","v":""}]
[null,null,null,null,{"$f":"Variables!FZ$484","v":""}]
[null,null,null,null,{"$f":"Variables!GA$484","v":""}]
[null,null,null,null,{"$f":"Variables!GB$484","v":""}]
[null,null,null,null,{"$f":"Variables!GC$484","v":""}]
[null,null,null,null,{"$f":"Variables!GD$484","v":""}]
[null,null,null,null,{"$f":"Variables!GE$484","v":""}]
[null,null,null,null,{"$f":"Variables!GF$484","v":""}]
[null,null,null,null,{"$f":"Variables!GG$484","v":""}]
[null,null,null,null,{"$f":"Variables!GH$484","v":""}]
[null,null,null,null,{"$f":"Variables!GI$484","v":""}]
[null,null,null,null,{"$f":"Variables!GJ$484","v":""}]
[null,null,null,null,{"$f":"Variables!GK$484","v":""}]
[null,null,null,null,{"$f":"Variables!GL$484","v":""}]
[null,null,null,null,{"$f":"Variables!GM$484","v":""}]
[null,null,null,null,{"$f":"Variables!GN$484","v":""}]
[null,null,null,null,{"$f":"Variables!GO$484","v":""}]
[null,null,null,null,{"$f":"Variables!GP$484","v":""}]
[null,null,null,null,{"$f":"Variables!GQ$484","v":""}]
[null,null,null,null,{"$f":"Variables!GR$484","v":""}]
[null,null,null,null,{"$f":"Variables!GS$484","v":""}]
[null,null,null,null,{"$f":"Variables!GT$484","v":""}]
[null,null,null,null,{"$f":"Variables!GU$484","v":""}]
[null,null,null,null,{"$f":"Variables!GV$484","v":""}]
[null,null,null,null,{"$f":"Variables!GW$484","v":""}]
[null,null,null,null,{"$f":"Variables!GX$484","v":""}]
[null,null,null,null,{"$f":"Variables!GY$484","v":""}]
[null,null,null,null,{"$f":"Variables!GZ$484","v":""}]
[null,null,null,null,{"$f":"Variables!HA$484","v":""}]
[null,null,null,null,{"$f":"Variables!HB$484","v":""}]
[null,null,null,null,{"$f":"Variables!HC$484","v":""}]
[null,null,null,null,{"$f":"Variables!HD$484","v":""}]
[null,null,null,null,{"$f":"Variables!HE$484","v":""}]
[null,null,null,null,{"$f":"Variables!HF$484","v":""}]
[null,null,null,null,{"$f":"Variables!HG$484","v":""}]
[null,null,null,null,{"$f":"Variables!HH$484","v":""}]
[null,null,null,null,{"$f":"Variables!HI$484","v":""}]
[null,null,null,null,{"$f":"Variables!HJ$484","v":""}]
[null,null,null,null,{"$f":"Variables!HK$484","v":""}]
[null,null,null,null,{"$f":"Variables!HL$484","v":""}]
[null,null,null,null,{"$f":"Variables!HM$484","v":""}]
[null,null,null,null,{"$f":"Variables!HN$484","v":""}]
[null,null,null,null,{"$f":"Variables!HO$484","v":""}]
[null,null,null,null,{"$f":"Variables!HP$484","v":""}]
[null,null,null,null,{"$f":"Variables!HQ$484","v":""}]
[null,null,null,null,{"$f":"Variables!HR$484","v":""}]
[null,null,null,null,{"$f":"Variables!HS$484","v":""}]
[null,null,null,null,{"$f":"Variables!HT$484","v":""}]
[null,null,null,null,{"$f":"Variables!HU$484","v":""}]
[null,null,null,null,{"$f":"Variables!HV$484","v":""}]
[null,null,null,null,{"$f":"Variables!HW$484","v":""}]
[null,null,null,null,{"$f":"Variables!HX$484","v":""}]
[null,null,null,null,{"$f":"Variables!HY$484","v":""}]
[null,null,null,null,{"$f":"Variables!HZ$484","v":""}]
[null,null,null,null,{"$f":"Variables!IA$484","v":""}]
[null,null,null,null,{"$f":"Variables!IB$484","v":""}]
[null,null,null,null,{"$f":"Variables!IC$484","v":""}]
[null,null,null,null,{"$f":"Variables!ID$484","v":""}]
[null,null,null,null,{"$f":"Variables!IE$484","v":""}]
[null,null,null,null,{"$f":"Variables!IF$484","v":""}]
[null,null,null,null,{"$f":"Variables!IG$484","v":""}]
[null,null,null,null,{"$f":"Variables!IH$484","v":""}]
[null,null,null,null,{"$f":"Variables!II$484","v":""}]
[null,null,null,null,{"$f":"Variables!IJ$484","v":""}]
[null,null,null,null,{"$f":"Variables!IK$484","v":""}]
[null,null,null,null,{"$f":"Variables!IL$484","v":""}]
[null,null,null,null,{"$f":"Variables!IM$484","v":""}]
[null,null,null,null,{"$f":"Variables!IN$484","v":""}]
[null,null,null,null,{"$f":"Variables!IO$484","v":""}]
[null,null,null,null,{"$f":"Variables!IP$484","v":""}]
[null,null,null,null,{"$f":"Variables!IQ$484","v":""}]
[null,null,null,null,{"$f":"Variables!IR$484","v":""}]
[null,null,null,null,{"$f":"Variables!IS$484","v":""}]
[null,null,null,null,{"$f":"Variables!IT$484","v":""}]
[null,null,null,null,{"$f":"Variables!IU$484","v":""}]
[null,null,null,null,{"$f":"Variables!IV$484","v":""}]
[null,null,null,null,{"$f":"Variables!IW$484","v":""}]
[null,null,null,null,{"$f":"Variables!IX$484","v":""}]
[null,null,null,null,{"$f":"Variables!IY$484","v":""}]
[null,null,null,null,{"$f":"Variables!IZ$484","v":""}]
[null,null,null,null,{"$f":"Variables!JA$484","v":""}]
[null,null,null,null,{"$f":"Variables!JB$484","v":""}]
[null,null,null,null,{"$f":"Variables!JC$484","v":""}]
[null,null,null,null,{"$f":"Variables!JD$484","v":""}]
[null,null,null,null,{"$f":"Variables!JE$484","v":""}]
[null,null,null,null,{"$f":"Variables!JF$484","v":""}]
[null,null,null,null,{"$f":"Variables!JG$484","v":""}]
[null,null,null,null,{"$f":"Variables!JH$484","v":""}]
[null,null,null,null,{"$f":"Variables!JI$484","v":""}]
[null,null,null,null,{"$f":"Variables!JJ$484","v":""}]
[null,null,null,null,{"$f":"Variables!JK$484","v":""}]
[null,null,null,null,{"$f":"Variables!JL$484","v":""}]
[null,null,null,null,{"$f":"Variables!JM$484","v":""}]
[null,null,null,null,{"$f":"Variables!JN$484","v":""}]
[null,null,null,null,{"$f":"Variables!JO$484","v":""}]
[null,null,null,null,{"$f":"Variables!JP$484","v":""}]
[null,null,null,null,{"$f":"Variables!JQ$484","v":""}]
[null,null,null,null,{"$f":"Variables!JR$484","v":""}]
[null,null,null,null,{"$f":"Variables!JS$484","v":""}]
[null,null,null,null,{"$f":"Variables!JT$484","v":""}]
[null,null,null,null,{"$f":"Variables!JU$484","v":""}]
[null,null,null,null,{"$f":"Variables!JV$484","v":""}]
[null,null,null,null,{"$f":"Variables!JW$484","v":""}]
[null,null,null,null,{"$f":"Variables!JX$484","v":""}]
[null,null,null,null,{"$f":"Variables!JY$484","v":""}]
[null,null,null,null,{"$f":"Variables!JZ$484","v":""}]
[null,null,null,null,{"$f":"Variables!KA$484","v":""}]
[null,null,null,null,{"$f":"Variables!KB$484","v":""}]
[null,null,null,null,{"$f":"Variables!KC$484","v":""}]
[null,null,null,null,{"$f":"Variables!KD$484","v":""}]
[null,null,null,null,{"$f":"Variables!KE$484","v":""}]
[null,null,null,null,{"$f":"Variables!KF$484","v":""}]
[null,null,null,null,{"$f":"Variables!KG$484","v":""}]
[null,null,null,null,{"$f":"Variables!KH$484","v":""}]
[null,null,null,null,{"$f":"Variables!KI$484","v":""}]
[null,null,null,null,{"$f":"Variables!KJ$484","v":""}]
[null,null,null,null,{"$f":"Variables!KK$484","v":""}]
[null,null,null,null,{"$f":"Variables!KL$484","v":""}]
[null,null,null,null,{"$f":"Variables!KM$484","v":""}]
[null,null,null,null,{"$f":"Variables!KN$484","v":""}]
[null,null,null,null,{"$f":"Variables!KO$484","v":""}]
[null,null,null,null,{"$f":"Variables!KP$484","v":""}]
[null,null,null,null,{"$f":"Variables!KQ$484","v":""}]
[null,null,null,null,{"$f":"Variables!KR$484","v":""}]
[null,null,null,null,{"$f":"Variables!KS$484","v":""}]
[null,null,null,null,{"$f":"Variables!KT$484","v":""}]
[null,null,null,null,{"$f":"Variables!KU$484","v":""}]
[null,null,null,null,{"$f":"Variables!KV$484","v":""}]
[null,null,null,null,{"$f":"Variables!KW$484","v":""}]
[null,null,null,null,{"$f":"Variables!KX$484","v":""}]
[null,null,null,null,{"$f":"Variables!KY$484","v":""}]
[null,null,null,null,{"$f":"Variables!KZ$484","v":""}]
[null,null,null,null,{"$f":"Variables!LA$484","v":""}]
[null,null,null,null,{"$f":"Variables!LB$484","v":""}]
[null,null,null,null,{"$f":"Variables!LC$484","v":""}]
[null,null,null,null,{"$f":"Variables!LD$484","v":""}]
[null,null,null,null,{"$f":"Variables!LE$484","v":""}]
[null,null,null,null,{"$f":"Variables!LF$484","v":""}]
[null,null,null,null,{"$f":"Variables!LG$484","v":""}]
[null,null,null,null,{"$f":"Variables!LH$484","v":""}]
[null,null,null,null,{"$f":"Variables!LI$484","v":""}]
[null,null,null,null,{"$f":"Variables!LJ$484","v":""}]
[null,null,null,null,{"$f":"Variables!LK$484","v":""}]
[null,null,null,null,{"$f":"Variables!LL$484","v":""}]
[null,null,null,null,{"$f":"Variables!LM$484","v":""}]
[null,null,null,null,{"$f":"Variables!LN$484","v":""}]
[null,null,null,null,{"$f":"Variables!LO$484","v":""}]
[null,null,null,null,{"$f":"Variables!LP$484","v":""}]
[null,null,null,null,{"$f":"Variables!LQ$484","v":""}]
[null,null,null,null,{"$f":"Variables!LR$484","v":""}]
[null,null,null,null,{"$f":"Variables!LS$484","v":""}]
[null,null,null,null,{"$f":"Variables!LT$484","v":""}]
[null,null,null,null,{"$f":"Variables!LU$484","v":""}]
[null,null,null,null,{"$f":"Variables!LV$484","v":""}]
[null,null,null,null,{"$f":"Variables!LW$484","v":""}]
[null,null,null,null,{"$f":"Variables!LX$484","v":""}]
[null,null,null,null,{"$f":"Variables!LY$484","v":""}]
[null,null,null,null,{"$f":"Variables!LZ$484","v":""}]
[null,null,null,null,{"$f":"Variables!MA$484","v":""}]
[null,null,null,null,{"$f":"Variables!MB$484","v":""}]
[null,null,null,null,{"$f":"Variables!MC$484","v":""}]
[null,null,null,null,{"$f":"Variables!MD$484","v":""}]
[null,null,null,null,{"$f":"Variables!ME$484","v":""}]
[null,null,null,null,{"$f":"Variables!MF$484","v":""}]
[null,null,null,null,{"$f":"Variables!MG$484","v":""}]
[null,null,null,null,{"$f":"Variables!MH$484","v":""}]
[null,null,null,null,{"$f":"Variables!MI$484","v":""}]
[null,null,null,null,{"$f":"Variables!MJ$484","v":""}]
[null,null,null,null,{"$f":"Variables!MK$484","v":""}]
[null,null,null,null,{"$f":"Variables!ML$484","v":""}]
[null,null,null,null,{"$f":"Variables!MM$484","v":""}]
[null,null,null,null,{"$f":"Variables!MN$484","v":""}]
[null,null,null,null,{"$f":"Variables!MO$484","v":""}]

{"sheet":"Interview Schedule","index":6,"n_rows":43,"n_cols":12,"rows_kept":43,"cut":false,"hidden":true,"merged":[]}
[{"$f":"CompNumber","v":0},null,null,null,null,null,null,null,null,null,null,{"$f":"IF(A1=0,\"Remove Line\",\"Do Not Remove Line\")","v":"Remove Line"}]
[{"$f":"PosTitle","v":0},null,null,null,null,null,null,null,null,null,null,{"$f":"IF(A2=0,\"Remove Line\",\"Do Not Remove Line\")","v":"Remove Line"}]
["DATE & DATE & etc",null,null,null,null,null,null,null,null,null,null,"Do Not Remove Line"]
["ROOM & ROOM & etc",null,null,null,null,null,null,null,null,null,null,"Do Not Remove Line"]
[null,null,null,null,null,null,null,null,null,null,null,"Remove Line"]
["Board Members",null,null,null,null,null,null,null,null,null,null,"Do Not Remove Line"]
[]
[]
[]
[]
[]
["Interviews:"]
[null,null,{"$f":"IF(Variables!B488=2, Variables!$A$488, IF(Variables!B488=3, Variables!$A$489, IF(Variables!B488=4, Variables!$A$490, IF(Variables!B488=5, Variables!$A$491, IF(Variables!B488=6, Variables!$A$492, IF(Variables!B488=7, Variables!$A$493, IF(Variables!B488=8, Variables!$A$494, \"\")))))))&IF(Variables!B488=9, Variables!$A$495, IF(Variables!B488=10, Variables!$A$496, IF(Variables!B488=11, Variables!$A$497, IF(Variables!B488=12, Variables!$A$498, IF(Variables!B488=13, Variables!$A$499, IF(Variables!B488=14, Variables!$A$500, IF(Variables!B488=15, Variables!$A$501, \"\")))))))&IF(Variables!B488=16, Variables!$A$502, IF(Variables!B488=17, Variables!$A$503, IF(Variables!B488=18, Variables!$A$504, IF(Variables!B488=19, Variables!$A$505, IF(Variables!B488=20, Variables!$A$506, IF(Variables!B488=21, Variables!$A$507, IF(Variables!B488=22, Variables!$A$508, \"\")))))))&IF(Variables!B488=23, Variables!$A$509, IF(Variables!B488=24, Variables!$A$510, IF(Variables!B488=25, Variables!$A$511, IF(Variables!B488=26, Variables!$A$512, IF(Variables!B488=27, Variables!$A$513, IF(Variables!B488=28, Variables!$A$514, IF(Variables!B488=29, Variables!$A$515, \"\")))))))&IF(Variables!B488=30, Variables!$A$516, IF(Variables!B488=31, Variables!$A$517, IF(Variables!B488=32, Variables!$A$518, IF(Variables!B488=33, Variables!$A$519, IF(Variables!B488=34, Variables!$A$520, IF(Variables!B488=35, Variables!$A$521, IF(Variables!B488=36, Variables!$A$522, \"\")))))))&IF(Variables!B488=37, Variables!$A$523, IF(Variables!B488=38, Variables!$A$524, IF(Variables!B488=39, Variables!$A$525, IF(Variables!B488=40, Variables!$A$526, IF(Variables!B488=41, Variables!$A$527, IF(Variables!B488=42, Variables!$A$528, IF(Variables!B488=43, Variables!$A$529, \"\")))))))&IF(Variables!B488=44, Variables!$A$530, IF(Variables!B488=45, Variables!$A$531, IF(Variables!B488=46, Variables!$A$533, IF(Variables!B488=47, Variables!$A$534, IF(Variables!B488=48, Variables!$A$535, IF(Variables!B488=49, Variables!$A$536, IF(Variables!B488=50, Variables!$A$537, \"\")))))))","v":"8:00"},{"$f":"IF(Variables!E488=2, Variables!$D$488, IF(Variables!E488=3, Variables!$D$489, IF(Variables!E488=4, Variables!$D$490, IF(Variables!E488=5, Variables!$D$491, IF(Variables!E488=6,Variables!$D$492, IF(Variables!E488=7, Variables!$D$493, IF(Variables!E488=8, Variables!$D$494, \"\")))))))&IF(Variables!E488=9, Variables!$D$495, IF(Variables!E488=10, Variables!$D$496, IF(Variables!E488=11, Variables!$D$497, IF(Variables!E488=12, Variables!$D$498, IF(Variables!E488=13,Variables!$D$499, IF(Variables!E488=14, Variables!$D$500, IF(Variables!E488=15, Variables!$D$501, \"\")))))))&IF(Variables!E488=16, Variables!$D$502, IF(Variables!E488=17, Variables!$D$503, IF(Variables!E488=18, Variables!$D$504, IF(Variables!E488=19, Variables!$D$505, IF(Variables!E488=20,Variables!$D$506, IF(Variables!E488=21, Variables!$D$507, IF(Variables!E488=22, Variables!$D$508, \"\")))))))&IF(Variables!E488=23, Variables!$D$509, IF(Variables!E488=24, Variables!$D$510, IF(Variables!E488=25, Variables!$D$511, IF(Variables!E488=26, Variables!$D$512, IF(Variables!E488=27,Variables!$D$513, IF(Variables!E488=28, Variables!$D$514, IF(Variables!E488=29, Variables!$D$515, \"\")))))))&IF(Variables!E488=30, Variables!$D$516, IF(Variables!E488=31, Variables!$D$517, IF(Variables!E488=32, Variables!$D$518, IF(Variables!E488=33, Variables!$D$519, IF(Variables!E488=34,Variables!$D$520, IF(Variables!E488=35, Variables!$D$521, IF(Variables!E488=36, Variables!$D$522, \"\")))))))","v":"Board Briefing"}]
[null,null,{"$f":"IF(Variables!B489=2, Variables!$A$488, IF(Variables!B489=3, Variables!$A$489, IF(Variables!B489=4, Variables!$A$490, IF(Variables!B489=5, Variables!$A$491, IF(Variables!B489=6, Variables!$A$492, IF(Variables!B489=7, Variables!$A$493, IF(Variables!B489=8, Variables!$A$494, \"\")))))))&IF(Variables!B489=9, Variables!$A$495, IF(Variables!B489=10, Variables!$A$496, IF(Variables!B489=11, Variables!$A$497, IF(Variables!B489=12, Variables!$A$498, IF(Variables!B489=13, Variables!$A$499, IF(Variables!B489=14, Variables!$A$500, IF(Variables!B489=15, Variables!$A$501, \"\")))))))&IF(Variables!B489=16, Variables!$A$502, IF(Variables!B489=17, Variables!$A$503, IF(Variables!B489=18, Variables!$A$504, IF(Variables!B489=19, Variables!$A$505, IF(Variables!B489=20, Variables!$A$506, IF(Variables!B489=21, Variables!$A$507, IF(Variables!B489=22, Variables!$A$508, \"\")))))))&IF(Variables!B489=23, Variables!$A$509, IF(Variables!B489=24, Variables!$A$510, IF(Variables!B489=25, Variables!$A$511, IF(Variables!B489=26, Variables!$A$512, IF(Variables!B489=27, Variables!$A$513, IF(Variables!B489=28, Variables!$A$514, IF(Variables!B489=29, Variables!$A$515, \"\")))))))&IF(Variables!B489=30, Variables!$A$516, IF(Variables!B489=31, Variables!$A$517, IF(Variables!B489=32, Variables!$A$518, IF(Variables!B489=33, Variables!$A$519, IF(Variables!B489=34, Variables!$A$520, IF(Variables!B489=35, Variables!$A$521, IF(Variables!B489=36, Variables!$A$522, \"\")))))))&IF(Variables!B489=37, Variables!$A$523, IF(Variables!B489=38, Variables!$A$524, IF(Variables!B489=39, Variables!$A$525, IF(Variables!B489=40, Variables!$A$526, IF(Variables!B489=41, Variables!$A$527, IF(Variables!B489=42, Variables!$A$528, IF(Variables!B489=43, Variables!$A$529, \"\")))))))&IF(Variables!B489=44, Variables!$A$530, IF(Variables!B489=45, Variables!$A$531, IF(Variables!B489=46, Variables!$A$533, IF(Variables!B489=47, Variables!$A$534, IF(Variables!B489=48, Variables!$A$535, IF(Variables!B489=49, Variables!$A$536, IF(Variables!B489=50, Variables!$A$537, \"\")))))))","v":"8:00"},{"$f":"IF(Variables!E489=2, Variables!$D$488, IF(Variables!E489=3, Variables!$D$489, IF(Variables!E489=4, Variables!$D$490, IF(Variables!E489=5, Variables!$D$491, IF(Variables!E489=6,Variables!$D$492, IF(Variables!E489=7, Variables!$D$493, IF(Variables!E489=8, Variables!$D$494, \"\")))))))&IF(Variables!E489=9, Variables!$D$495, IF(Variables!E489=10, Variables!$D$496, IF(Variables!E489=11, Variables!$D$497, IF(Variables!E489=12, Variables!$D$498, IF(Variables!E489=13,Variables!$D$499, IF(Variables!E489=14, Variables!$D$500, IF(Variables!E489=15, Variables!$D$501, \"\")))))))&IF(Variables!E489=16, Variables!$D$502, IF(Variables!E489=17, Variables!$D$503, IF(Variables!E489=18, Variables!$D$504, IF(Variables!E489=19, Variables!$D$505, IF(Variables!E489=20,Variables!$D$506, IF(Variables!E489=21, Variables!$D$507, IF(Variables!E489=22, Variables!$D$508, \"\")))))))&IF(Variables!E489=23, Variables!$D$509, IF(Variables!E489=24, Variables!$D$510, IF(Variables!E489=25, Variables!$D$511, IF(Variables!E489=26, Variables!$D$512, IF(Variables!E489=27,Variables!$D$513, IF(Variables!E489=28, Variables!$D$514, IF(Variables!E489=29, Variables!$D$515, \"\")))))))&IF(Variables!E489=30, Variables!$D$516, IF(Variables!E489=31, Variables!$D$517, IF(Variables!E489=32, Variables!$D$518, IF(Variables!E489=33, Variables!$D$519, IF(Variables!E489=34,Variables!$D$520, IF(Variables!E489=35, Variables!$D$521, IF(Variables!E489=36, Variables!$D$522, \"\")))))))","v":"Assessment 1"}]
[null,null,{"$f":"IF(Variables!B490=2, Variables!$A$488, IF(Variables!B490=3, Variables!$A$489, IF(Variables!B490=4, Variables!$A$490, IF(Variables!B490=5, Variables!$A$491, IF(Variables!B490=6, Variables!$A$492, IF(Variables!B490=7, Variables!$A$493, IF(Variables!B490=8, Variables!$A$494, \"\")))))))&IF(Variables!B490=9, Variables!$A$495, IF(Variables!B490=10, Variables!$A$496, IF(Variables!B490=11, Variables!$A$497, IF(Variables!B490=12, Variables!$A$498, IF(Variables!B490=13, Variables!$A$499, IF(Variables!B490=14, Variables!$A$500, IF(Variables!B490=15, Variables!$A$501, \"\")))))))&IF(Variables!B490=16, Variables!$A$502, IF(Variables!B490=17, Variables!$A$503, IF(Variables!B490=18, Variables!$A$504, IF(Variables!B490=19, Variables!$A$505, IF(Variables!B490=20, Variables!$A$506, IF(Variables!B490=21, Variables!$A$507, IF(Variables!B490=22, Variables!$A$508, \"\")))))))&IF(Variables!B490=23, Variables!$A$509, IF(Variables!B490=24, Variables!$A$510, IF(Variables!B490=25, Variables!$A$511, IF(Variables!B490=26, Variables!$A$512, IF(Variables!B490=27, Variables!$A$513, IF(Variables!B490=28, Variables!$A$514, IF(Variables!B490=29, Variables!$A$515, \"\")))))))&IF(Variables!B490=30, Variables!$A$516, IF(Variables!B490=31, Variables!$A$517, IF(Variables!B490=32, Variables!$A$518, IF(Variables!B490=33, Variables!$A$519, IF(Variables!B490=34, Variables!$A$520, IF(Variables!B490=35, Variables!$A$521, IF(Variables!B490=36, Variables!$A$522, \"\")))))))&IF(Variables!B490=37, Variables!$A$523, IF(Variables!B490=38, Variables!$A$524, IF(Variables!B490=39, Variables!$A$525, IF(Variables!B490=40, Variables!$A$526, IF(Variables!B490=41, Variables!$A$527, IF(Variables!B490=42, Variables!$A$528, IF(Variables!B490=43, Variables!$A$529, \"\")))))))&IF(Variables!B490=44, Variables!$A$530, IF(Variables!B490=45, Variables!$A$531, IF(Variables!B490=46, Variables!$A$533, IF(Variables!B490=47, Variables!$A$534, IF(Variables!B490=48, Variables!$A$535, IF(Variables!B490=49, Variables!$A$536, IF(Variables!B490=50, Variables!$A$537, \"\")))))))","v":"8:30"},{"$f":"IF(Variables!E490=2, Variables!$D$488, IF(Variables!E490=3, Variables!$D$489, IF(Variables!E490=4, Variables!$D$490, IF(Variables!E490=5, Variables!$D$491, IF(Variables!E490=6,Variables!$D$492, IF(Variables!E490=7, Variables!$D$493, IF(Variables!E490=8, Variables!$D$494, \"\")))))))&IF(Variables!E490=9, Variables!$D$495, IF(Variables!E490=10, Variables!$D$496, IF(Variables!E490=11, Variables!$D$497, IF(Variables!E490=12, Variables!$D$498, IF(Variables!E490=13,Variables!$D$499, IF(Variables!E490=14, Variables!$D$500, IF(Variables!E490=15, Variables!$D$501, \"\")))))))&IF(Variables!E490=16, Variables!$D$502, IF(Variables!E490=17, Variables!$D$503, IF(Variables!E490=18, Variables!$D$504, IF(Variables!E490=19, Variables!$D$505, IF(Variables!E490=20,Variables!$D$506, IF(Variables!E490=21, Variables!$D$507, IF(Variables!E490=22, Variables!$D$508, \"\")))))))&IF(Variables!E490=23, Variables!$D$509, IF(Variables!E490=24, Variables!$D$510, IF(Variables!E490=25, Variables!$D$511, IF(Variables!E490=26, Variables!$D$512, IF(Variables!E490=27,Variables!$D$513, IF(Variables!E490=28, Variables!$D$514, IF(Variables!E490=29, Variables!$D$515, \"\")))))))&IF(Variables!E490=30, Variables!$D$516, IF(Variables!E490=31, Variables!$D$517, IF(Variables!E490=32, Variables!$D$518, IF(Variables!E490=33, Variables!$D$519, IF(Variables!E490=34,Variables!$D$520, IF(Variables!E490=35, Variables!$D$521, IF(Variables!E490=36, Variables!$D$522, \"\")))))))","v":"Interview 1"}]
[null,null,{"$f":"IF(Variables!B491=2, Variables!$A$488, IF(Variables!B491=3, Variables!$A$489, IF(Variables!B491=4, Variables!$A$490, IF(Variables!B491=5, Variables!$A$491, IF(Variables!B491=6, Variables!$A$492, IF(Variables!B491=7, Variables!$A$493, IF(Variables!B491=8, Variables!$A$494, \"\")))))))&IF(Variables!B491=9, Variables!$A$495, IF(Variables!B491=10, Variables!$A$496, IF(Variables!B491=11, Variables!$A$497, IF(Variables!B491=12, Variables!$A$498, IF(Variables!B491=13, Variables!$A$499, IF(Variables!B491=14, Variables!$A$500, IF(Variables!B491=15, Variables!$A$501, \"\")))))))&IF(Variables!B491=16, Variables!$A$502, IF(Variables!B491=17, Variables!$A$503, IF(Variables!B491=18, Variables!$A$504, IF(Variables!B491=19, Variables!$A$505, IF(Variables!B491=20, Variables!$A$506, IF(Variables!B491=21, Variables!$A$507, IF(Variables!B491=22, Variables!$A$508, \"\")))))))&IF(Variables!B491=23, Variables!$A$509, IF(Variables!B491=24, Variables!$A$510, IF(Variables!B491=25, Variables!$A$511, IF(Variables!B491=26, Variables!$A$512, IF(Variables!B491=27, Variables!$A$513, IF(Variables!B491=28, Variables!$A$514, IF(Variables!B491=29, Variables!$A$515, \"\")))))))&IF(Variables!B491=30, Variables!$A$516, IF(Variables!B491=31, Variables!$A$517, IF(Variables!B491=32, Variables!$A$518, IF(Variables!B491=33, Variables!$A$519, IF(Variables!B491=34, Variables!$A$520, IF(Variables!B491=35, Variables!$A$521, IF(Variables!B491=36, Variables!$A$522, \"\")))))))&IF(Variables!B491=37, Variables!$A$523, IF(Variables!B491=38, Variables!$A$524, IF(Variables!B491=39, Variables!$A$525, IF(Variables!B491=40, Variables!$A$526, IF(Variables!B491=41, Variables!$A$527, IF(Variables!B491=42, Variables!$A$528, IF(Variables!B491=43, Variables!$A$529, \"\")))))))&IF(Variables!B491=44, Variables!$A$530, IF(Variables!B491=45, Variables!$A$531, IF(Variables!B491=46, Variables!$A$533, IF(Variables!B491=47, Variables!$A$534, IF(Variables!B491=48, Variables!$A$535, IF(Variables!B491=49, Variables!$A$536, IF(Variables!B491=50, Variables!$A$537, \"\")))))))","v":"8:45"},{"$f":"IF(Variables!E491=2, Variables!$D$488, IF(Variables!E491=3, Variables!$D$489, IF(Variables!E491=4, Variables!$D$490, IF(Variables!E491=5, Variables!$D$491, IF(Variables!E491=6,Variables!$D$492, IF(Variables!E491=7, Variables!$D$493, IF(Variables!E491=8, Variables!$D$494, \"\")))))))&IF(Variables!E491=9, Variables!$D$495, IF(Variables!E491=10, Variables!$D$496, IF(Variables!E491=11, Variables!$D$497, IF(Variables!E491=12, Variables!$D$498, IF(Variables!E491=13,Variables!$D$499, IF(Variables!E491=14, Variables!$D$500, IF(Variables!E491=15, Variables!$D$501, \"\")))))))&IF(Variables!E491=16, Variables!$D$502, IF(Variables!E491=17, Variables!$D$503, IF(Variables!E491=18, Variables!$D$504, IF(Variables!E491=19, Variables!$D$505, IF(Variables!E491=20,Variables!$D$506, IF(Variables!E491=21, Variables!$D$507, IF(Variables!E491=22, Variables!$D$508, \"\")))))))&IF(Variables!E491=23, Variables!$D$509, IF(Variables!E491=24, Variables!$D$510, IF(Variables!E491=25, Variables!$D$511, IF(Variables!E491=26, Variables!$D$512, IF(Variables!E491=27,Variables!$D$513, IF(Variables!E491=28, Variables!$D$514, IF(Variables!E491=29, Variables!$D$515, \"\")))))))&IF(Variables!E491=30, Variables!$D$516, IF(Variables!E491=31, Variables!$D$517, IF(Variables!E491=32, Variables!$D$518, IF(Variables!E491=33, Variables!$D$519, IF(Variables!E491=34,Variables!$D$520, IF(Variables!E491=35, Variables!$D$521, IF(Variables!E491=36, Variables!$D$522, \"\")))))))","v":"Assessment 2"}]
[null,null,{"$f":"IF(Variables!B492=2, Variables!$A$488, IF(Variables!B492=3, Variables!$A$489, IF(Variables!B492=4, Variables!$A$490, IF(Variables!B492=5, Variables!$A$491, IF(Variables!B492=6, Variables!$A$492, IF(Variables!B492=7, Variables!$A$493, IF(Variables!B492=8, Variables!$A$494, \"\")))))))&IF(Variables!B492=9, Variables!$A$495, IF(Variables!B492=10, Variables!$A$496, IF(Variables!B492=11, Variables!$A$497, IF(Variables!B492=12, Variables!$A$498, IF(Variables!B492=13, Variables!$A$499, IF(Variables!B492=14, Variables!$A$500, IF(Variables!B492=15, Variables!$A$501, \"\")))))))&IF(Variables!B492=16, Variables!$A$502, IF(Variables!B492=17, Variables!$A$503, IF(Variables!B492=18, Variables!$A$504, IF(Variables!B492=19, Variables!$A$505, IF(Variables!B492=20, Variables!$A$506, IF(Variables!B492=21, Variables!$A$507, IF(Variables!B492=22, Variables!$A$508, \"\")))))))&IF(Variables!B492=23, Variables!$A$509, IF(Variables!B492=24, Variables!$A$510, IF(Variables!B492=25, Variables!$A$511, IF(Variables!B492=26, Variables!$A$512, IF(Variables!B492=27, Variables!$A$513, IF(Variables!B492=28, Variables!$A$514, IF(Variables!B492=29, Variables!$A$515, \"\")))))))&IF(Variables!B492=30, Variables!$A$516, IF(Variables!B492=31, Variables!$A$517, IF(Variables!B492=32, Variables!$A$518, IF(Variables!B492=33, Variables!$A$519, IF(Variables!B492=34, Variables!$A$520, IF(Variables!B492=35, Variables!$A$521, IF(Variables!B492=36, Variables!$A$522, \"\")))))))&IF(Variables!B492=37, Variables!$A$523, IF(Variables!B492=38, Variables!$A$524, IF(Variables!B492=39, Variables!$A$525, IF(Variables!B492=40, Variables!$A$526, IF(Variables!B492=41, Variables!$A$527, IF(Variables!B492=42, Variables!$A$528, IF(Variables!B492=43, Variables!$A$529, \"\")))))))&IF(Variables!B492=44, Variables!$A$530, IF(Variables!B492=45, Variables!$A$531, IF(Variables!B492=46, Variables!$A$533, IF(Variables!B492=47, Variables!$A$534, IF(Variables!B492=48, Variables!$A$535, IF(Variables!B492=49, Variables!$A$536, IF(Variables!B492=50, Variables!$A$537, \"\")))))))","v":"9:15"},{"$f":"IF(Variables!E492=2, Variables!$D$488, IF(Variables!E492=3, Variables!$D$489, IF(Variables!E492=4, Variables!$D$490, IF(Variables!E492=5, Variables!$D$491, IF(Variables!E492=6,Variables!$D$492, IF(Variables!E492=7, Variables!$D$493, IF(Variables!E492=8, Variables!$D$494, \"\")))))))&IF(Variables!E492=9, Variables!$D$495, IF(Variables!E492=10, Variables!$D$496, IF(Variables!E492=11, Variables!$D$497, IF(Variables!E492=12, Variables!$D$498, IF(Variables!E492=13,Variables!$D$499, IF(Variables!E492=14, Variables!$D$500, IF(Variables!E492=15, Variables!$D$501, \"\")))))))&IF(Variables!E492=16, Variables!$D$502, IF(Variables!E492=17, Variables!$D$503, IF(Variables!E492=18, Variables!$D$504, IF(Variables!E492=19, Variables!$D$505, IF(Variables!E492=20,Variables!$D$506, IF(Variables!E492=21, Variables!$D$507, IF(Variables!E492=22, Variables!$D$508, \"\")))))))&IF(Variables!E492=23, Variables!$D$509, IF(Variables!E492=24, Variables!$D$510, IF(Variables!E492=25, Variables!$D$511, IF(Variables!E492=26, Variables!$D$512, IF(Variables!E492=27,Variables!$D$513, IF(Variables!E492=28, Variables!$D$514, IF(Variables!E492=29, Variables!$D$515, \"\")))))))&IF(Variables!E492=30, Variables!$D$516, IF(Variables!E492=31, Variables!$D$517, IF(Variables!E492=32, Variables!$D$518, IF(Variables!E492=33, Variables!$D$519, IF(Variables!E492=34,Variables!$D$520, IF(Variables!E492=35, Variables!$D$521, IF(Variables!E492=36, Variables!$D$522, \"\")))))))","v":"Interview 2"}]
[null,null,{"$f":"IF(Variables!B493=2, Variables!$A$488, IF(Variables!B493=3, Variables!$A$489, IF(Variables!B493=4, Variables!$A$490, IF(Variables!B493=5, Variables!$A$491, IF(Variables!B493=6, Variables!$A$492, IF(Variables!B493=7, Variables!$A$493, IF(Variables!B493=8, Variables!$A$494, \"\")))))))&IF(Variables!B493=9, Variables!$A$495, IF(Variables!B493=10, Variables!$A$496, IF(Variables!B493=11, Variables!$A$497, IF(Variables!B493=12, Variables!$A$498, IF(Variables!B493=13, Variables!$A$499, IF(Variables!B493=14, Variables!$A$500, IF(Variables!B493=15, Variables!$A$501, \"\")))))))&IF(Variables!B493=16, Variables!$A$502, IF(Variables!B493=17, Variables!$A$503, IF(Variables!B493=18, Variables!$A$504, IF(Variables!B493=19, Variables!$A$505, IF(Variables!B493=20, Variables!$A$506, IF(Variables!B493=21, Variables!$A$507, IF(Variables!B493=22, Variables!$A$508, \"\")))))))&IF(Variables!B493=23, Variables!$A$509, IF(Variables!B493=24, Variables!$A$510, IF(Variables!B493=25, Variables!$A$511, IF(Variables!B493=26, Variables!$A$512, IF(Variables!B493=27, Variables!$A$513, IF(Variables!B493=28, Variables!$A$514, IF(Variables!B493=29, Variables!$A$515, \"\")))))))&IF(Variables!B493=30, Variables!$A$516, IF(Variables!B493=31, Variables!$A$517, IF(Variables!B493=32, Variables!$A$518, IF(Variables!B493=33, Variables!$A$519, IF(Variables!B493=34, Variables!$A$520, IF(Variables!B493=35, Variables!$A$521, IF(Variables!B493=36, Variables!$A$522, \"\")))))))&IF(Variables!B493=37, Variables!$A$523, IF(Variables!B493=38, Variables!$A$524, IF(Variables!B493=39, Variables!$A$525, IF(Variables!B493=40, Variables!$A$526, IF(Variables!B493=41, Variables!$A$527, IF(Variables!B493=42, Variables!$A$528, IF(Variables!B493=43, Variables!$A$529, \"\")))))))&IF(Variables!B493=44, Variables!$A$530, IF(Variables!B493=45, Variables!$A$531, IF(Variables!B493=46, Variables!$A$533, IF(Variables!B493=47, Variables!$A$534, IF(Variables!B493=48, Variables!$A$535, IF(Variables!B493=49, Variables!$A$536, IF(Variables!B493=50, Variables!$A$537, \"\")))))))","v":"10:00"},{"$f":"IF(Variables!E493=2, Variables!$D$488, IF(Variables!E493=3, Variables!$D$489, IF(Variables!E493=4, Variables!$D$490, IF(Variables!E493=5, Variables!$D$491, IF(Variables!E493=6,Variables!$D$492, IF(Variables!E493=7, Variables!$D$493, IF(Variables!E493=8, Variables!$D$494, \"\")))))))&IF(Variables!E493=9, Variables!$D$495, IF(Variables!E493=10, Variables!$D$496, IF(Variables!E493=11, Variables!$D$497, IF(Variables!E493=12, Variables!$D$498, IF(Variables!E493=13,Variables!$D$499, IF(Variables!E493=14, Variables!$D$500, IF(Variables!E493=15, Variables!$D$501, \"\")))))))&IF(Variables!E493=16, Variables!$D$502, IF(Variables!E493=17, Variables!$D$503, IF(Variables!E493=18, Variables!$D$504, IF(Variables!E493=19, Variables!$D$505, IF(Variables!E493=20,Variables!$D$506, IF(Variables!E493=21, Variables!$D$507, IF(Variables!E493=22, Variables!$D$508, \"\")))))))&IF(Variables!E493=23, Variables!$D$509, IF(Variables!E493=24, Variables!$D$510, IF(Variables!E493=25, Variables!$D$511, IF(Variables!E493=26, Variables!$D$512, IF(Variables!E493=27,Variables!$D$513, IF(Variables!E493=28, Variables!$D$514, IF(Variables!E493=29, Variables!$D$515, \"\")))))))&IF(Variables!E493=30, Variables!$D$516, IF(Variables!E493=31, Variables!$D$517, IF(Variables!E493=32, Variables!$D$518, IF(Variables!E493=33, Variables!$D$519, IF(Variables!E493=34,Variables!$D$520, IF(Variables!E493=35, Variables!$D$521, IF(Variables!E493=36, Variables!$D$522, \"\")))))))","v":"Assessment 3"}]
[null,null,{"$f":"IF(Variables!B494=2, Variables!$A$488, IF(Variables!B494=3, Variables!$A$489, IF(Variables!B494=4, Variables!$A$490, IF(Variables!B494=5, Variables!$A$491, IF(Variables!B494=6, Variables!$A$492, IF(Variables!B494=7, Variables!$A$493, IF(Variables!B494=8, Variables!$A$494, \"\")))))))&IF(Variables!B494=9, Variables!$A$495, IF(Variables!B494=10, Variables!$A$496, IF(Variables!B494=11, Variables!$A$497, IF(Variables!B494=12, Variables!$A$498, IF(Variables!B494=13, Variables!$A$499, IF(Variables!B494=14, Variables!$A$500, IF(Variables!B494=15, Variables!$A$501, \"\")))))))&IF(Variables!B494=16, Variables!$A$502, IF(Variables!B494=17, Variables!$A$503, IF(Variables!B494=18, Variables!$A$504, IF(Variables!B494=19, Variables!$A$505, IF(Variables!B494=20, Variables!$A$506, IF(Variables!B494=21, Variables!$A$507, IF(Variables!B494=22, Variables!$A$508, \"\")))))))&IF(Variables!B494=23, Variables!$A$509, IF(Variables!B494=24, Variables!$A$510, IF(Variables!B494=25, Variables!$A$511, IF(Variables!B494=26, Variables!$A$512, IF(Variables!B494=27, Variables!$A$513, IF(Variables!B494=28, Variables!$A$514, IF(Variables!B494=29, Variables!$A$515, \"\")))))))&IF(Variables!B494=30, Variables!$A$516, IF(Variables!B494=31, Variables!$A$517, IF(Variables!B494=32, Variables!$A$518, IF(Variables!B494=33, Variables!$A$519, IF(Variables!B494=34, Variables!$A$520, IF(Variables!B494=35, Variables!$A$521, IF(Variables!B494=36, Variables!$A$522, \"\")))))))&IF(Variables!B494=37, Variables!$A$523, IF(Variables!B494=38, Variables!$A$524, IF(Variables!B494=39, Variables!$A$525, IF(Variables!B494=40, Variables!$A$526, IF(Variables!B494=41, Variables!$A$527, IF(Variables!B494=42, Variables!$A$528, IF(Variables!B494=43, Variables!$A$529, \"\")))))))&IF(Variables!B494=44, Variables!$A$530, IF(Variables!B494=45, Variables!$A$531, IF(Variables!B494=46, Variables!$A$533, IF(Variables!B494=47, Variables!$A$534, IF(Variables!B494=48, Variables!$A$535, IF(Variables!B494=49, Variables!$A$536, IF(Variables!B494=50, Variables!$A$537, \"\")))))))","v":"10:30"},{"$f":"IF(Variables!E494=2, Variables!$D$488, IF(Variables!E494=3, Variables!$D$489, IF(Variables!E494=4, Variables!$D$490, IF(Variables!E494=5, Variables!$D$491, IF(Variables!E494=6,Variables!$D$492, IF(Variables!E494=7, Variables!$D$493, IF(Variables!E494=8, Variables!$D$494, \"\")))))))&IF(Variables!E494=9, Variables!$D$495, IF(Variables!E494=10, Variables!$D$496, IF(Variables!E494=11, Variables!$D$497, IF(Variables!E494=12, Variables!$D$498, IF(Variables!E494=13,Variables!$D$499, IF(Variables!E494=14, Variables!$D$500, IF(Variables!E494=15, Variables!$D$501, \"\")))))))&IF(Variables!E494=16, Variables!$D$502, IF(Variables!E494=17, Variables!$D$503, IF(Variables!E494=18, Variables!$D$504, IF(Variables!E494=19, Variables!$D$505, IF(Variables!E494=20,Variables!$D$506, IF(Variables!E494=21, Variables!$D$507, IF(Variables!E494=22, Variables!$D$508, \"\")))))))&IF(Variables!E494=23, Variables!$D$509, IF(Variables!E494=24, Variables!$D$510, IF(Variables!E494=25, Variables!$D$511, IF(Variables!E494=26, Variables!$D$512, IF(Variables!E494=27,Variables!$D$513, IF(Variables!E494=28, Variables!$D$514, IF(Variables!E494=29, Variables!$D$515, \"\")))))))&IF(Variables!E494=30, Variables!$D$516, IF(Variables!E494=31, Variables!$D$517, IF(Variables!E494=32, Variables!$D$518, IF(Variables!E494=33, Variables!$D$519, IF(Variables!E494=34,Variables!$D$520, IF(Variables!E494=35, Variables!$D$521, IF(Variables!E494=36, Variables!$D$522, \"\")))))))","v":"Interview 3"}]
[null,null,{"$f":"IF(Variables!B495=2, Variables!$A$488, IF(Variables!B495=3, Variables!$A$489, IF(Variables!B495=4, Variables!$A$490, IF(Variables!B495=5, Variables!$A$491, IF(Variables!B495=6, Variables!$A$492, IF(Variables!B495=7, Variables!$A$493, IF(Variables!B495=8, Variables!$A$494, \"\")))))))&IF(Variables!B495=9, Variables!$A$495, IF(Variables!B495=10, Variables!$A$496, IF(Variables!B495=11, Variables!$A$497, IF(Variables!B495=12, Variables!$A$498, IF(Variables!B495=13, Variables!$A$499, IF(Variables!B495=14, Variables!$A$500, IF(Variables!B495=15, Variables!$A$501, \"\")))))))&IF(Variables!B495=16, Variables!$A$502, IF(Variables!B495=17, Variables!$A$503, IF(Variables!B495=18, Variables!$A$504, IF(Variables!B495=19, Variables!$A$505, IF(Variables!B495=20, Variables!$A$506, IF(Variables!B495=21, Variables!$A$507, IF(Variables!B495=22, Variables!$A$508, \"\")))))))&IF(Variables!B495=23, Variables!$A$509, IF(Variables!B495=24, Variables!$A$510, IF(Variables!B495=25, Variables!$A$511, IF(Variables!B495=26, Variables!$A$512, IF(Variables!B495=27, Variables!$A$513, IF(Variables!B495=28, Variables!$A$514, IF(Variables!B495=29, Variables!$A$515, \"\")))))))&IF(Variables!B495=30, Variables!$A$516, IF(Variables!B495=31, Variables!$A$517, IF(Variables!B495=32, Variables!$A$518, IF(Variables!B495=33, Variables!$A$519, IF(Variables!B495=34, Variables!$A$520, IF(Variables!B495=35, Variables!$A$521, IF(Variables!B495=36, Variables!$A$522, \"\")))))))&IF(Variables!B495=37, Variables!$A$523, IF(Variables!B495=38, Variables!$A$524, IF(Variables!B495=39, Variables!$A$525, IF(Variables!B495=40, Variables!$A$526, IF(Variables!B495=41, Variables!$A$527, IF(Variables!B495=42, Variables!$A$528, IF(Variables!B495=43, Variables!$A$529, \"\")))))))&IF(Variables!B495=44, Variables!$A$530, IF(Variables!B495=45, Variables!$A$531, IF(Variables!B495=46, Variables!$A$533, IF(Variables!B495=47, Variables!$A$534, IF(Variables!B495=48, Variables!$A$535, IF(Variables!B495=49, Variables!$A$536, IF(Variables!B495=50, Variables!$A$537, \"\")))))))","v":"11:15"},{"$f":"IF(Variables!E495=2, Variables!$D$488, IF(Variables!E495=3, Variables!$D$489, IF(Variables!E495=4, Variables!$D$490, IF(Variables!E495=5, Variables!$D$491, IF(Variables!E495=6,Variables!$D$492, IF(Variables!E495=7, Variables!$D$493, IF(Variables!E495=8, Variables!$D$494, \"\")))))))&IF(Variables!E495=9, Variables!$D$495, IF(Variables!E495=10, Variables!$D$496, IF(Variables!E495=11, Variables!$D$497, IF(Variables!E495=12, Variables!$D$498, IF(Variables!E495=13,Variables!$D$499, IF(Variables!E495=14, Variables!$D$500, IF(Variables!E495=15, Variables!$D$501, \"\")))))))&IF(Variables!E495=16, Variables!$D$502, IF(Variables!E495=17, Variables!$D$503, IF(Variables!E495=18, Variables!$D$504, IF(Variables!E495=19, Variables!$D$505, IF(Variables!E495=20,Variables!$D$506, IF(Variables!E495=21, Variables!$D$507, IF(Variables!E495=22, Variables!$D$508, \"\")))))))&IF(Variables!E495=23, Variables!$D$509, IF(Variables!E495=24, Variables!$D$510, IF(Variables!E495=25, Variables!$D$511, IF(Variables!E495=26, Variables!$D$512, IF(Variables!E495=27,Variables!$D$513, IF(Variables!E495=28, Variables!$D$514, IF(Variables!E495=29, Variables!$D$515, \"\")))))))&IF(Variables!E495=30, Variables!$D$516, IF(Variables!E495=31, Variables!$D$517, IF(Variables!E495=32, Variables!$D$518, IF(Variables!E495=33, Variables!$D$519, IF(Variables!E495=34,Variables!$D$520, IF(Variables!E495=35, Variables!$D$521, IF(Variables!E495=36, Variables!$D$522, \"\")))))))","v":"Lunch"}]
[null,null,{"$f":"IF(Variables!B496=2, Variables!$A$488, IF(Variables!B496=3, Variables!$A$489, IF(Variables!B496=4, Variables!$A$490, IF(Variables!B496=5, Variables!$A$491, IF(Variables!B496=6, Variables!$A$492, IF(Variables!B496=7, Variables!$A$493, IF(Variables!B496=8, Variables!$A$494, \"\")))))))&IF(Variables!B496=9, Variables!$A$495, IF(Variables!B496=10, Variables!$A$496, IF(Variables!B496=11, Variables!$A$497, IF(Variables!B496=12, Variables!$A$498, IF(Variables!B496=13, Variables!$A$499, IF(Variables!B496=14, Variables!$A$500, IF(Variables!B496=15, Variables!$A$501, \"\")))))))&IF(Variables!B496=16, Variables!$A$502, IF(Variables!B496=17, Variables!$A$503, IF(Variables!B496=18, Variables!$A$504, IF(Variables!B496=19, Variables!$A$505, IF(Variables!B496=20, Variables!$A$506, IF(Variables!B496=21, Variables!$A$507, IF(Variables!B496=22, Variables!$A$508, \"\")))))))&IF(Variables!B496=23, Variables!$A$509, IF(Variables!B496=24, Variables!$A$510, IF(Variables!B496=25, Variables!$A$511, IF(Variables!B496=26, Variables!$A$512, IF(Variables!B496=27, Variables!$A$513, IF(Variables!B496=28, Variables!$A$514, IF(Variables!B496=29, Variables!$A$515, \"\")))))))&IF(Variables!B496=30, Variables!$A$516, IF(Variables!B496=31, Variables!$A$517, IF(Variables!B496=32, Variables!$A$518, IF(Variables!B496=33, Variables!$A$519, IF(Variables!B496=34, Variables!$A$520, IF(Variables!B496=35, Variables!$A$521, IF(Variables!B496=36, Variables!$A$522, \"\")))))))&IF(Variables!B496=37, Variables!$A$523, IF(Variables!B496=38, Variables!$A$524, IF(Variables!B496=39, Variables!$A$525, IF(Variables!B496=40, Variables!$A$526, IF(Variables!B496=41, Variables!$A$527, IF(Variables!B496=42, Variables!$A$528, IF(Variables!B496=43, Variables!$A$529, \"\")))))))&IF(Variables!B496=44, Variables!$A$530, IF(Variables!B496=45, Variables!$A$531, IF(Variables!B496=46, Variables!$A$533, IF(Variables!B496=47, Variables!$A$534, IF(Variables!B496=48, Variables!$A$535, IF(Variables!B496=49, Variables!$A$536, IF(Variables!B496=50, Variables!$A$537, \"\")))))))","v":"12:00"},{"$f":"IF(Variables!E496=2, Variables!$D$488, IF(Variables!E496=3, Variables!$D$489, IF(Variables!E496=4, Variables!$D$490, IF(Variables!E496=5, Variables!$D$491, IF(Variables!E496=6,Variables!$D$492, IF(Variables!E496=7, Variables!$D$493, IF(Variables!E496=8, Variables!$D$494, \"\")))))))&IF(Variables!E496=9, Variables!$D$495, IF(Variables!E496=10, Variables!$D$496, IF(Variables!E496=11, Variables!$D$497, IF(Variables!E496=12, Variables!$D$498, IF(Variables!E496=13,Variables!$D$499, IF(Variables!E496=14, Variables!$D$500, IF(Variables!E496=15, Variables!$D$501, \"\")))))))&IF(Variables!E496=16, Variables!$D$502, IF(Variables!E496=17, Variables!$D$503, IF(Variables!E496=18, Variables!$D$504, IF(Variables!E496=19, Variables!$D$505, IF(Variables!E496=20,Variables!$D$506, IF(Variables!E496=21, Variables!$D$507, IF(Variables!E496=22, Variables!$D$508, \"\")))))))&IF(Variables!E496=23, Variables!$D$509, IF(Variables!E496=24, Variables!$D$510, IF(Variables!E496=25, Variables!$D$511, IF(Variables!E496=26, Variables!$D$512, IF(Variables!E496=27,Variables!$D$513, IF(Variables!E496=28, Variables!$D$514, IF(Variables!E496=29, Variables!$D$515, \"\")))))))&IF(Variables!E496=30, Variables!$D$516, IF(Variables!E496=31, Variables!$D$517, IF(Variables!E496=32, Variables!$D$518, IF(Variables!E496=33, Variables!$D$519, IF(Variables!E496=34,Variables!$D$520, IF(Variables!E496=35, Variables!$D$521, IF(Variables!E496=36, Variables!$D$522, \"\")))))))","v":"Assessment 4"}]
[null,null,{"$f":"IF(Variables!B497=2, Variables!$A$488, IF(Variables!B497=3, Variables!$A$489, IF(Variables!B497=4, Variables!$A$490, IF(Variables!B497=5, Variables!$A$491, IF(Variables!B497=6, Variables!$A$492, IF(Variables!B497=7, Variables!$A$493, IF(Variables!B497=8, Variables!$A$494, \"\")))))))&IF(Variables!B497=9, Variables!$A$495, IF(Variables!B497=10, Variables!$A$496, IF(Variables!B497=11, Variables!$A$497, IF(Variables!B497=12, Variables!$A$498, IF(Variables!B497=13, Variables!$A$499, IF(Variables!B497=14, Variables!$A$500, IF(Variables!B497=15, Variables!$A$501, \"\")))))))&IF(Variables!B497=16, Variables!$A$502, IF(Variables!B497=17, Variables!$A$503, IF(Variables!B497=18, Variables!$A$504, IF(Variables!B497=19, Variables!$A$505, IF(Variables!B497=20, Variables!$A$506, IF(Variables!B497=21, Variables!$A$507, IF(Variables!B497=22, Variables!$A$508, \"\")))))))&IF(Variables!B497=23, Variables!$A$509, IF(Variables!B497=24, Variables!$A$510, IF(Variables!B497=25, Variables!$A$511, IF(Variables!B497=26, Variables!$A$512, IF(Variables!B497=27, Variables!$A$513, IF(Variables!B497=28, Variables!$A$514, IF(Variables!B497=29, Variables!$A$515, \"\")))))))&IF(Variables!B497=30, Variables!$A$516, IF(Variables!B497=31, Variables!$A$517, IF(Variables!B497=32, Variables!$A$518, IF(Variables!B497=33, Variables!$A$519, IF(Variables!B497=34, Variables!$A$520, IF(Variables!B497=35, Variables!$A$521, IF(Variables!B497=36, Variables!$A$522, \"\")))))))&IF(Variables!B497=37, Variables!$A$523, IF(Variables!B497=38, Variables!$A$524, IF(Variables!B497=39, Variables!$A$525, IF(Variables!B497=40, Variables!$A$526, IF(Variables!B497=41, Variables!$A$527, IF(Variables!B497=42, Variables!$A$528, IF(Variables!B497=43, Variables!$A$529, \"\")))))))&IF(Variables!B497=44, Variables!$A$530, IF(Variables!B497=45, Variables!$A$531, IF(Variables!B497=46, Variables!$A$533, IF(Variables!B497=47, Variables!$A$534, IF(Variables!B497=48, Variables!$A$535, IF(Variables!B497=49, Variables!$A$536, IF(Variables!B497=50, Variables!$A$537, \"\")))))))","v":"12:30"},{"$f":"IF(Variables!E497=2, Variables!$D$488, IF(Variables!E497=3, Variables!$D$489, IF(Variables!E497=4, Variables!$D$490, IF(Variables!E497=5, Variables!$D$491, IF(Variables!E497=6,Variables!$D$492, IF(Variables!E497=7, Variables!$D$493, IF(Variables!E497=8, Variables!$D$494, \"\")))))))&IF(Variables!E497=9, Variables!$D$495, IF(Variables!E497=10, Variables!$D$496, IF(Variables!E497=11, Variables!$D$497, IF(Variables!E497=12, Variables!$D$498, IF(Variables!E497=13,Variables!$D$499, IF(Variables!E497=14, Variables!$D$500, IF(Variables!E497=15, Variables!$D$501, \"\")))))))&IF(Variables!E497=16, Variables!$D$502, IF(Variables!E497=17, Variables!$D$503, IF(Variables!E497=18, Variables!$D$504, IF(Variables!E497=19, Variables!$D$505, IF(Variables!E497=20,Variables!$D$506, IF(Variables!E497=21, Variables!$D$507, IF(Variables!E497=22, Variables!$D$508, \"\")))))))&IF(Variables!E497=23, Variables!$D$509, IF(Variables!E497=24, Variables!$D$510, IF(Variables!E497=25, Variables!$D$511, IF(Variables!E497=26, Variables!$D$512, IF(Variables!E497=27,Variables!$D$513, IF(Variables!E497=28, Variables!$D$514, IF(Variables!E497=29, Variables!$D$515, \"\")))))))&IF(Variables!E497=30, Variables!$D$516, IF(Variables!E497=31, Variables!$D$517, IF(Variables!E497=32, Variables!$D$518, IF(Variables!E497=33, Variables!$D$519, IF(Variables!E497=34,Variables!$D$520, IF(Variables!E497=35, Variables!$D$521, IF(Variables!E497=36, Variables!$D$522, \"\")))))))","v":"Interview 4"}]
[null,null,{"$f":"IF(Variables!B498=2, Variables!$A$488, IF(Variables!B498=3, Variables!$A$489, IF(Variables!B498=4, Variables!$A$490, IF(Variables!B498=5, Variables!$A$491, IF(Variables!B498=6, Variables!$A$492, IF(Variables!B498=7, Variables!$A$493, IF(Variables!B498=8, Variables!$A$494, \"\")))))))&IF(Variables!B498=9, Variables!$A$495, IF(Variables!B498=10, Variables!$A$496, IF(Variables!B498=11, Variables!$A$497, IF(Variables!B498=12, Variables!$A$498, IF(Variables!B498=13, Variables!$A$499, IF(Variables!B498=14, Variables!$A$500, IF(Variables!B498=15, Variables!$A$501, \"\")))))))&IF(Variables!B498=16, Variables!$A$502, IF(Variables!B498=17, Variables!$A$503, IF(Variables!B498=18, Variables!$A$504, IF(Variables!B498=19, Variables!$A$505, IF(Variables!B498=20, Variables!$A$506, IF(Variables!B498=21, Variables!$A$507, IF(Variables!B498=22, Variables!$A$508, \"\")))))))&IF(Variables!B498=23, Variables!$A$509, IF(Variables!B498=24, Variables!$A$510, IF(Variables!B498=25, Variables!$A$511, IF(Variables!B498=26, Variables!$A$512, IF(Variables!B498=27, Variables!$A$513, IF(Variables!B498=28, Variables!$A$514, IF(Variables!B498=29, Variables!$A$515, \"\")))))))&IF(Variables!B498=30, Variables!$A$516, IF(Variables!B498=31, Variables!$A$517, IF(Variables!B498=32, Variables!$A$518, IF(Variables!B498=33, Variables!$A$519, IF(Variables!B498=34, Variables!$A$520, IF(Variables!B498=35, Variables!$A$521, IF(Variables!B498=36, Variables!$A$522, \"\")))))))&IF(Variables!B498=37, Variables!$A$523, IF(Variables!B498=38, Variables!$A$524, IF(Variables!B498=39, Variables!$A$525, IF(Variables!B498=40, Variables!$A$526, IF(Variables!B498=41, Variables!$A$527, IF(Variables!B498=42, Variables!$A$528, IF(Variables!B498=43, Variables!$A$529, \"\")))))))&IF(Variables!B498=44, Variables!$A$530, IF(Variables!B498=45, Variables!$A$531, IF(Variables!B498=46, Variables!$A$533, IF(Variables!B498=47, Variables!$A$534, IF(Variables!B498=48, Variables!$A$535, IF(Variables!B498=49, Variables!$A$536, IF(Variables!B498=50, Variables!$A$537, \"\")))))))","v":"13:45"},{"$f":"IF(Variables!E498=2, Variables!$D$488, IF(Variables!E498=3, Variables!$D$489, IF(Variables!E498=4, Variables!$D$490, IF(Variables!E498=5, Variables!$D$491, IF(Variables!E498=6,Variables!$D$492, IF(Variables!E498=7, Variables!$D$493, IF(Variables!E498=8, Variables!$D$494, \"\")))))))&IF(Variables!E498=9, Variables!$D$495, IF(Variables!E498=10, Variables!$D$496, IF(Variables!E498=11, Variables!$D$497, IF(Variables!E498=12, Variables!$D$498, IF(Variables!E498=13,Variables!$D$499, IF(Variables!E498=14, Variables!$D$500, IF(Variables!E498=15, Variables!$D$501, \"\")))))))&IF(Variables!E498=16, Variables!$D$502, IF(Variables!E498=17, Variables!$D$503, IF(Variables!E498=18, Variables!$D$504, IF(Variables!E498=19, Variables!$D$505, IF(Variables!E498=20,Variables!$D$506, IF(Variables!E498=21, Variables!$D$507, IF(Variables!E498=22, Variables!$D$508, \"\")))))))&IF(Variables!E498=23, Variables!$D$509, IF(Variables!E498=24, Variables!$D$510, IF(Variables!E498=25, Variables!$D$511, IF(Variables!E498=26, Variables!$D$512, IF(Variables!E498=27,Variables!$D$513, IF(Variables!E498=28, Variables!$D$514, IF(Variables!E498=29, Variables!$D$515, \"\")))))))&IF(Variables!E498=30, Variables!$D$516, IF(Variables!E498=31, Variables!$D$517, IF(Variables!E498=32, Variables!$D$518, IF(Variables!E498=33, Variables!$D$519, IF(Variables!E498=34,Variables!$D$520, IF(Variables!E498=35, Variables!$D$521, IF(Variables!E498=36, Variables!$D$522, \"\")))))))","v":"Final Deliberations"}]
[null,null,{"$f":"IF(Variables!B499=2, Variables!$A$488, IF(Variables!B499=3, Variables!$A$489, IF(Variables!B499=4, Variables!$A$490, IF(Variables!B499=5, Variables!$A$491, IF(Variables!B499=6, Variables!$A$492, IF(Variables!B499=7, Variables!$A$493, IF(Variables!B499=8, Variables!$A$494, \"\")))))))&IF(Variables!B499=9, Variables!$A$495, IF(Variables!B499=10, Variables!$A$496, IF(Variables!B499=11, Variables!$A$497, IF(Variables!B499=12, Variables!$A$498, IF(Variables!B499=13, Variables!$A$499, IF(Variables!B499=14, Variables!$A$500, IF(Variables!B499=15, Variables!$A$501, \"\")))))))&IF(Variables!B499=16, Variables!$A$502, IF(Variables!B499=17, Variables!$A$503, IF(Variables!B499=18, Variables!$A$504, IF(Variables!B499=19, Variables!$A$505, IF(Variables!B499=20, Variables!$A$506, IF(Variables!B499=21, Variables!$A$507, IF(Variables!B499=22, Variables!$A$508, \"\")))))))&IF(Variables!B499=23, Variables!$A$509, IF(Variables!B499=24, Variables!$A$510, IF(Variables!B499=25, Variables!$A$511, IF(Variables!B499=26, Variables!$A$512, IF(Variables!B499=27, Variables!$A$513, IF(Variables!B499=28, Variables!$A$514, IF(Variables!B499=29, Variables!$A$515, \"\")))))))&IF(Variables!B499=30, Variables!$A$516, IF(Variables!B499=31, Variables!$A$517, IF(Variables!B499=32, Variables!$A$518, IF(Variables!B499=33, Variables!$A$519, IF(Variables!B499=34, Variables!$A$520, IF(Variables!B499=35, Variables!$A$521, IF(Variables!B499=36, Variables!$A$522, \"\")))))))&IF(Variables!B499=37, Variables!$A$523, IF(Variables!B499=38, Variables!$A$524, IF(Variables!B499=39, Variables!$A$525, IF(Variables!B499=40, Variables!$A$526, IF(Variables!B499=41, Variables!$A$527, IF(Variables!B499=42, Variables!$A$528, IF(Variables!B499=43, Variables!$A$529, \"\")))))))&IF(Variables!B499=44, Variables!$A$530, IF(Variables!B499=45, Variables!$A$531, IF(Variables!B499=46, Variables!$A$533, IF(Variables!B499=47, Variables!$A$534, IF(Variables!B499=48, Variables!$A$535, IF(Variables!B499=49, Variables!$A$536, IF(Variables!B499=50, Variables!$A$537, \"\")))))))","v":""},{"$f":"IF(Variables!E499=2, Variables!$D$488, IF(Variables!E499=3, Variables!$D$489, IF(Variables!E499=4, Variables!$D$490, IF(Variables!E499=5, Variables!$D$491, IF(Variables!E499=6,Variables!$D$492, IF(Variables!E499=7, Variables!$D$493, IF(Variables!E499=8, Variables!$D$494, \"\")))))))&IF(Variables!E499=9, Variables!$D$495, IF(Variables!E499=10, Variables!$D$496, IF(Variables!E499=11, Variables!$D$497, IF(Variables!E499=12, Variables!$D$498, IF(Variables!E499=13,Variables!$D$499, IF(Variables!E499=14, Variables!$D$500, IF(Variables!E499=15, Variables!$D$501, \"\")))))))&IF(Variables!E499=16, Variables!$D$502, IF(Variables!E499=17, Variables!$D$503, IF(Variables!E499=18, Variables!$D$504, IF(Variables!E499=19, Variables!$D$505, IF(Variables!E499=20,Variables!$D$506, IF(Variables!E499=21, Variables!$D$507, IF(Variables!E499=22, Variables!$D$508, \"\")))))))&IF(Variables!E499=23, Variables!$D$509, IF(Variables!E499=24, Variables!$D$510, IF(Variables!E499=25, Variables!$D$511, IF(Variables!E499=26, Variables!$D$512, IF(Variables!E499=27,Variables!$D$513, IF(Variables!E499=28, Variables!$D$514, IF(Variables!E499=29, Variables!$D$515, \"\")))))))&IF(Variables!E499=30, Variables!$D$516, IF(Variables!E499=31, Variables!$D$517, IF(Variables!E499=32, Variables!$D$518, IF(Variables!E499=33, Variables!$D$519, IF(Variables!E499=34,Variables!$D$520, IF(Variables!E499=35, Variables!$D$521, IF(Variables!E499=36, Variables!$D$522, \"\")))))))","v":""}]
[null,null,{"$f":"IF(Variables!B500=2, Variables!$A$488, IF(Variables!B500=3, Variables!$A$489, IF(Variables!B500=4, Variables!$A$490, IF(Variables!B500=5, Variables!$A$491, IF(Variables!B500=6, Variables!$A$492, IF(Variables!B500=7, Variables!$A$493, IF(Variables!B500=8, Variables!$A$494, \"\")))))))&IF(Variables!B500=9, Variables!$A$495, IF(Variables!B500=10, Variables!$A$496, IF(Variables!B500=11, Variables!$A$497, IF(Variables!B500=12, Variables!$A$498, IF(Variables!B500=13, Variables!$A$499, IF(Variables!B500=14, Variables!$A$500, IF(Variables!B500=15, Variables!$A$501, \"\")))))))&IF(Variables!B500=16, Variables!$A$502, IF(Variables!B500=17, Variables!$A$503, IF(Variables!B500=18, Variables!$A$504, IF(Variables!B500=19, Variables!$A$505, IF(Variables!B500=20, Variables!$A$506, IF(Variables!B500=21, Variables!$A$507, IF(Variables!B500=22, Variables!$A$508, \"\")))))))&IF(Variables!B500=23, Variables!$A$509, IF(Variables!B500=24, Variables!$A$510, IF(Variables!B500=25, Variables!$A$511, IF(Variables!B500=26, Variables!$A$512, IF(Variables!B500=27, Variables!$A$513, IF(Variables!B500=28, Variables!$A$514, IF(Variables!B500=29, Variables!$A$515, \"\")))))))&IF(Variables!B500=30, Variables!$A$516, IF(Variables!B500=31, Variables!$A$517, IF(Variables!B500=32, Variables!$A$518, IF(Variables!B500=33, Variables!$A$519, IF(Variables!B500=34, Variables!$A$520, IF(Variables!B500=35, Variables!$A$521, IF(Variables!B500=36, Variables!$A$522, \"\")))))))&IF(Variables!B500=37, Variables!$A$523, IF(Variables!B500=38, Variables!$A$524, IF(Variables!B500=39, Variables!$A$525, IF(Variables!B500=40, Variables!$A$526, IF(Variables!B500=41, Variables!$A$527, IF(Variables!B500=42, Variables!$A$528, IF(Variables!B500=43, Variables!$A$529, \"\")))))))&IF(Variables!B500=44, Variables!$A$530, IF(Variables!B500=45, Variables!$A$531, IF(Variables!B500=46, Variables!$A$533, IF(Variables!B500=47, Variables!$A$534, IF(Variables!B500=48, Variables!$A$535, IF(Variables!B500=49, Variables!$A$536, IF(Variables!B500=50, Variables!$A$537, \"\")))))))","v":""},{"$f":"IF(Variables!E500=2, Variables!$D$488, IF(Variables!E500=3, Variables!$D$489, IF(Variables!E500=4, Variables!$D$490, IF(Variables!E500=5, Variables!$D$491, IF(Variables!E500=6,Variables!$D$492, IF(Variables!E500=7, Variables!$D$493, IF(Variables!E500=8, Variables!$D$494, \"\")))))))&IF(Variables!E500=9, Variables!$D$495, IF(Variables!E500=10, Variables!$D$496, IF(Variables!E500=11, Variables!$D$497, IF(Variables!E500=12, Variables!$D$498, IF(Variables!E500=13,Variables!$D$499, IF(Variables!E500=14, Variables!$D$500, IF(Variables!E500=15, Variables!$D$501, \"\")))))))&IF(Variables!E500=16, Variables!$D$502, IF(Variables!E500=17, Variables!$D$503, IF(Variables!E500=18, Variables!$D$504, IF(Variables!E500=19, Variables!$D$505, IF(Variables!E500=20,Variables!$D$506, IF(Variables!E500=21, Variables!$D$507, IF(Variables!E500=22, Variables!$D$508, \"\")))))))&IF(Variables!E500=23, Variables!$D$509, IF(Variables!E500=24, Variables!$D$510, IF(Variables!E500=25, Variables!$D$511, IF(Variables!E500=26, Variables!$D$512, IF(Variables!E500=27,Variables!$D$513, IF(Variables!E500=28, Variables!$D$514, IF(Variables!E500=29, Variables!$D$515, \"\")))))))&IF(Variables!E500=30, Variables!$D$516, IF(Variables!E500=31, Variables!$D$517, IF(Variables!E500=32, Variables!$D$518, IF(Variables!E500=33, Variables!$D$519, IF(Variables!E500=34,Variables!$D$520, IF(Variables!E500=35, Variables!$D$521, IF(Variables!E500=36, Variables!$D$522, \"\")))))))","v":""}]
[null,null,{"$f":"IF(Variables!B501=2, Variables!$A$488, IF(Variables!B501=3, Variables!$A$489, IF(Variables!B501=4, Variables!$A$490, IF(Variables!B501=5, Variables!$A$491, IF(Variables!B501=6, Variables!$A$492, IF(Variables!B501=7, Variables!$A$493, IF(Variables!B501=8, Variables!$A$494, \"\")))))))&IF(Variables!B501=9, Variables!$A$495, IF(Variables!B501=10, Variables!$A$496, IF(Variables!B501=11, Variables!$A$497, IF(Variables!B501=12, Variables!$A$498, IF(Variables!B501=13, Variables!$A$499, IF(Variables!B501=14, Variables!$A$500, IF(Variables!B501=15, Variables!$A$501, \"\")))))))&IF(Variables!B501=16, Variables!$A$502, IF(Variables!B501=17, Variables!$A$503, IF(Variables!B501=18, Variables!$A$504, IF(Variables!B501=19, Variables!$A$505, IF(Variables!B501=20, Variables!$A$506, IF(Variables!B501=21, Variables!$A$507, IF(Variables!B501=22, Variables!$A$508, \"\")))))))&IF(Variables!B501=23, Variables!$A$509, IF(Variables!B501=24, Variables!$A$510, IF(Variables!B501=25, Variables!$A$511, IF(Variables!B501=26, Variables!$A$512, IF(Variables!B501=27, Variables!$A$513, IF(Variables!B501=28, Variables!$A$514, IF(Variables!B501=29, Variables!$A$515, \"\")))))))&IF(Variables!B501=30, Variables!$A$516, IF(Variables!B501=31, Variables!$A$517, IF(Variables!B501=32, Variables!$A$518, IF(Variables!B501=33, Variables!$A$519, IF(Variables!B501=34, Variables!$A$520, IF(Variables!B501=35, Variables!$A$521, IF(Variables!B501=36, Variables!$A$522, \"\")))))))&IF(Variables!B501=37, Variables!$A$523, IF(Variables!B501=38, Variables!$A$524, IF(Variables!B501=39, Variables!$A$525, IF(Variables!B501=40, Variables!$A$526, IF(Variables!B501=41, Variables!$A$527, IF(Variables!B501=42, Variables!$A$528, IF(Variables!B501=43, Variables!$A$529, \"\")))))))&IF(Variables!B501=44, Variables!$A$530, IF(Variables!B501=45, Variables!$A$531, IF(Variables!B501=46, Variables!$A$533, IF(Variables!B501=47, Variables!$A$534, IF(Variables!B501=48, Variables!$A$535, IF(Variables!B501=49, Variables!$A$536, IF(Variables!B501=50, Variables!$A$537, \"\")))))))","v":""},{"$f":"IF(Variables!E501=2, Variables!$D$488, IF(Variables!E501=3, Variables!$D$489, IF(Variables!E501=4, Variables!$D$490, IF(Variables!E501=5, Variables!$D$491, IF(Variables!E501=6,Variables!$D$492, IF(Variables!E501=7, Variables!$D$493, IF(Variables!E501=8, Variables!$D$494, \"\")))))))&IF(Variables!E501=9, Variables!$D$495, IF(Variables!E501=10, Variables!$D$496, IF(Variables!E501=11, Variables!$D$497, IF(Variables!E501=12, Variables!$D$498, IF(Variables!E501=13,Variables!$D$499, IF(Variables!E501=14, Variables!$D$500, IF(Variables!E501=15, Variables!$D$501, \"\")))))))&IF(Variables!E501=16, Variables!$D$502, IF(Variables!E501=17, Variables!$D$503, IF(Variables!E501=18, Variables!$D$504, IF(Variables!E501=19, Variables!$D$505, IF(Variables!E501=20,Variables!$D$506, IF(Variables!E501=21, Variables!$D$507, IF(Variables!E501=22, Variables!$D$508, \"\")))))))&IF(Variables!E501=23, Variables!$D$509, IF(Variables!E501=24, Variables!$D$510, IF(Variables!E501=25, Variables!$D$511, IF(Variables!E501=26, Variables!$D$512, IF(Variables!E501=27,Variables!$D$513, IF(Variables!E501=28, Variables!$D$514, IF(Variables!E501=29, Variables!$D$515, \"\")))))))&IF(Variables!E501=30, Variables!$D$516, IF(Variables!E501=31, Variables!$D$517, IF(Variables!E501=32, Variables!$D$518, IF(Variables!E501=33, Variables!$D$519, IF(Variables!E501=34,Variables!$D$520, IF(Variables!E501=35, Variables!$D$521, IF(Variables!E501=36, Variables!$D$522, \"\")))))))","v":""}]
[null,null,{"$f":"IF(Variables!B502=2, Variables!$A$488, IF(Variables!B502=3, Variables!$A$489, IF(Variables!B502=4, Variables!$A$490, IF(Variables!B502=5, Variables!$A$491, IF(Variables!B502=6, Variables!$A$492, IF(Variables!B502=7, Variables!$A$493, IF(Variables!B502=8, Variables!$A$494, \"\")))))))&IF(Variables!B502=9, Variables!$A$495, IF(Variables!B502=10, Variables!$A$496, IF(Variables!B502=11, Variables!$A$497, IF(Variables!B502=12, Variables!$A$498, IF(Variables!B502=13, Variables!$A$499, IF(Variables!B502=14, Variables!$A$500, IF(Variables!B502=15, Variables!$A$501, \"\")))))))&IF(Variables!B502=16, Variables!$A$502, IF(Variables!B502=17, Variables!$A$503, IF(Variables!B502=18, Variables!$A$504, IF(Variables!B502=19, Variables!$A$505, IF(Variables!B502=20, Variables!$A$506, IF(Variables!B502=21, Variables!$A$507, IF(Variables!B502=22, Variables!$A$508, \"\")))))))&IF(Variables!B502=23, Variables!$A$509, IF(Variables!B502=24, Variables!$A$510, IF(Variables!B502=25, Variables!$A$511, IF(Variables!B502=26, Variables!$A$512, IF(Variables!B502=27, Variables!$A$513, IF(Variables!B502=28, Variables!$A$514, IF(Variables!B502=29, Variables!$A$515, \"\")))))))&IF(Variables!B502=30, Variables!$A$516, IF(Variables!B502=31, Variables!$A$517, IF(Variables!B502=32, Variables!$A$518, IF(Variables!B502=33, Variables!$A$519, IF(Variables!B502=34, Variables!$A$520, IF(Variables!B502=35, Variables!$A$521, IF(Variables!B502=36, Variables!$A$522, \"\")))))))&IF(Variables!B502=37, Variables!$A$523, IF(Variables!B502=38, Variables!$A$524, IF(Variables!B502=39, Variables!$A$525, IF(Variables!B502=40, Variables!$A$526, IF(Variables!B502=41, Variables!$A$527, IF(Variables!B502=42, Variables!$A$528, IF(Variables!B502=43, Variables!$A$529, \"\")))))))&IF(Variables!B502=44, Variables!$A$530, IF(Variables!B502=45, Variables!$A$531, IF(Variables!B502=46, Variables!$A$533, IF(Variables!B502=47, Variables!$A$534, IF(Variables!B502=48, Variables!$A$535, IF(Variables!B502=49, Variables!$A$536, IF(Variables!B502=50, Variables!$A$537, \"\")))))))","v":""},{"$f":"IF(Variables!E502=2, Variables!$D$488, IF(Variables!E502=3, Variables!$D$489, IF(Variables!E502=4, Variables!$D$490, IF(Variables!E502=5, Variables!$D$491, IF(Variables!E502=6,Variables!$D$492, IF(Variables!E502=7, Variables!$D$493, IF(Variables!E502=8, Variables!$D$494, \"\")))))))&IF(Variables!E502=9, Variables!$D$495, IF(Variables!E502=10, Variables!$D$496, IF(Variables!E502=11, Variables!$D$497, IF(Variables!E502=12, Variables!$D$498, IF(Variables!E502=13,Variables!$D$499, IF(Variables!E502=14, Variables!$D$500, IF(Variables!E502=15, Variables!$D$501, \"\")))))))&IF(Variables!E502=16, Variables!$D$502, IF(Variables!E502=17, Variables!$D$503, IF(Variables!E502=18, Variables!$D$504, IF(Variables!E502=19, Variables!$D$505, IF(Variables!E502=20,Variables!$D$506, IF(Variables!E502=21, Variables!$D$507, IF(Variables!E502=22, Variables!$D$508, \"\")))))))&IF(Variables!E502=23, Variables!$D$509, IF(Variables!E502=24, Variables!$D$510, IF(Variables!E502=25, Variables!$D$511, IF(Variables!E502=26, Variables!$D$512, IF(Variables!E502=27,Variables!$D$513, IF(Variables!E502=28, Variables!$D$514, IF(Variables!E502=29, Variables!$D$515, \"\")))))))&IF(Variables!E502=30, Variables!$D$516, IF(Variables!E502=31, Variables!$D$517, IF(Variables!E502=32, Variables!$D$518, IF(Variables!E502=33, Variables!$D$519, IF(Variables!E502=34,Variables!$D$520, IF(Variables!E502=35, Variables!$D$521, IF(Variables!E502=36, Variables!$D$522, \"\")))))))","v":""}]
[null,null,{"$f":"IF(Variables!B503=2, Variables!$A$488, IF(Variables!B503=3, Variables!$A$489, IF(Variables!B503=4, Variables!$A$490, IF(Variables!B503=5, Variables!$A$491, IF(Variables!B503=6, Variables!$A$492, IF(Variables!B503=7, Variables!$A$493, IF(Variables!B503=8, Variables!$A$494, \"\")))))))&IF(Variables!B503=9, Variables!$A$495, IF(Variables!B503=10, Variables!$A$496, IF(Variables!B503=11, Variables!$A$497, IF(Variables!B503=12, Variables!$A$498, IF(Variables!B503=13, Variables!$A$499, IF(Variables!B503=14, Variables!$A$500, IF(Variables!B503=15, Variables!$A$501, \"\")))))))&IF(Variables!B503=16, Variables!$A$502, IF(Variables!B503=17, Variables!$A$503, IF(Variables!B503=18, Variables!$A$504, IF(Variables!B503=19, Variables!$A$505, IF(Variables!B503=20, Variables!$A$506, IF(Variables!B503=21, Variables!$A$507, IF(Variables!B503=22, Variables!$A$508, \"\")))))))&IF(Variables!B503=23, Variables!$A$509, IF(Variables!B503=24, Variables!$A$510, IF(Variables!B503=25, Variables!$A$511, IF(Variables!B503=26, Variables!$A$512, IF(Variables!B503=27, Variables!$A$513, IF(Variables!B503=28, Variables!$A$514, IF(Variables!B503=29, Variables!$A$515, \"\")))))))&IF(Variables!B503=30, Variables!$A$516, IF(Variables!B503=31, Variables!$A$517, IF(Variables!B503=32, Variables!$A$518, IF(Variables!B503=33, Variables!$A$519, IF(Variables!B503=34, Variables!$A$520, IF(Variables!B503=35, Variables!$A$521, IF(Variables!B503=36, Variables!$A$522, \"\")))))))&IF(Variables!B503=37, Variables!$A$523, IF(Variables!B503=38, Variables!$A$524, IF(Variables!B503=39, Variables!$A$525, IF(Variables!B503=40, Variables!$A$526, IF(Variables!B503=41, Variables!$A$527, IF(Variables!B503=42, Variables!$A$528, IF(Variables!B503=43, Variables!$A$529, \"\")))))))&IF(Variables!B503=44, Variables!$A$530, IF(Variables!B503=45, Variables!$A$531, IF(Variables!B503=46, Variables!$A$533, IF(Variables!B503=47, Variables!$A$534, IF(Variables!B503=48, Variables!$A$535, IF(Variables!B503=49, Variables!$A$536, IF(Variables!B503=50, Variables!$A$537, \"\")))))))","v":""},{"$f":"IF(Variables!E503=2, Variables!$D$488, IF(Variables!E503=3, Variables!$D$489, IF(Variables!E503=4, Variables!$D$490, IF(Variables!E503=5, Variables!$D$491, IF(Variables!E503=6,Variables!$D$492, IF(Variables!E503=7, Variables!$D$493, IF(Variables!E503=8, Variables!$D$494, \"\")))))))&IF(Variables!E503=9, Variables!$D$495, IF(Variables!E503=10, Variables!$D$496, IF(Variables!E503=11, Variables!$D$497, IF(Variables!E503=12, Variables!$D$498, IF(Variables!E503=13,Variables!$D$499, IF(Variables!E503=14, Variables!$D$500, IF(Variables!E503=15, Variables!$D$501, \"\")))))))&IF(Variables!E503=16, Variables!$D$502, IF(Variables!E503=17, Variables!$D$503, IF(Variables!E503=18, Variables!$D$504, IF(Variables!E503=19, Variables!$D$505, IF(Variables!E503=20,Variables!$D$506, IF(Variables!E503=21, Variables!$D$507, IF(Variables!E503=22, Variables!$D$508, \"\")))))))&IF(Variables!E503=23, Variables!$D$509, IF(Variables!E503=24, Variables!$D$510, IF(Variables!E503=25, Variables!$D$511, IF(Variables!E503=26, Variables!$D$512, IF(Variables!E503=27,Variables!$D$513, IF(Variables!E503=28, Variables!$D$514, IF(Variables!E503=29, Variables!$D$515, \"\")))))))&IF(Variables!E503=30, Variables!$D$516, IF(Variables!E503=31, Variables!$D$517, IF(Variables!E503=32, Variables!$D$518, IF(Variables!E503=33, Variables!$D$519, IF(Variables!E503=34,Variables!$D$520, IF(Variables!E503=35, Variables!$D$521, IF(Variables!E503=36, Variables!$D$522, \"\")))))))","v":""}]
[null,null,{"$f":"IF(Variables!B504=2, Variables!$A$488, IF(Variables!B504=3, Variables!$A$489, IF(Variables!B504=4, Variables!$A$490, IF(Variables!B504=5, Variables!$A$491, IF(Variables!B504=6, Variables!$A$492, IF(Variables!B504=7, Variables!$A$493, IF(Variables!B504=8, Variables!$A$494, \"\")))))))&IF(Variables!B504=9, Variables!$A$495, IF(Variables!B504=10, Variables!$A$496, IF(Variables!B504=11, Variables!$A$497, IF(Variables!B504=12, Variables!$A$498, IF(Variables!B504=13, Variables!$A$499, IF(Variables!B504=14, Variables!$A$500, IF(Variables!B504=15, Variables!$A$501, \"\")))))))&IF(Variables!B504=16, Variables!$A$502, IF(Variables!B504=17, Variables!$A$503, IF(Variables!B504=18, Variables!$A$504, IF(Variables!B504=19, Variables!$A$505, IF(Variables!B504=20, Variables!$A$506, IF(Variables!B504=21, Variables!$A$507, IF(Variables!B504=22, Variables!$A$508, \"\")))))))&IF(Variables!B504=23, Variables!$A$509, IF(Variables!B504=24, Variables!$A$510, IF(Variables!B504=25, Variables!$A$511, IF(Variables!B504=26, Variables!$A$512, IF(Variables!B504=27, Variables!$A$513, IF(Variables!B504=28, Variables!$A$514, IF(Variables!B504=29, Variables!$A$515, \"\")))))))&IF(Variables!B504=30, Variables!$A$516, IF(Variables!B504=31, Variables!$A$517, IF(Variables!B504=32, Variables!$A$518, IF(Variables!B504=33, Variables!$A$519, IF(Variables!B504=34, Variables!$A$520, IF(Variables!B504=35, Variables!$A$521, IF(Variables!B504=36, Variables!$A$522, \"\")))))))&IF(Variables!B504=37, Variables!$A$523, IF(Variables!B504=38, Variables!$A$524, IF(Variables!B504=39, Variables!$A$525, IF(Variables!B504=40, Variables!$A$526, IF(Variables!B504=41, Variables!$A$527, IF(Variables!B504=42, Variables!$A$528, IF(Variables!B504=43, Variables!$A$529, \"\")))))))&IF(Variables!B504=44, Variables!$A$530, IF(Variables!B504=45, Variables!$A$531, IF(Variables!B504=46, Variables!$A$533, IF(Variables!B504=47, Variables!$A$534, IF(Variables!B504=48, Variables!$A$535, IF(Variables!B504=49, Variables!$A$536, IF(Variables!B504=50, Variables!$A$537, \"\")))))))","v":""},{"$f":"IF(Variables!E504=2, Variables!$D$488, IF(Variables!E504=3, Variables!$D$489, IF(Variables!E504=4, Variables!$D$490, IF(Variables!E504=5, Variables!$D$491, IF(Variables!E504=6,Variables!$D$492, IF(Variables!E504=7, Variables!$D$493, IF(Variables!E504=8, Variables!$D$494, \"\")))))))&IF(Variables!E504=9, Variables!$D$495, IF(Variables!E504=10, Variables!$D$496, IF(Variables!E504=11, Variables!$D$497, IF(Variables!E504=12, Variables!$D$498, IF(Variables!E504=13,Variables!$D$499, IF(Variables!E504=14, Variables!$D$500, IF(Variables!E504=15, Variables!$D$501, \"\")))))))&IF(Variables!E504=16, Variables!$D$502, IF(Variables!E504=17, Variables!$D$503, IF(Variables!E504=18, Variables!$D$504, IF(Variables!E504=19, Variables!$D$505, IF(Variables!E504=20,Variables!$D$506, IF(Variables!E504=21, Variables!$D$507, IF(Variables!E504=22, Variables!$D$508, \"\")))))))&IF(Variables!E504=23, Variables!$D$509, IF(Variables!E504=24, Variables!$D$510, IF(Variables!E504=25, Variables!$D$511, IF(Variables!E504=26, Variables!$D$512, IF(Variables!E504=27,Variables!$D$513, IF(Variables!E504=28, Variables!$D$514, IF(Variables!E504=29, Variables!$D$515, \"\")))))))&IF(Variables!E504=30, Variables!$D$516, IF(Variables!E504=31, Variables!$D$517, IF(Variables!E504=32, Variables!$D$518, IF(Variables!E504=33, Variables!$D$519, IF(Variables!E504=34,Variables!$D$520, IF(Variables!E504=35, Variables!$D$521, IF(Variables!E504=36, Variables!$D$522, \"\")))))))","v":""}]
[null,null,{"$f":"IF(Variables!B505=2, Variables!$A$488, IF(Variables!B505=3, Variables!$A$489, IF(Variables!B505=4, Variables!$A$490, IF(Variables!B505=5, Variables!$A$491, IF(Variables!B505=6, Variables!$A$492, IF(Variables!B505=7, Variables!$A$493, IF(Variables!B505=8, Variables!$A$494, \"\")))))))&IF(Variables!B505=9, Variables!$A$495, IF(Variables!B505=10, Variables!$A$496, IF(Variables!B505=11, Variables!$A$497, IF(Variables!B505=12, Variables!$A$498, IF(Variables!B505=13, Variables!$A$499, IF(Variables!B505=14, Variables!$A$500, IF(Variables!B505=15, Variables!$A$501, \"\")))))))&IF(Variables!B505=16, Variables!$A$502, IF(Variables!B505=17, Variables!$A$503, IF(Variables!B505=18, Variables!$A$504, IF(Variables!B505=19, Variables!$A$505, IF(Variables!B505=20, Variables!$A$506, IF(Variables!B505=21, Variables!$A$507, IF(Variables!B505=22, Variables!$A$508, \"\")))))))&IF(Variables!B505=23, Variables!$A$509, IF(Variables!B505=24, Variables!$A$510, IF(Variables!B505=25, Variables!$A$511, IF(Variables!B505=26, Variables!$A$512, IF(Variables!B505=27, Variables!$A$513, IF(Variables!B505=28, Variables!$A$514, IF(Variables!B505=29, Variables!$A$515, \"\")))))))&IF(Variables!B505=30, Variables!$A$516, IF(Variables!B505=31, Variables!$A$517, IF(Variables!B505=32, Variables!$A$518, IF(Variables!B505=33, Variables!$A$519, IF(Variables!B505=34, Variables!$A$520, IF(Variables!B505=35, Variables!$A$521, IF(Variables!B505=36, Variables!$A$522, \"\")))))))&IF(Variables!B505=37, Variables!$A$523, IF(Variables!B505=38, Variables!$A$524, IF(Variables!B505=39, Variables!$A$525, IF(Variables!B505=40, Variables!$A$526, IF(Variables!B505=41, Variables!$A$527, IF(Variables!B505=42, Variables!$A$528, IF(Variables!B505=43, Variables!$A$529, \"\")))))))&IF(Variables!B505=44, Variables!$A$530, IF(Variables!B505=45, Variables!$A$531, IF(Variables!B505=46, Variables!$A$533, IF(Variables!B505=47, Variables!$A$534, IF(Variables!B505=48, Variables!$A$535, IF(Variables!B505=49, Variables!$A$536, IF(Variables!B505=50, Variables!$A$537, \"\")))))))","v":""},{"$f":"IF(Variables!E505=2, Variables!$D$488, IF(Variables!E505=3, Variables!$D$489, IF(Variables!E505=4, Variables!$D$490, IF(Variables!E505=5, Variables!$D$491, IF(Variables!E505=6,Variables!$D$492, IF(Variables!E505=7, Variables!$D$493, IF(Variables!E505=8, Variables!$D$494, \"\")))))))&IF(Variables!E505=9, Variables!$D$495, IF(Variables!E505=10, Variables!$D$496, IF(Variables!E505=11, Variables!$D$497, IF(Variables!E505=12, Variables!$D$498, IF(Variables!E505=13,Variables!$D$499, IF(Variables!E505=14, Variables!$D$500, IF(Variables!E505=15, Variables!$D$501, \"\")))))))&IF(Variables!E505=16, Variables!$D$502, IF(Variables!E505=17, Variables!$D$503, IF(Variables!E505=18, Variables!$D$504, IF(Variables!E505=19, Variables!$D$505, IF(Variables!E505=20,Variables!$D$506, IF(Variables!E505=21, Variables!$D$507, IF(Variables!E505=22, Variables!$D$508, \"\")))))))&IF(Variables!E505=23, Variables!$D$509, IF(Variables!E505=24, Variables!$D$510, IF(Variables!E505=25, Variables!$D$511, IF(Variables!E505=26, Variables!$D$512, IF(Variables!E505=27,Variables!$D$513, IF(Variables!E505=28, Variables!$D$514, IF(Variables!E505=29, Variables!$D$515, \"\")))))))&IF(Variables!E505=30, Variables!$D$516, IF(Variables!E505=31, Variables!$D$517, IF(Variables!E505=32, Variables!$D$518, IF(Variables!E505=33, Variables!$D$519, IF(Variables!E505=34,Variables!$D$520, IF(Variables!E505=35, Variables!$D$521, IF(Variables!E505=36, Variables!$D$522, \"\")))))))","v":""}]
[null,null,{"$f":"IF(Variables!B506=2, Variables!$A$488, IF(Variables!B506=3, Variables!$A$489, IF(Variables!B506=4, Variables!$A$490, IF(Variables!B506=5, Variables!$A$491, IF(Variables!B506=6, Variables!$A$492, IF(Variables!B506=7, Variables!$A$493, IF(Variables!B506=8, Variables!$A$494, \"\")))))))&IF(Variables!B506=9, Variables!$A$495, IF(Variables!B506=10, Variables!$A$496, IF(Variables!B506=11, Variables!$A$497, IF(Variables!B506=12, Variables!$A$498, IF(Variables!B506=13, Variables!$A$499, IF(Variables!B506=14, Variables!$A$500, IF(Variables!B506=15, Variables!$A$501, \"\")))))))&IF(Variables!B506=16, Variables!$A$502, IF(Variables!B506=17, Variables!$A$503, IF(Variables!B506=18, Variables!$A$504, IF(Variables!B506=19, Variables!$A$505, IF(Variables!B506=20, Variables!$A$506, IF(Variables!B506=21, Variables!$A$507, IF(Variables!B506=22, Variables!$A$508, \"\")))))))&IF(Variables!B506=23, Variables!$A$509, IF(Variables!B506=24, Variables!$A$510, IF(Variables!B506=25, Variables!$A$511, IF(Variables!B506=26, Variables!$A$512, IF(Variables!B506=27, Variables!$A$513, IF(Variables!B506=28, Variables!$A$514, IF(Variables!B506=29, Variables!$A$515, \"\")))))))&IF(Variables!B506=30, Variables!$A$516, IF(Variables!B506=31, Variables!$A$517, IF(Variables!B506=32, Variables!$A$518, IF(Variables!B506=33, Variables!$A$519, IF(Variables!B506=34, Variables!$A$520, IF(Variables!B506=35, Variables!$A$521, IF(Variables!B506=36, Variables!$A$522, \"\")))))))&IF(Variables!B506=37, Variables!$A$523, IF(Variables!B506=38, Variables!$A$524, IF(Variables!B506=39, Variables!$A$525, IF(Variables!B506=40, Variables!$A$526, IF(Variables!B506=41, Variables!$A$527, IF(Variables!B506=42, Variables!$A$528, IF(Variables!B506=43, Variables!$A$529, \"\")))))))&IF(Variables!B506=44, Variables!$A$530, IF(Variables!B506=45, Variables!$A$531, IF(Variables!B506=46, Variables!$A$533, IF(Variables!B506=47, Variables!$A$534, IF(Variables!B506=48, Variables!$A$535, IF(Variables!B506=49, Variables!$A$536, IF(Variables!B506=50, Variables!$A$537, \"\")))))))","v":""},{"$f":"IF(Variables!E506=2, Variables!$D$488, IF(Variables!E506=3, Variables!$D$489, IF(Variables!E506=4, Variables!$D$490, IF(Variables!E506=5, Variables!$D$491, IF(Variables!E506=6,Variables!$D$492, IF(Variables!E506=7, Variables!$D$493, IF(Variables!E506=8, Variables!$D$494, \"\")))))))&IF(Variables!E506=9, Variables!$D$495, IF(Variables!E506=10, Variables!$D$496, IF(Variables!E506=11, Variables!$D$497, IF(Variables!E506=12, Variables!$D$498, IF(Variables!E506=13,Variables!$D$499, IF(Variables!E506=14, Variables!$D$500, IF(Variables!E506=15, Variables!$D$501, \"\")))))))&IF(Variables!E506=16, Variables!$D$502, IF(Variables!E506=17, Variables!$D$503, IF(Variables!E506=18, Variables!$D$504, IF(Variables!E506=19, Variables!$D$505, IF(Variables!E506=20,Variables!$D$506, IF(Variables!E506=21, Variables!$D$507, IF(Variables!E506=22, Variables!$D$508, \"\")))))))&IF(Variables!E506=23, Variables!$D$509, IF(Variables!E506=24, Variables!$D$510, IF(Variables!E506=25, Variables!$D$511, IF(Variables!E506=26, Variables!$D$512, IF(Variables!E506=27,Variables!$D$513, IF(Variables!E506=28, Variables!$D$514, IF(Variables!E506=29, Variables!$D$515, \"\")))))))&IF(Variables!E506=30, Variables!$D$516, IF(Variables!E506=31, Variables!$D$517, IF(Variables!E506=32, Variables!$D$518, IF(Variables!E506=33, Variables!$D$519, IF(Variables!E506=34,Variables!$D$520, IF(Variables!E506=35, Variables!$D$521, IF(Variables!E506=36, Variables!$D$522, \"\")))))))","v":""}]
[null,null,{"$f":"IF(Variables!B507=2, Variables!$A$488, IF(Variables!B507=3, Variables!$A$489, IF(Variables!B507=4, Variables!$A$490, IF(Variables!B507=5, Variables!$A$491, IF(Variables!B507=6, Variables!$A$492, IF(Variables!B507=7, Variables!$A$493, IF(Variables!B507=8, Variables!$A$494, \"\")))))))&IF(Variables!B507=9, Variables!$A$495, IF(Variables!B507=10, Variables!$A$496, IF(Variables!B507=11, Variables!$A$497, IF(Variables!B507=12, Variables!$A$498, IF(Variables!B507=13, Variables!$A$499, IF(Variables!B507=14, Variables!$A$500, IF(Variables!B507=15, Variables!$A$501, \"\")))))))&IF(Variables!B507=16, Variables!$A$502, IF(Variables!B507=17, Variables!$A$503, IF(Variables!B507=18, Variables!$A$504, IF(Variables!B507=19, Variables!$A$505, IF(Variables!B507=20, Variables!$A$506, IF(Variables!B507=21, Variables!$A$507, IF(Variables!B507=22, Variables!$A$508, \"\")))))))&IF(Variables!B507=23, Variables!$A$509, IF(Variables!B507=24, Variables!$A$510, IF(Variables!B507=25, Variables!$A$511, IF(Variables!B507=26, Variables!$A$512, IF(Variables!B507=27, Variables!$A$513, IF(Variables!B507=28, Variables!$A$514, IF(Variables!B507=29, Variables!$A$515, \"\")))))))&IF(Variables!B507=30, Variables!$A$516, IF(Variables!B507=31, Variables!$A$517, IF(Variables!B507=32, Variables!$A$518, IF(Variables!B507=33, Variables!$A$519, IF(Variables!B507=34, Variables!$A$520, IF(Variables!B507=35, Variables!$A$521, IF(Variables!B507=36, Variables!$A$522, \"\")))))))&IF(Variables!B507=37, Variables!$A$523, IF(Variables!B507=38, Variables!$A$524, IF(Variables!B507=39, Variables!$A$525, IF(Variables!B507=40, Variables!$A$526, IF(Variables!B507=41, Variables!$A$527, IF(Variables!B507=42, Variables!$A$528, IF(Variables!B507=43, Variables!$A$529, \"\")))))))&IF(Variables!B507=44, Variables!$A$530, IF(Variables!B507=45, Variables!$A$531, IF(Variables!B507=46, Variables!$A$533, IF(Variables!B507=47, Variables!$A$534, IF(Variables!B507=48, Variables!$A$535, IF(Variables!B507=49, Variables!$A$536, IF(Variables!B507=50, Variables!$A$537, \"\")))))))","v":""},{"$f":"IF(Variables!E507=2, Variables!$D$488, IF(Variables!E507=3, Variables!$D$489, IF(Variables!E507=4, Variables!$D$490, IF(Variables!E507=5, Variables!$D$491, IF(Variables!E507=6,Variables!$D$492, IF(Variables!E507=7, Variables!$D$493, IF(Variables!E507=8, Variables!$D$494, \"\")))))))&IF(Variables!E507=9, Variables!$D$495, IF(Variables!E507=10, Variables!$D$496, IF(Variables!E507=11, Variables!$D$497, IF(Variables!E507=12, Variables!$D$498, IF(Variables!E507=13,Variables!$D$499, IF(Variables!E507=14, Variables!$D$500, IF(Variables!E507=15, Variables!$D$501, \"\")))))))&IF(Variables!E507=16, Variables!$D$502, IF(Variables!E507=17, Variables!$D$503, IF(Variables!E507=18, Variables!$D$504, IF(Variables!E507=19, Variables!$D$505, IF(Variables!E507=20,Variables!$D$506, IF(Variables!E507=21, Variables!$D$507, IF(Variables!E507=22, Variables!$D$508, \"\")))))))&IF(Variables!E507=23, Variables!$D$509, IF(Variables!E507=24, Variables!$D$510, IF(Variables!E507=25, Variables!$D$511, IF(Variables!E507=26, Variables!$D$512, IF(Variables!E507=27,Variables!$D$513, IF(Variables!E507=28, Variables!$D$514, IF(Variables!E507=29, Variables!$D$515, \"\")))))))&IF(Variables!E507=30, Variables!$D$516, IF(Variables!E507=31, Variables!$D$517, IF(Variables!E507=32, Variables!$D$518, IF(Variables!E507=33, Variables!$D$519, IF(Variables!E507=34,Variables!$D$520, IF(Variables!E507=35, Variables!$D$521, IF(Variables!E507=36, Variables!$D$522, \"\")))))))","v":""}]
[null,null,{"$f":"IF(Variables!B508=2, Variables!$A$488, IF(Variables!B508=3, Variables!$A$489, IF(Variables!B508=4, Variables!$A$490, IF(Variables!B508=5, Variables!$A$491, IF(Variables!B508=6, Variables!$A$492, IF(Variables!B508=7, Variables!$A$493, IF(Variables!B508=8, Variables!$A$494, \"\")))))))&IF(Variables!B508=9, Variables!$A$495, IF(Variables!B508=10, Variables!$A$496, IF(Variables!B508=11, Variables!$A$497, IF(Variables!B508=12, Variables!$A$498, IF(Variables!B508=13, Variables!$A$499, IF(Variables!B508=14, Variables!$A$500, IF(Variables!B508=15, Variables!$A$501, \"\")))))))&IF(Variables!B508=16, Variables!$A$502, IF(Variables!B508=17, Variables!$A$503, IF(Variables!B508=18, Variables!$A$504, IF(Variables!B508=19, Variables!$A$505, IF(Variables!B508=20, Variables!$A$506, IF(Variables!B508=21, Variables!$A$507, IF(Variables!B508=22, Variables!$A$508, \"\")))))))&IF(Variables!B508=23, Variables!$A$509, IF(Variables!B508=24, Variables!$A$510, IF(Variables!B508=25, Variables!$A$511, IF(Variables!B508=26, Variables!$A$512, IF(Variables!B508=27, Variables!$A$513, IF(Variables!B508=28, Variables!$A$514, IF(Variables!B508=29, Variables!$A$515, \"\")))))))&IF(Variables!B508=30, Variables!$A$516, IF(Variables!B508=31, Variables!$A$517, IF(Variables!B508=32, Variables!$A$518, IF(Variables!B508=33, Variables!$A$519, IF(Variables!B508=34, Variables!$A$520, IF(Variables!B508=35, Variables!$A$521, IF(Variables!B508=36, Variables!$A$522, \"\")))))))&IF(Variables!B508=37, Variables!$A$523, IF(Variables!B508=38, Variables!$A$524, IF(Variables!B508=39, Variables!$A$525, IF(Variables!B508=40, Variables!$A$526, IF(Variables!B508=41, Variables!$A$527, IF(Variables!B508=42, Variables!$A$528, IF(Variables!B508=43, Variables!$A$529, \"\")))))))&IF(Variables!B508=44, Variables!$A$530, IF(Variables!B508=45, Variables!$A$531, IF(Variables!B508=46, Variables!$A$533, IF(Variables!B508=47, Variables!$A$534, IF(Variables!B508=48, Variables!$A$535, IF(Variables!B508=49, Variables!$A$536, IF(Variables!B508=50, Variables!$A$537, \"\")))))))","v":""},{"$f":"IF(Variables!E508=2, Variables!$D$488, IF(Variables!E508=3, Variables!$D$489, IF(Variables!E508=4, Variables!$D$490, IF(Variables!E508=5, Variables!$D$491, IF(Variables!E508=6,Variables!$D$492, IF(Variables!E508=7, Variables!$D$493, IF(Variables!E508=8, Variables!$D$494, \"\")))))))&IF(Variables!E508=9, Variables!$D$495, IF(Variables!E508=10, Variables!$D$496, IF(Variables!E508=11, Variables!$D$497, IF(Variables!E508=12, Variables!$D$498, IF(Variables!E508=13,Variables!$D$499, IF(Variables!E508=14, Variables!$D$500, IF(Variables!E508=15, Variables!$D$501, \"\")))))))&IF(Variables!E508=16, Variables!$D$502, IF(Variables!E508=17, Variables!$D$503, IF(Variables!E508=18, Variables!$D$504, IF(Variables!E508=19, Variables!$D$505, IF(Variables!E508=20,Variables!$D$506, IF(Variables!E508=21, Variables!$D$507, IF(Variables!E508=22, Variables!$D$508, \"\")))))))&IF(Variables!E508=23, Variables!$D$509, IF(Variables!E508=24, Variables!$D$510, IF(Variables!E508=25, Variables!$D$511, IF(Variables!E508=26, Variables!$D$512, IF(Variables!E508=27,Variables!$D$513, IF(Variables!E508=28, Variables!$D$514, IF(Variables!E508=29, Variables!$D$515, \"\")))))))&IF(Variables!E508=30, Variables!$D$516, IF(Variables!E508=31, Variables!$D$517, IF(Variables!E508=32, Variables!$D$518, IF(Variables!E508=33, Variables!$D$519, IF(Variables!E508=34,Variables!$D$520, IF(Variables!E508=35, Variables!$D$521, IF(Variables!E508=36, Variables!$D$522, \"\")))))))","v":""}]
[null,null,{"$f":"IF(Variables!B509=2, Variables!$A$488, IF(Variables!B509=3, Variables!$A$489, IF(Variables!B509=4, Variables!$A$490, IF(Variables!B509=5, Variables!$A$491, IF(Variables!B509=6, Variables!$A$492, IF(Variables!B509=7, Variables!$A$493, IF(Variables!B509=8, Variables!$A$494, \"\")))))))&IF(Variables!B509=9, Variables!$A$495, IF(Variables!B509=10, Variables!$A$496, IF(Variables!B509=11, Variables!$A$497, IF(Variables!B509=12, Variables!$A$498, IF(Variables!B509=13, Variables!$A$499, IF(Variables!B509=14, Variables!$A$500, IF(Variables!B509=15, Variables!$A$501, \"\")))))))&IF(Variables!B509=16, Variables!$A$502, IF(Variables!B509=17, Variables!$A$503, IF(Variables!B509=18, Variables!$A$504, IF(Variables!B509=19, Variables!$A$505, IF(Variables!B509=20, Variables!$A$506, IF(Variables!B509=21, Variables!$A$507, IF(Variables!B509=22, Variables!$A$508, \"\")))))))&IF(Variables!B509=23, Variables!$A$509, IF(Variables!B509=24, Variables!$A$510, IF(Variables!B509=25, Variables!$A$511, IF(Variables!B509=26, Variables!$A$512, IF(Variables!B509=27, Variables!$A$513, IF(Variables!B509=28, Variables!$A$514, IF(Variables!B509=29, Variables!$A$515, \"\")))))))&IF(Variables!B509=30, Variables!$A$516, IF(Variables!B509=31, Variables!$A$517, IF(Variables!B509=32, Variables!$A$518, IF(Variables!B509=33, Variables!$A$519, IF(Variables!B509=34, Variables!$A$520, IF(Variables!B509=35, Variables!$A$521, IF(Variables!B509=36, Variables!$A$522, \"\")))))))&IF(Variables!B509=37, Variables!$A$523, IF(Variables!B509=38, Variables!$A$524, IF(Variables!B509=39, Variables!$A$525, IF(Variables!B509=40, Variables!$A$526, IF(Variables!B509=41, Variables!$A$527, IF(Variables!B509=42, Variables!$A$528, IF(Variables!B509=43, Variables!$A$529, \"\")))))))&IF(Variables!B509=44, Variables!$A$530, IF(Variables!B509=45, Variables!$A$531, IF(Variables!B509=46, Variables!$A$533, IF(Variables!B509=47, Variables!$A$534, IF(Variables!B509=48, Variables!$A$535, IF(Variables!B509=49, Variables!$A$536, IF(Variables!B509=50, Variables!$A$537, \"\")))))))","v":""},{"$f":"IF(Variables!E509=2, Variables!$D$488, IF(Variables!E509=3, Variables!$D$489, IF(Variables!E509=4, Variables!$D$490, IF(Variables!E509=5, Variables!$D$491, IF(Variables!E509=6,Variables!$D$492, IF(Variables!E509=7, Variables!$D$493, IF(Variables!E509=8, Variables!$D$494, \"\")))))))&IF(Variables!E509=9, Variables!$D$495, IF(Variables!E509=10, Variables!$D$496, IF(Variables!E509=11, Variables!$D$497, IF(Variables!E509=12, Variables!$D$498, IF(Variables!E509=13,Variables!$D$499, IF(Variables!E509=14, Variables!$D$500, IF(Variables!E509=15, Variables!$D$501, \"\")))))))&IF(Variables!E509=16, Variables!$D$502, IF(Variables!E509=17, Variables!$D$503, IF(Variables!E509=18, Variables!$D$504, IF(Variables!E509=19, Variables!$D$505, IF(Variables!E509=20,Variables!$D$506, IF(Variables!E509=21, Variables!$D$507, IF(Variables!E509=22, Variables!$D$508, \"\")))))))&IF(Variables!E509=23, Variables!$D$509, IF(Variables!E509=24, Variables!$D$510, IF(Variables!E509=25, Variables!$D$511, IF(Variables!E509=26, Variables!$D$512, IF(Variables!E509=27,Variables!$D$513, IF(Variables!E509=28, Variables!$D$514, IF(Variables!E509=29, Variables!$D$515, \"\")))))))&IF(Variables!E509=30, Variables!$D$516, IF(Variables!E509=31, Variables!$D$517, IF(Variables!E509=32, Variables!$D$518, IF(Variables!E509=33, Variables!$D$519, IF(Variables!E509=34,Variables!$D$520, IF(Variables!E509=35, Variables!$D$521, IF(Variables!E509=36, Variables!$D$522, \"\")))))))","v":""}]
[null,null,{"$f":"IF(Variables!B510=2, Variables!$A$488, IF(Variables!B510=3, Variables!$A$489, IF(Variables!B510=4, Variables!$A$490, IF(Variables!B510=5, Variables!$A$491, IF(Variables!B510=6, Variables!$A$492, IF(Variables!B510=7, Variables!$A$493, IF(Variables!B510=8, Variables!$A$494, \"\")))))))&IF(Variables!B510=9, Variables!$A$495, IF(Variables!B510=10, Variables!$A$496, IF(Variables!B510=11, Variables!$A$497, IF(Variables!B510=12, Variables!$A$498, IF(Variables!B510=13, Variables!$A$499, IF(Variables!B510=14, Variables!$A$500, IF(Variables!B510=15, Variables!$A$501, \"\")))))))&IF(Variables!B510=16, Variables!$A$502, IF(Variables!B510=17, Variables!$A$503, IF(Variables!B510=18, Variables!$A$504, IF(Variables!B510=19, Variables!$A$505, IF(Variables!B510=20, Variables!$A$506, IF(Variables!B510=21, Variables!$A$507, IF(Variables!B510=22, Variables!$A$508, \"\")))))))&IF(Variables!B510=23, Variables!$A$509, IF(Variables!B510=24, Variables!$A$510, IF(Variables!B510=25, Variables!$A$511, IF(Variables!B510=26, Variables!$A$512, IF(Variables!B510=27, Variables!$A$513, IF(Variables!B510=28, Variables!$A$514, IF(Variables!B510=29, Variables!$A$515, \"\")))))))&IF(Variables!B510=30, Variables!$A$516, IF(Variables!B510=31, Variables!$A$517, IF(Variables!B510=32, Variables!$A$518, IF(Variables!B510=33, Variables!$A$519, IF(Variables!B510=34, Variables!$A$520, IF(Variables!B510=35, Variables!$A$521, IF(Variables!B510=36, Variables!$A$522, \"\")))))))&IF(Variables!B510=37, Variables!$A$523, IF(Variables!B510=38, Variables!$A$524, IF(Variables!B510=39, Variables!$A$525, IF(Variables!B510=40, Variables!$A$526, IF(Variables!B510=41, Variables!$A$527, IF(Variables!B510=42, Variables!$A$528, IF(Variables!B510=43, Variables!$A$529, \"\")))))))&IF(Variables!B510=44, Variables!$A$530, IF(Variables!B510=45, Variables!$A$531, IF(Variables!B510=46, Variables!$A$533, IF(Variables!B510=47, Variables!$A$534, IF(Variables!B510=48, Variables!$A$535, IF(Variables!B510=49, Variables!$A$536, IF(Variables!B510=50, Variables!$A$537, \"\")))))))","v":""},{"$f":"IF(Variables!E510=2, Variables!$D$488, IF(Variables!E510=3, Variables!$D$489, IF(Variables!E510=4, Variables!$D$490, IF(Variables!E510=5, Variables!$D$491, IF(Variables!E510=6,Variables!$D$492, IF(Variables!E510=7, Variables!$D$493, IF(Variables!E510=8, Variables!$D$494, \"\")))))))&IF(Variables!E510=9, Variables!$D$495, IF(Variables!E510=10, Variables!$D$496, IF(Variables!E510=11, Variables!$D$497, IF(Variables!E510=12, Variables!$D$498, IF(Variables!E510=13,Variables!$D$499, IF(Variables!E510=14, Variables!$D$500, IF(Variables!E510=15, Variables!$D$501, \"\")))))))&IF(Variables!E510=16, Variables!$D$502, IF(Variables!E510=17, Variables!$D$503, IF(Variables!E510=18, Variables!$D$504, IF(Variables!E510=19, Variables!$D$505, IF(Variables!E510=20,Variables!$D$506, IF(Variables!E510=21, Variables!$D$507, IF(Variables!E510=22, Variables!$D$508, \"\")))))))&IF(Variables!E510=23, Variables!$D$509, IF(Variables!E510=24, Variables!$D$510, IF(Variables!E510=25, Variables!$D$511, IF(Variables!E510=26, Variables!$D$512, IF(Variables!E510=27,Variables!$D$513, IF(Variables!E510=28, Variables!$D$514, IF(Variables!E510=29, Variables!$D$515, \"\")))))))&IF(Variables!E510=30, Variables!$D$516, IF(Variables!E510=31, Variables!$D$517, IF(Variables!E510=32, Variables!$D$518, IF(Variables!E510=33, Variables!$D$519, IF(Variables!E510=34,Variables!$D$520, IF(Variables!E510=35, Variables!$D$521, IF(Variables!E510=36, Variables!$D$522, \"\")))))))","v":""}]
[null,null,{"$f":"IF(Variables!B511=2, Variables!$A$488, IF(Variables!B511=3, Variables!$A$489, IF(Variables!B511=4, Variables!$A$490, IF(Variables!B511=5, Variables!$A$491, IF(Variables!B511=6, Variables!$A$492, IF(Variables!B511=7, Variables!$A$493, IF(Variables!B511=8, Variables!$A$494, \"\")))))))&IF(Variables!B511=9, Variables!$A$495, IF(Variables!B511=10, Variables!$A$496, IF(Variables!B511=11, Variables!$A$497, IF(Variables!B511=12, Variables!$A$498, IF(Variables!B511=13, Variables!$A$499, IF(Variables!B511=14, Variables!$A$500, IF(Variables!B511=15, Variables!$A$501, \"\")))))))&IF(Variables!B511=16, Variables!$A$502, IF(Variables!B511=17, Variables!$A$503, IF(Variables!B511=18, Variables!$A$504, IF(Variables!B511=19, Variables!$A$505, IF(Variables!B511=20, Variables!$A$506, IF(Variables!B511=21, Variables!$A$507, IF(Variables!B511=22, Variables!$A$508, \"\")))))))&IF(Variables!B511=23, Variables!$A$509, IF(Variables!B511=24, Variables!$A$510, IF(Variables!B511=25, Variables!$A$511, IF(Variables!B511=26, Variables!$A$512, IF(Variables!B511=27, Variables!$A$513, IF(Variables!B511=28, Variables!$A$514, IF(Variables!B511=29, Variables!$A$515, \"\")))))))&IF(Variables!B511=30, Variables!$A$516, IF(Variables!B511=31, Variables!$A$517, IF(Variables!B511=32, Variables!$A$518, IF(Variables!B511=33, Variables!$A$519, IF(Variables!B511=34, Variables!$A$520, IF(Variables!B511=35, Variables!$A$521, IF(Variables!B511=36, Variables!$A$522, \"\")))))))&IF(Variables!B511=37, Variables!$A$523, IF(Variables!B511=38, Variables!$A$524, IF(Variables!B511=39, Variables!$A$525, IF(Variables!B511=40, Variables!$A$526, IF(Variables!B511=41, Variables!$A$527, IF(Variables!B511=42, Variables!$A$528, IF(Variables!B511=43, Variables!$A$529, \"\")))))))&IF(Variables!B511=44, Variables!$A$530, IF(Variables!B511=45, Variables!$A$531, IF(Variables!B511=46, Variables!$A$533, IF(Variables!B511=47, Variables!$A$534, IF(Variables!B511=48, Variables!$A$535, IF(Variables!B511=49, Variables!$A$536, IF(Variables!B511=50, Variables!$A$537, \"\")))))))","v":""},{"$f":"IF(Variables!E511=2, Variables!$D$488, IF(Variables!E511=3, Variables!$D$489, IF(Variables!E511=4, Variables!$D$490, IF(Variables!E511=5, Variables!$D$491, IF(Variables!E511=6,Variables!$D$492, IF(Variables!E511=7, Variables!$D$493, IF(Variables!E511=8, Variables!$D$494, \"\")))))))&IF(Variables!E511=9, Variables!$D$495, IF(Variables!E511=10, Variables!$D$496, IF(Variables!E511=11, Variables!$D$497, IF(Variables!E511=12, Variables!$D$498, IF(Variables!E511=13,Variables!$D$499, IF(Variables!E511=14, Variables!$D$500, IF(Variables!E511=15, Variables!$D$501, \"\")))))))&IF(Variables!E511=16, Variables!$D$502, IF(Variables!E511=17, Variables!$D$503, IF(Variables!E511=18, Variables!$D$504, IF(Variables!E511=19, Variables!$D$505, IF(Variables!E511=20,Variables!$D$506, IF(Variables!E511=21, Variables!$D$507, IF(Variables!E511=22, Variables!$D$508, \"\")))))))&IF(Variables!E511=23, Variables!$D$509, IF(Variables!E511=24, Variables!$D$510, IF(Variables!E511=25, Variables!$D$511, IF(Variables!E511=26, Variables!$D$512, IF(Variables!E511=27,Variables!$D$513, IF(Variables!E511=28, Variables!$D$514, IF(Variables!E511=29, Variables!$D$515, \"\")))))))&IF(Variables!E511=30, Variables!$D$516, IF(Variables!E511=31, Variables!$D$517, IF(Variables!E511=32, Variables!$D$518, IF(Variables!E511=33, Variables!$D$519, IF(Variables!E511=34,Variables!$D$520, IF(Variables!E511=35, Variables!$D$521, IF(Variables!E511=36, Variables!$D$522, \"\")))))))","v":""}]
[null,null,{"$f":"IF(Variables!B512=2, Variables!$A$488, IF(Variables!B512=3, Variables!$A$489, IF(Variables!B512=4, Variables!$A$490, IF(Variables!B512=5, Variables!$A$491, IF(Variables!B512=6, Variables!$A$492, IF(Variables!B512=7, Variables!$A$493, IF(Variables!B512=8, Variables!$A$494, \"\")))))))&IF(Variables!B512=9, Variables!$A$495, IF(Variables!B512=10, Variables!$A$496, IF(Variables!B512=11, Variables!$A$497, IF(Variables!B512=12, Variables!$A$498, IF(Variables!B512=13, Variables!$A$499, IF(Variables!B512=14, Variables!$A$500, IF(Variables!B512=15, Variables!$A$501, \"\")))))))&IF(Variables!B512=16, Variables!$A$502, IF(Variables!B512=17, Variables!$A$503, IF(Variables!B512=18, Variables!$A$504, IF(Variables!B512=19, Variables!$A$505, IF(Variables!B512=20, Variables!$A$506, IF(Variables!B512=21, Variables!$A$507, IF(Variables!B512=22, Variables!$A$508, \"\")))))))&IF(Variables!B512=23, Variables!$A$509, IF(Variables!B512=24, Variables!$A$510, IF(Variables!B512=25, Variables!$A$511, IF(Variables!B512=26, Variables!$A$512, IF(Variables!B512=27, Variables!$A$513, IF(Variables!B512=28, Variables!$A$514, IF(Variables!B512=29, Variables!$A$515, \"\")))))))&IF(Variables!B512=30, Variables!$A$516, IF(Variables!B512=31, Variables!$A$517, IF(Variables!B512=32, Variables!$A$518, IF(Variables!B512=33, Variables!$A$519, IF(Variables!B512=34, Variables!$A$520, IF(Variables!B512=35, Variables!$A$521, IF(Variables!B512=36, Variables!$A$522, \"\")))))))&IF(Variables!B512=37, Variables!$A$523, IF(Variables!B512=38, Variables!$A$524, IF(Variables!B512=39, Variables!$A$525, IF(Variables!B512=40, Variables!$A$526, IF(Variables!B512=41, Variables!$A$527, IF(Variables!B512=42, Variables!$A$528, IF(Variables!B512=43, Variables!$A$529, \"\")))))))&IF(Variables!B512=44, Variables!$A$530, IF(Variables!B512=45, Variables!$A$531, IF(Variables!B512=46, Variables!$A$533, IF(Variables!B512=47, Variables!$A$534, IF(Variables!B512=48, Variables!$A$535, IF(Variables!B512=49, Variables!$A$536, IF(Variables!B512=50, Variables!$A$537, \"\")))))))","v":""},{"$f":"IF(Variables!E512=2, Variables!$D$488, IF(Variables!E512=3, Variables!$D$489, IF(Variables!E512=4, Variables!$D$490, IF(Variables!E512=5, Variables!$D$491, IF(Variables!E512=6,Variables!$D$492, IF(Variables!E512=7, Variables!$D$493, IF(Variables!E512=8, Variables!$D$494, \"\")))))))&IF(Variables!E512=9, Variables!$D$495, IF(Variables!E512=10, Variables!$D$496, IF(Variables!E512=11, Variables!$D$497, IF(Variables!E512=12, Variables!$D$498, IF(Variables!E512=13,Variables!$D$499, IF(Variables!E512=14, Variables!$D$500, IF(Variables!E512=15, Variables!$D$501, \"\")))))))&IF(Variables!E512=16, Variables!$D$502, IF(Variables!E512=17, Variables!$D$503, IF(Variables!E512=18, Variables!$D$504, IF(Variables!E512=19, Variables!$D$505, IF(Variables!E512=20,Variables!$D$506, IF(Variables!E512=21, Variables!$D$507, IF(Variables!E512=22, Variables!$D$508, \"\")))))))&IF(Variables!E512=23, Variables!$D$509, IF(Variables!E512=24, Variables!$D$510, IF(Variables!E512=25, Variables!$D$511, IF(Variables!E512=26, Variables!$D$512, IF(Variables!E512=27,Variables!$D$513, IF(Variables!E512=28, Variables!$D$514, IF(Variables!E512=29, Variables!$D$515, \"\")))))))&IF(Variables!E512=30, Variables!$D$516, IF(Variables!E512=31, Variables!$D$517, IF(Variables!E512=32, Variables!$D$518, IF(Variables!E512=33, Variables!$D$519, IF(Variables!E512=34,Variables!$D$520, IF(Variables!E512=35, Variables!$D$521, IF(Variables!E512=36, Variables!$D$522, \"\")))))))","v":""}]
[null,null,{"$f":"IF(Variables!B513=2, Variables!$A$488, IF(Variables!B513=3, Variables!$A$489, IF(Variables!B513=4, Variables!$A$490, IF(Variables!B513=5, Variables!$A$491, IF(Variables!B513=6, Variables!$A$492, IF(Variables!B513=7, Variables!$A$493, IF(Variables!B513=8, Variables!$A$494, \"\")))))))&IF(Variables!B513=9, Variables!$A$495, IF(Variables!B513=10, Variables!$A$496, IF(Variables!B513=11, Variables!$A$497, IF(Variables!B513=12, Variables!$A$498, IF(Variables!B513=13, Variables!$A$499, IF(Variables!B513=14, Variables!$A$500, IF(Variables!B513=15, Variables!$A$501, \"\")))))))&IF(Variables!B513=16, Variables!$A$502, IF(Variables!B513=17, Variables!$A$503, IF(Variables!B513=18, Variables!$A$504, IF(Variables!B513=19, Variables!$A$505, IF(Variables!B513=20, Variables!$A$506, IF(Variables!B513=21, Variables!$A$507, IF(Variables!B513=22, Variables!$A$508, \"\")))))))&IF(Variables!B513=23, Variables!$A$509, IF(Variables!B513=24, Variables!$A$510, IF(Variables!B513=25, Variables!$A$511, IF(Variables!B513=26, Variables!$A$512, IF(Variables!B513=27, Variables!$A$513, IF(Variables!B513=28, Variables!$A$514, IF(Variables!B513=29, Variables!$A$515, \"\")))))))&IF(Variables!B513=30, Variables!$A$516, IF(Variables!B513=31, Variables!$A$517, IF(Variables!B513=32, Variables!$A$518, IF(Variables!B513=33, Variables!$A$519, IF(Variables!B513=34, Variables!$A$520, IF(Variables!B513=35, Variables!$A$521, IF(Variables!B513=36, Variables!$A$522, \"\")))))))&IF(Variables!B513=37, Variables!$A$523, IF(Variables!B513=38, Variables!$A$524, IF(Variables!B513=39, Variables!$A$525, IF(Variables!B513=40, Variables!$A$526, IF(Variables!B513=41, Variables!$A$527, IF(Variables!B513=42, Variables!$A$528, IF(Variables!B513=43, Variables!$A$529, \"\")))))))&IF(Variables!B513=44, Variables!$A$530, IF(Variables!B513=45, Variables!$A$531, IF(Variables!B513=46, Variables!$A$533, IF(Variables!B513=47, Variables!$A$534, IF(Variables!B513=48, Variables!$A$535, IF(Variables!B513=49, Variables!$A$536, IF(Variables!B513=50, Variables!$A$537, \"\")))))))","v":""},{"$f":"IF(Variables!E513=2, Variables!$D$488, IF(Variables!E513=3, Variables!$D$489, IF(Variables!E513=4, Variables!$D$490, IF(Variables!E513=5, Variables!$D$491, IF(Variables!E513=6,Variables!$D$492, IF(Variables!E513=7, Variables!$D$493, IF(Variables!E513=8, Variables!$D$494, \"\")))))))&IF(Variables!E513=9, Variables!$D$495, IF(Variables!E513=10, Variables!$D$496, IF(Variables!E513=11, Variables!$D$497, IF(Variables!E513=12, Variables!$D$498, IF(Variables!E513=13,Variables!$D$499, IF(Variables!E513=14, Variables!$D$500, IF(Variables!E513=15, Variables!$D$501, \"\")))))))&IF(Variables!E513=16, Variables!$D$502, IF(Variables!E513=17, Variables!$D$503, IF(Variables!E513=18, Variables!$D$504, IF(Variables!E513=19, Variables!$D$505, IF(Variables!E513=20,Variables!$D$506, IF(Variables!E513=21, Variables!$D$507, IF(Variables!E513=22, Variables!$D$508, \"\")))))))&IF(Variables!E513=23, Variables!$D$509, IF(Variables!E513=24, Variables!$D$510, IF(Variables!E513=25, Variables!$D$511, IF(Variables!E513=26, Variables!$D$512, IF(Variables!E513=27,Variables!$D$513, IF(Variables!E513=28, Variables!$D$514, IF(Variables!E513=29, Variables!$D$515, \"\")))))))&IF(Variables!E513=30, Variables!$D$516, IF(Variables!E513=31, Variables!$D$517, IF(Variables!E513=32, Variables!$D$518, IF(Variables!E513=33, Variables!$D$519, IF(Variables!E513=34,Variables!$D$520, IF(Variables!E513=35, Variables!$D$521, IF(Variables!E513=36, Variables!$D$522, \"\")))))))","v":""}]
[null,null,{"$f":"IF(Variables!B514=2, Variables!$A$488, IF(Variables!B514=3, Variables!$A$489, IF(Variables!B514=4, Variables!$A$490, IF(Variables!B514=5, Variables!$A$491, IF(Variables!B514=6, Variables!$A$492, IF(Variables!B514=7, Variables!$A$493, IF(Variables!B514=8, Variables!$A$494, \"\")))))))&IF(Variables!B514=9, Variables!$A$495, IF(Variables!B514=10, Variables!$A$496, IF(Variables!B514=11, Variables!$A$497, IF(Variables!B514=12, Variables!$A$498, IF(Variables!B514=13, Variables!$A$499, IF(Variables!B514=14, Variables!$A$500, IF(Variables!B514=15, Variables!$A$501, \"\")))))))&IF(Variables!B514=16, Variables!$A$502, IF(Variables!B514=17, Variables!$A$503, IF(Variables!B514=18, Variables!$A$504, IF(Variables!B514=19, Variables!$A$505, IF(Variables!B514=20, Variables!$A$506, IF(Variables!B514=21, Variables!$A$507, IF(Variables!B514=22, Variables!$A$508, \"\")))))))&IF(Variables!B514=23, Variables!$A$509, IF(Variables!B514=24, Variables!$A$510, IF(Variables!B514=25, Variables!$A$511, IF(Variables!B514=26, Variables!$A$512, IF(Variables!B514=27, Variables!$A$513, IF(Variables!B514=28, Variables!$A$514, IF(Variables!B514=29, Variables!$A$515, \"\")))))))&IF(Variables!B514=30, Variables!$A$516, IF(Variables!B514=31, Variables!$A$517, IF(Variables!B514=32, Variables!$A$518, IF(Variables!B514=33, Variables!$A$519, IF(Variables!B514=34, Variables!$A$520, IF(Variables!B514=35, Variables!$A$521, IF(Variables!B514=36, Variables!$A$522, \"\")))))))&IF(Variables!B514=37, Variables!$A$523, IF(Variables!B514=38, Variables!$A$524, IF(Variables!B514=39, Variables!$A$525, IF(Variables!B514=40, Variables!$A$526, IF(Variables!B514=41, Variables!$A$527, IF(Variables!B514=42, Variables!$A$528, IF(Variables!B514=43, Variables!$A$529, \"\")))))))&IF(Variables!B514=44, Variables!$A$530, IF(Variables!B514=45, Variables!$A$531, IF(Variables!B514=46, Variables!$A$533, IF(Variables!B514=47, Variables!$A$534, IF(Variables!B514=48, Variables!$A$535, IF(Variables!B514=49, Variables!$A$536, IF(Variables!B514=50, Variables!$A$537, \"\")))))))","v":""},{"$f":"IF(Variables!E514=2, Variables!$D$488, IF(Variables!E514=3, Variables!$D$489, IF(Variables!E514=4, Variables!$D$490, IF(Variables!E514=5, Variables!$D$491, IF(Variables!E514=6,Variables!$D$492, IF(Variables!E514=7, Variables!$D$493, IF(Variables!E514=8, Variables!$D$494, \"\")))))))&IF(Variables!E514=9, Variables!$D$495, IF(Variables!E514=10, Variables!$D$496, IF(Variables!E514=11, Variables!$D$497, IF(Variables!E514=12, Variables!$D$498, IF(Variables!E514=13,Variables!$D$499, IF(Variables!E514=14, Variables!$D$500, IF(Variables!E514=15, Variables!$D$501, \"\")))))))&IF(Variables!E514=16, Variables!$D$502, IF(Variables!E514=17, Variables!$D$503, IF(Variables!E514=18, Variables!$D$504, IF(Variables!E514=19, Variables!$D$505, IF(Variables!E514=20,Variables!$D$506, IF(Variables!E514=21, Variables!$D$507, IF(Variables!E514=22, Variables!$D$508, \"\")))))))&IF(Variables!E514=23, Variables!$D$509, IF(Variables!E514=24, Variables!$D$510, IF(Variables!E514=25, Variables!$D$511, IF(Variables!E514=26, Variables!$D$512, IF(Variables!E514=27,Variables!$D$513, IF(Variables!E514=28, Variables!$D$514, IF(Variables!E514=29, Variables!$D$515, \"\")))))))&IF(Variables!E514=30, Variables!$D$516, IF(Variables!E514=31, Variables!$D$517, IF(Variables!E514=32, Variables!$D$518, IF(Variables!E514=33, Variables!$D$519, IF(Variables!E514=34,Variables!$D$520, IF(Variables!E514=35, Variables!$D$521, IF(Variables!E514=36, Variables!$D$522, \"\")))))))","v":""}]
[null,null,{"$f":"IF(Variables!B515=2, Variables!$A$488, IF(Variables!B515=3, Variables!$A$489, IF(Variables!B515=4, Variables!$A$490, IF(Variables!B515=5, Variables!$A$491, IF(Variables!B515=6, Variables!$A$492, IF(Variables!B515=7, Variables!$A$493, IF(Variables!B515=8, Variables!$A$494, \"\")))))))&IF(Variables!B515=9, Variables!$A$495, IF(Variables!B515=10, Variables!$A$496, IF(Variables!B515=11, Variables!$A$497, IF(Variables!B515=12, Variables!$A$498, IF(Variables!B515=13, Variables!$A$499, IF(Variables!B515=14, Variables!$A$500, IF(Variables!B515=15, Variables!$A$501, \"\")))))))&IF(Variables!B515=16, Variables!$A$502, IF(Variables!B515=17, Variables!$A$503, IF(Variables!B515=18, Variables!$A$504, IF(Variables!B515=19, Variables!$A$505, IF(Variables!B515=20, Variables!$A$506, IF(Variables!B515=21, Variables!$A$507, IF(Variables!B515=22, Variables!$A$508, \"\")))))))&IF(Variables!B515=23, Variables!$A$509, IF(Variables!B515=24, Variables!$A$510, IF(Variables!B515=25, Variables!$A$511, IF(Variables!B515=26, Variables!$A$512, IF(Variables!B515=27, Variables!$A$513, IF(Variables!B515=28, Variables!$A$514, IF(Variables!B515=29, Variables!$A$515, \"\")))))))&IF(Variables!B515=30, Variables!$A$516, IF(Variables!B515=31, Variables!$A$517, IF(Variables!B515=32, Variables!$A$518, IF(Variables!B515=33, Variables!$A$519, IF(Variables!B515=34, Variables!$A$520, IF(Variables!B515=35, Variables!$A$521, IF(Variables!B515=36, Variables!$A$522, \"\")))))))&IF(Variables!B515=37, Variables!$A$523, IF(Variables!B515=38, Variables!$A$524, IF(Variables!B515=39, Variables!$A$525, IF(Variables!B515=40, Variables!$A$526, IF(Variables!B515=41, Variables!$A$527, IF(Variables!B515=42, Variables!$A$528, IF(Variables!B515=43, Variables!$A$529, \"\")))))))&IF(Variables!B515=44, Variables!$A$530, IF(Variables!B515=45, Variables!$A$531, IF(Variables!B515=46, Variables!$A$533, IF(Variables!B515=47, Variables!$A$534, IF(Variables!B515=48, Variables!$A$535, IF(Variables!B515=49, Variables!$A$536, IF(Variables!B515=50, Variables!$A$537, \"\")))))))","v":""},{"$f":"IF(Variables!E515=2, Variables!$D$488, IF(Variables!E515=3, Variables!$D$489, IF(Variables!E515=4, Variables!$D$490, IF(Variables!E515=5, Variables!$D$491, IF(Variables!E515=6,Variables!$D$492, IF(Variables!E515=7, Variables!$D$493, IF(Variables!E515=8, Variables!$D$494, \"\")))))))&IF(Variables!E515=9, Variables!$D$495, IF(Variables!E515=10, Variables!$D$496, IF(Variables!E515=11, Variables!$D$497, IF(Variables!E515=12, Variables!$D$498, IF(Variables!E515=13,Variables!$D$499, IF(Variables!E515=14, Variables!$D$500, IF(Variables!E515=15, Variables!$D$501, \"\")))))))&IF(Variables!E515=16, Variables!$D$502, IF(Variables!E515=17, Variables!$D$503, IF(Variables!E515=18, Variables!$D$504, IF(Variables!E515=19, Variables!$D$505, IF(Variables!E515=20,Variables!$D$506, IF(Variables!E515=21, Variables!$D$507, IF(Variables!E515=22, Variables!$D$508, \"\")))))))&IF(Variables!E515=23, Variables!$D$509, IF(Variables!E515=24, Variables!$D$510, IF(Variables!E515=25, Variables!$D$511, IF(Variables!E515=26, Variables!$D$512, IF(Variables!E515=27,Variables!$D$513, IF(Variables!E515=28, Variables!$D$514, IF(Variables!E515=29, Variables!$D$515, \"\")))))))&IF(Variables!E515=30, Variables!$D$516, IF(Variables!E515=31, Variables!$D$517, IF(Variables!E515=32, Variables!$D$518, IF(Variables!E515=33, Variables!$D$519, IF(Variables!E515=34,Variables!$D$520, IF(Variables!E515=35, Variables!$D$521, IF(Variables!E515=36, Variables!$D$522, \"\")))))))","v":""}]
[null,null,{"$f":"IF(Variables!B516=2, Variables!$A$488, IF(Variables!B516=3, Variables!$A$489, IF(Variables!B516=4, Variables!$A$490, IF(Variables!B516=5, Variables!$A$491, IF(Variables!B516=6, Variables!$A$492, IF(Variables!B516=7, Variables!$A$493, IF(Variables!B516=8, Variables!$A$494, \"\")))))))&IF(Variables!B516=9, Variables!$A$495, IF(Variables!B516=10, Variables!$A$496, IF(Variables!B516=11, Variables!$A$497, IF(Variables!B516=12, Variables!$A$498, IF(Variables!B516=13, Variables!$A$499, IF(Variables!B516=14, Variables!$A$500, IF(Variables!B516=15, Variables!$A$501, \"\")))))))&IF(Variables!B516=16, Variables!$A$502, IF(Variables!B516=17, Variables!$A$503, IF(Variables!B516=18, Variables!$A$504, IF(Variables!B516=19, Variables!$A$505, IF(Variables!B516=20, Variables!$A$506, IF(Variables!B516=21, Variables!$A$507, IF(Variables!B516=22, Variables!$A$508, \"\")))))))&IF(Variables!B516=23, Variables!$A$509, IF(Variables!B516=24, Variables!$A$510, IF(Variables!B516=25, Variables!$A$511, IF(Variables!B516=26, Variables!$A$512, IF(Variables!B516=27, Variables!$A$513, IF(Variables!B516=28, Variables!$A$514, IF(Variables!B516=29, Variables!$A$515, \"\")))))))&IF(Variables!B516=30, Variables!$A$516, IF(Variables!B516=31, Variables!$A$517, IF(Variables!B516=32, Variables!$A$518, IF(Variables!B516=33, Variables!$A$519, IF(Variables!B516=34, Variables!$A$520, IF(Variables!B516=35, Variables!$A$521, IF(Variables!B516=36, Variables!$A$522, \"\")))))))&IF(Variables!B516=37, Variables!$A$523, IF(Variables!B516=38, Variables!$A$524, IF(Variables!B516=39, Variables!$A$525, IF(Variables!B516=40, Variables!$A$526, IF(Variables!B516=41, Variables!$A$527, IF(Variables!B516=42, Variables!$A$528, IF(Variables!B516=43, Variables!$A$529, \"\")))))))&IF(Variables!B516=44, Variables!$A$530, IF(Variables!B516=45, Variables!$A$531, IF(Variables!B516=46, Variables!$A$533, IF(Variables!B516=47, Variables!$A$534, IF(Variables!B516=48, Variables!$A$535, IF(Variables!B516=49, Variables!$A$536, IF(Variables!B516=50, Variables!$A$537, \"\")))))))","v":""},{"$f":"IF(Variables!E516=2, Variables!$D$488, IF(Variables!E516=3, Variables!$D$489, IF(Variables!E516=4, Variables!$D$490, IF(Variables!E516=5, Variables!$D$491, IF(Variables!E516=6,Variables!$D$492, IF(Variables!E516=7, Variables!$D$493, IF(Variables!E516=8, Variables!$D$494, \"\")))))))&IF(Variables!E516=9, Variables!$D$495, IF(Variables!E516=10, Variables!$D$496, IF(Variables!E516=11, Variables!$D$497, IF(Variables!E516=12, Variables!$D$498, IF(Variables!E516=13,Variables!$D$499, IF(Variables!E516=14, Variables!$D$500, IF(Variables!E516=15, Variables!$D$501, \"\")))))))&IF(Variables!E516=16, Variables!$D$502, IF(Variables!E516=17, Variables!$D$503, IF(Variables!E516=18, Variables!$D$504, IF(Variables!E516=19, Variables!$D$505, IF(Variables!E516=20,Variables!$D$506, IF(Variables!E516=21, Variables!$D$507, IF(Variables!E516=22, Variables!$D$508, \"\")))))))&IF(Variables!E516=23, Variables!$D$509, IF(Variables!E516=24, Variables!$D$510, IF(Variables!E516=25, Variables!$D$511, IF(Variables!E516=26, Variables!$D$512, IF(Variables!E516=27,Variables!$D$513, IF(Variables!E516=28, Variables!$D$514, IF(Variables!E516=29, Variables!$D$515, \"\")))))))&IF(Variables!E516=30, Variables!$D$516, IF(Variables!E516=31, Variables!$D$517, IF(Variables!E516=32, Variables!$D$518, IF(Variables!E516=33, Variables!$D$519, IF(Variables!E516=34,Variables!$D$520, IF(Variables!E516=35, Variables!$D$521, IF(Variables!E516=36, Variables!$D$522, \"\")))))))","v":""}]
[]
["Presentations:"]

{"sheet":"Candidate Ratings","index":7,"n_rows":4,"n_cols":5,"rows_kept":4,"cut":false,"hidden":true,"merged":[[3,0,3,2]]}
["Competition #","Classification","Position Title","Date","Board Member/Chairperson"]
[{"$f":"CompNumber","v":0},{"$f":"IF(Salaries!D106=0, Salaries!#REF!, Salaries!D106)","v":{"$error":"#N/A"}},{"$f":"PosTitle","v":0}]
[]
["Criteria",null,null,"Weighting\nFactor\nCritical = 15\nEssential = 10\nDesirable = 5",{"$f":"IF('5 Screening'!L144=\"y\", '5 Screening'!B144, \"\")","v":""}]

{"sheet":"New Job Ad","index":8,"n_rows":2,"n_cols":52,"rows_kept":2,"cut":false,"hidden":true,"merged":[]}
["Job Title","Department School","Eligibility","Duties","Req1","Req2","Req3","Req4","Req5","Req6","Req7","Req8","Req9","Req10","Req11","Req12","Req13","Req14","Req15","Req16","Req17","Req18","Req19","Req20","Asset1","Asset2","Asset3","Asset4","Asset5","Asset6","Asset7","Asset8","Cond1","Cond2","Cond3","Cond4","Cond5","Cond6","Cond7","Cond8","Comp#","Closing","Salary","Salary2","SalarySupp","Location","Location 2","Int/Ext","Open to","Position Type","Term Info","Term Info 2"]
[{"$f":"'2 Position Details'!C2&Variables!A18","v":""},{"$f":"'2 Position Details'!C3","v":0},{"$f":"IF(Variables!B45=2,Variables!B46,IF(Variables!B45=3,Variables!B47,IF(Variables!B45=4,Variables!B48,\"An eligibility list may be created for similar casual, part-time, full-time, and term positions\")))","v":"An eligibility list may be created for similar casual, part-time, full-time, and term positions"},{"$f":"'3 Duties & Requirements'!B3","v":0},{"$f":"'3 Duties & Requirements'!B8","v":0},{"$f":"'3 Duties & Requirements'!B9","v":0},{"$f":"'3 Duties & Requirements'!B10","v":0},{"$f":"'3 Duties & Requirements'!B11","v":0},{"$f":"'3 Duties & Requirements'!B12","v":0},{"$f":"'3 Duties & Requirements'!B13","v":0},{"$f":"'3 Duties & Requirements'!B14","v":0},{"$f":"'3 Duties & Requirements'!B15","v":0},{"$f":"'3 Duties & Requirements'!B16","v":0},{"$f":"'3 Duties & Requirements'!B17","v":0},{"$f":"'3 Duties & Requirements'!B18","v":0},{"$f":"'3 Duties & Requirements'!B19","v":0},{"$f":"'3 Duties & Requirements'!B20","v":0},{"$f":"'3 Duties & Requirements'!B21","v":0},{"$f":"'3 Duties & Requirements'!B22","v":0},{"$f":"'3 Duties & Requirements'!B23","v":0},{"$f":"'3 Duties & Requirements'!B24","v":0},{"$f":"'3 Duties & Requirements'!B25","v":0},{"$f":"'3 Duties & Requirements'!B26","v":0},{"$f":"'3 Duties & Requirements'!B27","v":0},{"$f":"'3 Duties & Requirements'!B33","v":0},{"$f":"'3 Duties & Requirements'!B34","v":0},{"$f":"'3 Duties & Requirements'!B35","v":0},{"$f":"'3 Duties & Requirements'!B36","v":0},{"$f":"'3 Duties & Requirements'!B37","v":0},{"$f":"'3 Duties & Requirements'!B38","v":0},{"$f":"'3 Duties & Requirements'!B39","v":0},{"$f":"'3 Duties & Requirements'!B40","v":0},{"$f":"IF(Variables!H77=1,\"\",IF(Variables!H77=2,Variables!$A$77,IF(Variables!H77=3,Variables!$A$78,IF(Variables!H77=4,Variables!$A$79,IF(Variables!H77=5,Variables!$A$80,IF(Variables!H77=6,Variables!$A$81,IF(Variables!H77=7,Variables!$A$82,\"\"))))))&IF(Variables!H77=8,Variables!$A$83,IF(Variables!H77=9,Variables!$A$84,IF(Variables!H77=10,Variables!$A$85,IF(Variables!H77=11,Variables!$A$86,IF(Variables!H77=12,Variables!$A$87,IF(Variables!H77=13,Variables!$A$88,\"\")))))))&IF(Variables!H77=14,Variables!$A$89,IF(Variables!H77=15,Variables!$A$90,\"\"))","v":""},{"$f":"IF(Variables!H78=1,\"\",IF(Variables!H78=2, Variables!$A$77,IF(Variables!H78=3, Variables!$A$78, IF(Variables!H78=4, Variables!$A$79, IF(Variables!H78=5, Variables!$A$80, IF(Variables!H78=6, Variables!$A$81,IF(Variables!H78=7, Variables!$A$82,\"\"))))))& IF(Variables!H78=8, Variables!$A$83, IF(Variables!H78=9, Variables!$A$84, IF(Variables!H78=10, Variables!$A$85, IF(Variables!H78=11, Variables!$A$86, IF(Variables!H78=12, Variables!$A$87, IF(Variables!H78=13, Variables!$A$88,\" \")))))))& IF(Variables!H78=14, Variables!$A$89,IF(Variables!H78=15,Variables!$A$90,\"\"))","v":""},{"$f":"IF(Variables!H79=1,\"\",IF(Variables!H79=2, Variables!$A$77,IF(Variables!H79=3, Variables!$A$78, IF(Variables!H79=4, Variables!$A$79, IF(Variables!H79=5, Variables!$A$80, IF(Variables!H79=6, Variables!$A$81,IF(Variables!H79=7, Variables!$A$82,\"\"))))))& IF(Variables!H79=8, Variables!$A$83, IF(Variables!H79=9, Variables!$A$84, IF(Variables!H79=10, Variables!$A$85, IF(Variables!H79=11, Variables!$A$86, IF(Variables!H79=12, Variables!$A$87, IF(Variables!H79=13, Variables!$A$88,\" \")))))))& IF(Variables!H79=14, Variables!$A$89,IF(Variables!H79=15,Variables!$A$90,\"\"))","v":""},{"$f":"IF(Variables!H80=1,\"\",IF(Variables!H80=2, Variables!$A$77,IF(Variables!H80=3, Variables!$A$78, IF(Variables!H80=4, Variables!$A$79, IF(Variables!H80=5, Variables!$A$80, IF(Variables!H80=6, Variables!$A$81,IF(Variables!H80=7, Variables!$A$82,\"\"))))))& IF(Variables!H80=8, Variables!$A$83, IF(Variables!H80=9, Variables!$A$84, IF(Variables!H80=10, Variables!$A$85, IF(Variables!H80=11, Variables!$A$86, IF(Variables!H80=12, Variables!$A$87, IF(Variables!H80=13, Variables!$A$88,\" \")))))))& IF(Variables!H80=14, Variables!$A$89,IF(Variables!H80=15,Variables!$A$90,\"\"))","v":""},{"$f":"IF(Variables!H81=1,\"\",IF(Variables!H81=2, Variables!$A$77,IF(Variables!H81=3, Variables!$A$78, IF(Variables!H81=4, Variables!$A$79, IF(Variables!H81=5, Variables!$A$80, IF(Variables!H81=6, Variables!$A$81,IF(Variables!H81=7, Variables!$A$82,\"\"))))))& IF(Variables!H81=8, Variables!$A$83, IF(Variables!H81=9, Variables!$A$84, IF(Variables!H81=10, Variables!$A$85, IF(Variables!H81=11, Variables!$A$86, IF(Variables!H81=12, Variables!$A$87, IF(Variables!H81=13, Variables!$A$88,\"\")))))))& IF(Variables!H81=14, Variables!$A$89,IF(Variables!H81=15,Variables!$A$90,\"\"))","v":""},{"$f":"'3 Duties & Requirements'!B50","v":0},{"$f":"'3 Duties & Requirements'!B51","v":0},{"$f":"'3 Duties & Requirements'!B52","v":0},{"$f":"CompNumber","v":0},{"$f":"CloseDate","v":0},{"$f":"IF(Salaries!A105>1, Salaries!B106, \"TBD\")","v":"TBD"},{"$f":"'Old Job Ad'!E68","v":""},{"$f":"IF(Salaries!A105=23,Variables!A64,IF(Salaries!A105=30,Variables!A67,IF(Salaries!A105=31,Variables!A67,IF(Salaries!A105=32,Variables!A67,IF(Salaries!A105=33,Variables!A67,IF(Salaries!A105=34,Variables!A67,\"\")))))&IF(Salaries!A105=71,Variables!A64,IF(Salaries!A105=78,Variables!A67,IF(Salaries!A105=79,Variables!A67,IF(Salaries!A105=80,Variables!A67,IF(Salaries!A105=81,Variables!A67,IF(Salaries!A105=82,Variables!A67,\"\")))))))","v":""},{"$f":"IF(Variables!B51=2,Variables!B52,IF(Variables!B51=3,Variables!B53,IF(Variables!B51=4,Variables!B54,IF(Variables!B51=5,Variables!B55,IF(Variables!B51=6,Variables!B56,IF(Variables!B51=7,Variables!B57,IF(Variables!B51=8,Variables!B58,IF(Variables!B51=9, Variables!B59,IF(Variables!B51=10, Variables!B60,IF(Variables!B51=11, Variables!B61,\" \"))))))))))","v":" "},{"$f":"IF(Variables!B51=2,Variables!C52,IF(Variables!B51=3,Variables!C53,IF(Variables!B51=4,Variables!C54,IF(Variables!B51=5,Variables!C55,IF(Variables!B51=6,Variables!C56,IF(Variables!B51=7,Variables!C57,IF(Variables!B51=8,Variables!C58,IF(Variables!B51=9,Variables!C59,IF(Variables!B51=10,Variables!C60,IF(Variables!B51=11,Variables!C61,\" \"))))))))))","v":" "},{"$f":"IF(Variables!B5=1, Variables!B2,IF(Variables!B5=2, Variables!C3, IF(Variables!B5=4, Variables!B4,\" \")))","v":" "},null,{"$f":"Variables!A40","v":"Full-Time Position Available "},{"$f":"Variables!A41","v":""},{"$f":"Variables!A42","v":""}]

{"sheet":"Old Job Ad","index":9,"n_rows":72,"n_cols":12,"rows_kept":72,"cut":false,"hidden":true,"merged":[[20,1,20,10],[21,1,21,10],[42,1,42,10],[27,1,27,10],[28,1,28,10],[29,1,29,10],[34,1,34,10],[35,1,35,10],[22,1,22,10],[23,1,23,10],[24,1,24,10],[25,1,25,10],[70,0,70,10],[52,1,52,10],[54,1,54,10],[55,1,55,10],[58,1,58,10],[59,1,59,10],[63,0,63,10],[68,2,68,10],[56,1,56,10],[57,1,57,10],[61,1,61,10],[60,1,60,10],[53,1,53,10],[49,1,49,10],[26,1,26,10],[36,1,36,10],[37,1,37,10],[43,1,43,10],[44,1,44,10],[45,1,45,10],[30,1,30,10],[38,1,38,10],[39,1,39,10],[31,1,31,10],[32,1,32,10],[33,1,33,10],[46,1,46,10],[47,1,47,10],[48,1,48,10],[1,0,1,10],[2,0,2,10],[11,0,11,10],[18,1,18,10],[19,1,19,10],[3,0,3,10],[4,0,4,10],[10,0,10,10],[5,0,5,10],[12,0,12,10],[15,0,15,10],[7,0,7,10],[8,0,8,10],[9,0,9,10]]}
[null,null,null,null,null,null,null,null,null,null,null,"REMOVE LINE?"]
[{"$f":"IF(Variables!B5=1, Variables!B2,IF(Variables!B5=2, Variables!C3, IF(Variables!B5=4, Variables!B4,\" \")))","v":" "},null,null,null,null,null,null,null,null,null,null,{"$f":"IF(A2=\" \", \"YES\", \"NO\")","v":"YES"}]
[{"$f":"IF(A2=\" \", \" \", \"\")","v":" "},null,null,null,null,null,null,null,null,null,null,{"$f":"IF(A3=\" \", \"YES\", \"NO\")","v":"YES"}]
[{"$f":"'2 Position Details'!C2&Variables!A18","v":""},null,null,null,null,null,null,null,null,null,null,{"$f":"IF(A4=\" \", \"YES\", \"NO\")","v":"NO"}]
[{"$f":"'2 Position Details'!C3","v":0},null,null,null,null,null,null,null,null,null,null,{"$f":"IF(A5=\" \", \"YES\", \"NO\")","v":"NO"}]
[{"$f":"IF('2 Position Details'!#REF!>0, '2 Position Details'!#REF!, IF(Variables!A35>0,Variables!A35,\" \"))","v":{"$error":"#REF!"}},null,null,null,null,null,null,null,null,null,null,{"$f":"IF(TERM=\" \", \"YES\", \"NO\")","v":{"$error":"#REF!"}}]
[null,null,null,null,null,null,null,null,null,null,null,{"$f":"IF(A7=\" \", \"YES\", \"NO\")","v":"NO"}]
[{"$f":"IF(Variables!B51=2,Variables!B56,IF(Variables!B51=3,Variables!B57,IF(Variables!B51=4,Variables!B58,IF(Variables!B51=5,Variables!B59,IF(Variables!B51=6,Variables!B60,IF(Variables!B51=6,Variables!B61,IF(Variables!B51=7,Variables!B61,\" \")))))))","v":" "},null,null,null,null,null,null,null,null,null,null,{"$f":"IF(A8=\" \", \"YES\", \"NO\")","v":"YES"}]
[{"$f":"IF(A8=\" \", \" \", \"\")","v":" "},null,null,null,null,null,null,null,null,null,null,{"$f":"IF(A9=\" \", \"YES\", \"NO\")","v":"YES"}]
["Applicants are to clearly demonstrate how they satisfy the selection criteria in their written submissions and\nmust identify the competition number they are applying for in the subject line of the email\n",null,null,null,null,null,null,null,null,null,null,"NO"]
[{"$f":"IF(Variables!B45=2,Variables!B46,IF(Variables!B45=3,Variables!B47,IF(Variables!B45=4,Variables!B48,\"An eligibility list may be created for similar casual, part-time, full-time, and term positions\")))","v":"An eligibility list may be created for similar casual, part-time, full-time, and term positions"},null,null,null,null,null,null,null,null,null,null,{"$f":"IF(A11=\" \", \"YES\", \"NO\")","v":"NO"}]
[{"$f":"IF(A11=\" \", \" \", \"\")","v":""},null,null,null,null,null,null,null,null,null,null,{"$f":"IF(A12=\" \", \"YES\", \"NO\")","v":"NO"}]
["Red River College is a leader in applied learning and innovation. Our talented team of employees is passionate about education, innovation and student success.  We offer competitive salaries, extensive benefits, and the opportunity for personal and professional growth in a rewarding career. ",null,null,null,null,null,null,null,null,null,null,"NO"]
[null,null,null,null,null,null,null,null,null,null,null,"NO"]
["Duties:",null,null,null,null,null,null,null,null,null,null,"NO"]
[{"$f":"'3 Duties & Requirements'!B3","v":0},null,null,null,null,null,null,null,null,null,null,"NO"]
[null,null,null,null,null,null,null,null,null,null,null,"NO"]
["Required Qualifications:",null,null,null,null,null,null,null,null,null,null,"NO"]
["·  ",{"$f":"IF('3 Duties & Requirements'!B8>0, '3 Duties & Requirements'!B8, \" \")","v":" "},null,null,null,null,null,null,null,null,null,{"$f":"IF(B19=\" \", \"YES\", \"NO\")","v":"YES"}]
["·  ",{"$f":"IF('3 Duties & Requirements'!B9>0, '3 Duties & Requirements'!B9, \" \")","v":" "},null,null,null,null,null,null,null,null,null,{"$f":"IF(B20=\" \", \"YES\", \"NO\")","v":"YES"}]
["·  ",{"$f":"IF('3 Duties & Requirements'!B10>0, '3 Duties & Requirements'!B10, \" \")","v":" "},null,null,null,null,null,null,null,null,null,"YES"]
["·  ",{"$f":"IF('3 Duties & Requirements'!B11>0, '3 Duties & Requirements'!B11, \" \")","v":" "},null,null,null,null,null,null,null,null,null,"YES"]
["·  ",{"$f":"IF('3 Duties & Requirements'!B12>0, '3 Duties & Requirements'!B12, \" \")","v":" "},null,null,null,null,null,null,null,null,null,"YES"]
["·  ",{"$f":"IF('3 Duties & Requirements'!B13>0, '3 Duties & Requirements'!B13, \" \")","v":" "},null,null,null,null,null,null,null,null,null,"YES"]
["·  ",{"$f":"IF('3 Duties & Requirements'!B14>0, '3 Duties & Requirements'!B14, \" \")","v":" "},null,null,null,null,null,null,null,null,null,"YES"]
["·  ",{"$f":"IF('3 Duties & Requirements'!B15>0, '3 Duties & Requirements'!B15, \" \")","v":" "},null,null,null,null,null,null,null,null,null,"YES"]
["·  ",{"$f":"IF('3 Duties & Requirements'!B16>0, '3 Duties & Requirements'!B16, \" \")","v":" "},null,null,null,null,null,null,null,null,null,"YES"]
["·  ",{"$f":"IF('3 Duties & Requirements'!B17>0, '3 Duties & Requirements'!B17, \" \")","v":" "},null,null,null,null,null,null,null,null,null,"YES"]
["·  ",{"$f":"IF('3 Duties & Requirements'!B18>0, '3 Duties & Requirements'!B18, \" \")","v":" "},null,null,null,null,null,null,null,null,null,"YES"]
["·  ",{"$f":"IF('3 Duties & Requirements'!B19>0, '3 Duties & Requirements'!B19, \" \")","v":" "},null,null,null,null,null,null,null,null,null,"YES"]
["·  ",{"$f":"IF('3 Duties & Requirements'!B20>0, '3 Duties & Requirements'!B20, \" \")","v":" "},null,null,null,null,null,null,null,null,null,"YES"]
["·  ",{"$f":"IF('3 Duties & Requirements'!B21>0, '3 Duties & Requirements'!B21, \" \")","v":" "},null,null,null,null,null,null,null,null,null,"YES"]
["·  ",{"$f":"IF('3 Duties & Requirements'!B22>0, '3 Duties & Requirements'!B22, \" \")","v":" "},null,null,null,null,null,null,null,null,null,"YES"]
["·  ",{"$f":"IF('3 Duties & Requirements'!B23>0, '3 Duties & Requirements'!B23, \" \")","v":" "},null,null,null,null,null,null,null,null,null,"YES"]
["·  ",{"$f":"IF('3 Duties & Requirements'!B24>0, '3 Duties & Requirements'!B24, \" \")","v":" "},null,null,null,null,null,null,null,null,null,"YES"]
["·  ",{"$f":"IF('3 Duties & Requirements'!B25>0, '3 Duties & Requirements'!B25, \" \")","v":" "},null,null,null,null,null,null,null,null,null,"YES"]
["·  ",{"$f":"IF('3 Duties & Requirements'!B26>0, '3 Duties & Requirements'!B26, \" \")","v":" "},null,null,null,null,null,null,null,null,null,"YES"]
["·  ",{"$f":"IF('3 Duties & Requirements'!B27>0, '3 Duties & Requirements'!B27, \" \")","v":" "},null,null,null,null,null,null,null,null,null,"YES"]
["·  ",{"$f":"IF('3 Duties & Requirements'!B28>0, '3 Duties & Requirements'!B28, \"REMOVE LINE\")","v":"Values Diversity, Equity, and Inclusion"},null,null,null,null,null,null,null,null,null,"NO"]
["·  ",{"$f":"IF('3 Duties & Requirements'!B29>0, '3 Duties & Requirements'!B29, \"REMOVE LINE\")","v":"Commitment to lifelong learning"},null,null,null,null,null,null,null,null,null,"NO"]
[null,null,null,null,null,null,null,null,null,null,null,"NO"]
["Assets:",null,null,null,null,null,null,null,null,null,null,"NO"]
["·  ",{"$f":"IF('3 Duties & Requirements'!B33>0, '3 Duties & Requirements'!B33, \" \")","v":" "},null,null,null,null,null,null,null,null,null,{"$f":"IF(B43=\" \", \"YES\", \"NO\")","v":"YES"}]
["·  ",{"$f":"IF('3 Duties & Requirements'!B34>0, '3 Duties & Requirements'!B34, \" \")","v":" "},null,null,null,null,null,null,null,null,null,{"$f":"IF(B44=\" \", \"YES\", \"NO\")","v":"YES"}]
["·  ",{"$f":"IF('3 Duties & Requirements'!B35>0, '3 Duties & Requirements'!B35, \" \")","v":" "},null,null,null,null,null,null,null,null,null,"YES"]
["·  ",{"$f":"IF('3 Duties & Requirements'!B36>0, '3 Duties & Requirements'!B36, \" \")","v":" "},null,null,null,null,null,null,null,null,null,"YES"]
["·  ",{"$f":"IF('3 Duties & Requirements'!B37>0, '3 Duties & Requirements'!B37, \" \")","v":" "},null,null,null,null,null,null,null,null,null,"YES"]
["·  ",{"$f":"IF('3 Duties & Requirements'!B38>0, '3 Duties & Requirements'!B38, \" \")","v":" "},null,null,null,null,null,null,null,null,null,"YES"]
["·  ",{"$f":"IF('3 Duties & Requirements'!B39>0, '3 Duties & Requirements'!B39, \" \")","v":" "},null,null,null,null,null,null,null,null,null,"YES"]
["·  ",{"$f":"IF('3 Duties & Requirements'!B40>0, '3 Duties & Requirements'!B40, \" \")","v":" "},null,null,null,null,null,null,null,null,null,"YES"]
[null,null,null,null,null,null,null,null,null,null,null,"NO"]
["Conditions of Employment:",null,null,null,null,null,null,null,null,null,null,"NO"]
["·  ",{"$f":"IF('3 Duties & Requirements'!B43>0, '3 Duties & Requirements'!B43, \"REMOVE LINE\")","v":"Applicants must be legally entitled to work in Canada"},null,null,null,null,null,null,null,null,null,"NO"]
["·  ",{"$f":"IF('3 Duties & Requirements'!B44>0, '3 Duties & Requirements'!B44, \"REMOVE LINE\")","v":"This position may be required to work evenings and/or weekends"},null,null,null,null,null,null,null,null,null,"NO"]
["·  ",{"$f":"IF(Variables!H77=1,\"\",IF(Variables!H77=2, Variables!$A$77,IF(Variables!H77=3, Variables!$A$78, IF(Variables!H77=4, Variables!$A$79, IF(Variables!H77=5, Variables!$A$80, IF(Variables!H77=6, Variables!$A$81,IF(Variables!H77=7, Variables!$A$82,\"\"))))))& IF(Variables!H77=8, Variables!$A$83, IF(Variables!H77=9, Variables!$A$84, IF(Variables!H77=10, Variables!$A$85, IF(Variables!H77=11, Variables!$A$86, IF(Variables!H77=12, Variables!$A$87, IF(Variables!H77=13, Variables!$A$88,\"\")))))))& IF(Variables!H77=14, Variables!$A$89,\"\")","v":""},null,null,null,null,null,null,null,null,null,{"$f":"IF(B55=\" \", \"YES\", \"NO\")","v":"NO"}]
["·  ",{"$f":"IF(Variables!H78=1,\"\",IF(Variables!H78=2, Variables!$A$77,IF(Variables!H78=3, Variables!$A$78, IF(Variables!H78=4, Variables!$A$79, IF(Variables!H78=5, Variables!$A$80, IF(Variables!H78=6, Variables!$A$81,IF(Variables!H78=7, Variables!$A$82,\"\"))))))& IF(Variables!H78=8, Variables!$A$83, IF(Variables!H78=9, Variables!$A$84, IF(Variables!H78=10, Variables!$A$85, IF(Variables!H78=11, Variables!$A$86, IF(Variables!H78=12, Variables!$A$87, IF(Variables!H78=13, Variables!$A$88,\" \")))))))& IF(Variables!H78=14, Variables!$A$89,\"\")","v":""},null,null,null,null,null,null,null,null,null,{"$f":"IF(B56=\" \", \"YES\", \"NO\")","v":"NO"}]
["·  ",{"$f":"IF(Variables!H79=1,\"\",IF(Variables!H79=2, Variables!$A$77,IF(Variables!H79=3, Variables!$A$78, IF(Variables!H79=4, Variables!$A$79, IF(Variables!H79=5, Variables!$A$80, IF(Variables!H79=6, Variables!$A$81,IF(Variables!H79=7, Variables!$A$82,\"\"))))))& IF(Variables!H79=8, Variables!$A$83, IF(Variables!H79=9, Variables!$A$84, IF(Variables!H79=10, Variables!$A$85, IF(Variables!H79=11, Variables!$A$86, IF(Variables!H79=12, Variables!$A$87, IF(Variables!H79=13, Variables!$A$88,\" \")))))))& IF(Variables!H79=14, Variables!$A$89,\"\")","v":""},null,null,null,null,null,null,null,null,null,"NO"]
["·  ",{"$f":"IF(Variables!H80=1,\"\",IF(Variables!H80=2, Variables!$A$77,IF(Variables!H80=3, Variables!$A$78, IF(Variables!H80=4, Variables!$A$79, IF(Variables!H80=5, Variables!$A$80, IF(Variables!H80=6, Variables!$A$81,IF(Variables!H80=7, Variables!$A$82,\"\"))))))& IF(Variables!H80=8, Variables!$A$83, IF(Variables!H80=9, Variables!$A$84, IF(Variables!H80=10, Variables!$A$85, IF(Variables!H80=11, Variables!$A$86, IF(Variables!H80=12, Variables!$A$87, IF(Variables!H80=13, Variables!$A$88,\" \")))))))& IF(Variables!H80=14, Variables!$A$89,\"\")","v":""},null,null,null,null,null,null,null,null,null,"NO"]
["·  ",{"$f":"IF(Variables!H81=1,\"\",IF(Variables!H81=2, Variables!$A$77,IF(Variables!H81=3, Variables!$A$78, IF(Variables!H81=4, Variables!$A$79, IF(Variables!H81=5, Variables!$A$80, IF(Variables!H81=6, Variables!$A$81,IF(Variables!H81=7, Variables!$A$82,\"\"))))))& IF(Variables!H81=8, Variables!$A$83, IF(Variables!H81=9, Variables!$A$84, IF(Variables!H81=10, Variables!$A$85, IF(Variables!H81=11, Variables!$A$86, IF(Variables!H81=12, Variables!$A$87, IF(Variables!H81=13, Variables!$A$88,\"\")))))))& IF(Variables!H81=14, Variables!$A$89,\"\")","v":""},null,null,null,null,null,null,null,null,null,"NO"]
["·  ",{"$f":"IF('3 Duties & Requirements'!B50>0, '3 Duties & Requirements'!B50, \" \")","v":" "},null,null,null,null,null,null,null,null,null,"YES"]
["·  ",{"$f":"IF('3 Duties & Requirements'!B51>0, '3 Duties & Requirements'!B51, \" \")","v":" "},null,null,null,null,null,null,null,null,null,"YES"]
["·  ",{"$f":"IF('3 Duties & Requirements'!B52>0, '3 Duties & Requirements'!B52, \" \")","v":" "},null,null,null,null,null,null,null,null,null,"YES"]
[null,null,null,null,null,null,null,null,null,null,null,"NO"]
["We seek diversity in our workplace.  Indigenous persons, \nwomen, visible minorities and individuals with disabilities are encouraged to apply.",null,null,null,null,null,null,null,null,null,null,"NO"]
[null,null,null,null,null,null,null,null,null,null,null,"NO"]
["Competition Number:",null,{"$f":"'2 Position Details'!C19","v":0},null,null,null,null,null,null,null,null,"NO"]
["Closing Date:",null,{"$f":"'2 Position Details'!E19","v":0},null,null,null,null,null,null,null,null,"NO"]
["Salary Range:",null,{"$f":"IF(Salaries!A105>1, Salaries!B106, \"TBD\")","v":"TBD"},null,{"$f":"IF(Variables!B70=1, Variables!A73, \"\")","v":""},null,null,null,null,null,null,"NO"]
[null,null,{"$f":"IF(Salaries!A105=23,Variables!A64,IF(Salaries!A105=30,Variables!A67,IF(Salaries!A105=31,Variables!A67,IF(Salaries!A105=32,Variables!A67,IF(Salaries!A105=33,Variables!A67,IF(Salaries!A105=34,Variables!A67,\"\")))))&IF(Salaries!A105=71,Variables!A64,IF(Salaries!A105=78,Variables!A67,IF(Salaries!A105=79,Variables!A67,IF(Salaries!A105=80,Variables!A67,IF(Salaries!A105=81,Variables!A67,IF(Salaries!A105=82,Variables!A67,\"\")))))))","v":""},null,null,null,null,null,null,null,null,{"$f":"IF(C69=\"\", \"YES\", \"NO\")","v":"YES"}]
[null,null,null,null,null,null,null,null,null,null,null,"NO"]
["Apply to Red River College by email: humanresources@rrc.ca",null,null,null,null,null,null,null,null,null,null,"NO"]
[null,null,null,null,null,null,null,null,null,null,null,"NO"]

{"sheet":"Variables","index":10,"n_rows":497505,"n_cols":356,"rows_kept":562,"cut":true,"hidden":true,"merged":[],"bounds":{"rows_first":250,"rows_last":62,"rows_between":250,"halvings":3}}
["Internal/External"]
["College Wide Internal","INTERNAL - OPEN TO RRC EMPLOYEES ONLY"]
["Department Internal",{"$f":"UPPER('2 Position Details'!C3)","v":""},{"$f":"IF(Variables!B5=2,\"INTERNAL - OPEN TO CURRENT \"&B3&\" STAFF ONLY\")","v":false}]
["External","EXPRESSION OF INTEREST"]
["Expression of Interest",3]
[]
[]
["Employment Type",null,null,null,"Screening Internal"]
["Full-Time",1,{"$f":"IF(B9=1, A9, IF(B9=2, A10, IF(B9=3, A11, IF(B9=4, A12, IF(B9=5,A13, IF(B9=6, A14, IF(B9=7, A15, \"\")))))))","v":"Full-Time"}]
["Full-Time, Term",null,null,null,"Yes"]
["Part-Time"]
["Part-Time, Term"]
["Casual"]
["Full-Time, Contract"]
["Part-Time, Contract"]
[]
["Term?"]
[{"$f":"IF(C9=\"Full-Time, Term\", \" (Term)\", IF(C9=\"Part-Time, Term\", \" (Term)\", \"\"))","v":""}]
[]
["Positions Available"]
[" ",1]
["2 "]
["3 "]
["4 "]
["5 "]
[]
["Possible Extension"]
["(select)"]
["Yes","with Possibility of an Extension ","Possibility of an Extension "]
["No",1]
[]
["Info Line"]
["# positions","Emp Type",null,null,null,"Start Date",null,"End Date",null,null,"Ext Date"]
[{"$f":"IF(B21=1,\"\",IF(B21=2,A22,IF(B21=3,A23,IF(B21=4,A24,IF(B21=5,A25,\"\")))))","v":""},{"$f":"C9","v":"Full-Time"}," Position Available "," Positions Available ",{"$f":"IF(A34=A22, D34, IF(A34=A23, D34, IF(A34=A24, D34, IF(A34=A25, D34, C34))))","v":" Position Available "},{"$f":"IF(endDate>0, \"(\", \"\")","v":""},{"$f":"IF(startDate>0, startDate&\" \", \"\")","v":""},{"$f":"IF(endDate>0, \"up to \", \"\")","v":""},{"$f":"IF(endDate>0, endDate&\") \", \"\")","v":""},{"$f":"IF(B30=2, Variables!B29, \"\")","v":""},{"$f":"IF('2 Position Details'!E8>0, \"to \", \"\")","v":""},{"$f":"IF('2 Position Details'!E8>0, '2 Position Details'!E8, \"\")","v":""}]
[{"$f":"CONCATENATE(A34,B34,E34,F34,G34,H34,I34,J34,K34,L34)","v":"Full-Time Position Available "}]
[{"$f":"CONCATENATE(F34,G34,H34,I34,J34,K34,L34)","v":""}]
[]
["New Job Ad"]
[{"$f":"IF(B21=1,\"\",IF(B21=2,A22,IF(B21=3,A23,IF(B21=4,A24,IF(B21=5,A25,\"\")))))","v":""},{"$f":"C9","v":"Full-Time"}," Position Available ","' Positions Available ",{"$f":"IF(A34=A22, D34, IF(A34=A23, D34, IF(A34=A24, D34, IF(A34=A25, D34, C34))))","v":" Position Available "},{"$f":"IF((AND(startDate=0, endDate=0)), \"\", IF(AND(startDate>1, endDate=0), \"Anticipated Start \", \"Anticipated \"))","v":""},{"$f":"IF(startDate>0, startDate&\" \", \"\")","v":""},{"$f":"IF(endDate>0, \"up to \", \"\")","v":""},{"$f":"IF(endDate>0, endDate&\" \", \"\")","v":""},{"$f":"IF(B30=2, Variables!C29, \"\")","v":""},{"$f":"IF('2 Position Details'!E8>0, \"to \", \"\")","v":""},{"$f":"IF('2 Position Details'!E8>0, '2 Position Details'!E8, \"\")","v":""}]
[{"$f":"CONCATENATE(A34,B34,E34)","v":"Full-Time Position Available "}]
[{"$f":"CONCATENATE(F39,G39,H39,I39)","v":""}]
[{"$f":"CONCATENATE(J39,K39,L39)","v":""}]
[]
["Eligibility List"]
["No (Standard Statement)",1]
["3 months","This competition may be used to establish a 3 month eligibility list of qualified candidates for future vacancies."]
["6 months","This competition may be used to establish a 6 month eligibility list of qualified candidates for future vacancies."]
["12 months","This competition may be used to establish a 12 month eligibility list of qualified candidates for future vacancies."]
[]
["Campus Location"]
["Choose Location Below",1]
["Notre Dame Campus","Notre Dame Campus","(Winnipeg, MB)"]
["Exchange District Campus","Exchange District Campus","(Winnipeg, MB)"]
["Language Training Centre","Language Training Centre","(Winnipeg, MB)"]
["Stevenson Campus/Winnipeg","Stevenson Campus","(Winnipeg, MB)"]
["Interlake Campus/Selkirk","Interlake Campus/Selkirk, MB ","(40km outside of Winnipeg, MB)"]
["Peguis-Fisher River Campus","Peguis-Fisher River Campus ","(190km outside of Winnipeg, MB)"]
["Portage la Prairie Campus ","ortage la Prairie Campus ","(90km outside of Winnipeg, MB)"]
["Steinbach Campus","Steinbach Campus ","(70km outside of Winnipeg, MB)"]
["Stevenson Campus/Southport","Stevenson Campus/Southport, MB ","(90km outside of Winnipeg, MB)"]
["Winkler Campus","Winkler Campus ","(120km outside of Winnipeg, MB)"]
[]
["INS Educational Supplement"]
["*The successful candidate with a Masters or PhD in a related field will receive an Educational Supplement of $2,725 or $5,450 per annum, respectively, pro-rated on an hourly basis. "]
[]
["ITS Market Supplement"]
["*The successful candidate will receive a market supplement of $4,710 to $6,449 per annum respectively, respectively, pro-rated on an hourly basis. "]
[]
["Salary Increase Effective"]
["Yes",2]
["No"]
["(Effective ",{"$f":"Salaries!G1","v":"June 20, 2020"}," salary will change to ",{"$f":"Salaries!B108","v":{"$error":"#N/A"}},")"]
[{"$f":"CONCATENATE(A72,B72,C72,D72,E72)","v":{"$error":"#N/A"}}]
[]
["Conditions of Employment"]
["Select, if Required"]
["This position may be required to work overtime",null,null,null,null,null,null,1]
["This position may be required to travel",null,null,null,null,null,null,1]
["This position is subject to audiometric assessments ",null,null,null,null,null,null,1]
["Incumbent must hold a valid College of Registered Nurses of Manitoba Certificate",null,null,null,null,null,null,1]
["Incumbent must hold a valid and Current CPR Certificate",null,null,null,null,null,null,1]
["Incumbent must hold a valid and current First Aid Certificate"]
["Incumbent must provide a current and satisfactory Criminal Records Check"]
["Incumbent must provide a current and satisfactory Criminal Records Check, including a Vulnerable Persons Sector Check"]
["Incumbent must provide a current and satisfactory Child Abuse Registry Check"]
["Incumbent must provide a current and satisfactory Adult Abuse Registry Check"]
["Incumbent must provide a current and satisfactory Child Abuse Registry Check and Adult Abuse Registry Check"]
["Incumbent must be physically capable of performing the duties and responsibilities of the position. A medical certificate from a certified physician will be required."]
["Instructors are required to complete a Certificate in Adult Education (CAE)"]
["May be required to work at various RRC campuses "]
[]
["Screening"]
[null,null,null,null,null,"S1 ",null,"S2 ",null,"S3 ",null,"S4 ",null,"S5 ",null,"S6 ",null,"S7 "]
["Essential1",false,"R",{"$f":"IF($B94=TRUE,'3 Duties & Requirements'!B8,0)","v":0},{"$f":"IF(D94>0, 1, 0)","v":0},{"$f":"IF($E94=1, $D94, \"\")","v":""},{"$f":"IF($E94=1, $C94, \"\")","v":""},{"$f":"IF($E94=2, $D94, \"\")","v":""},{"$f":"IF($E94=2, $C94, \"\")","v":""},{"$f":"IF($E94=3, $D94, \"\")","v":""},{"$f":"IF($E94=3, $C94, \"\")","v":""},{"$f":"IF($E94=4, $D94, \"\")","v":""},{"$f":"IF($E94=4, $C94, \"\")","v":""},{"$f":"IF($E94=5, $D94, \"\")","v":""},{"$f":"IF($E94=5, $C94, \"\")","v":""},{"$f":"IF($E94=6, $D94, \"\")","v":""},{"$f":"IF($E94=6, $C94, \"\")","v":""},{"$f":"IF($E94=7, $D94, \"\")","v":""},{"$f":"IF($E94=7, $C94, \"\")","v":""}]
["Essential2",false,"R",{"$f":"IF($B95=TRUE,'3 Duties & Requirements'!B9,0)","v":0},{"$f":"IF(D95>0,MAX(E94)+1,0)","v":0},"","","","","","","","","","","","","",""]
["Essential3",false,"R",{"$f":"IF($B96=TRUE,'3 Duties & Requirements'!B10,0)","v":0},{"$f":"IF(D96>0,MAX(E94:E95)+1,0)","v":0},"","","","","","","","","","","","","",""]
["Essential4",false,"R",{"$f":"IF($B97=TRUE,'3 Duties & Requirements'!B11,0)","v":0},{"$f":"IF(D97>0,MAX(E94:E96)+1,0)","v":0},"","","","","","","","","","","","","",""]
["Essential5",false,"R",{"$f":"IF($B98=TRUE,'3 Duties & Requirements'!B12,0)","v":0},{"$f":"IF(D98>0,MAX(E94:E97)+1,0)","v":0},"","","","","","","","","","","","","",""]
["Essential6",false,"R",{"$f":"IF($B99=TRUE,'3 Duties & Requirements'!B13,0)","v":0},{"$f":"IF(D99>0,MAX(E94:E98)+1,0)","v":0},"","","","","","","","","","","","","",""]
["Essential7",false,"R",{"$f":"IF($B100=TRUE,'3 Duties & Requirements'!B14,0)","v":0},{"$f":"IF(D100>0,MAX(E94:E99)+1,0)","v":0},"","","","","","","","","","","","","",""]
["Essential8",false,"R",{"$f":"IF($B101=TRUE,'3 Duties & Requirements'!B15,0)","v":0},{"$f":"IF(D101>0,MAX(E94:E100)+1,0)","v":0},"","","","","","","","","","","","","",""]
["Essential9",false,"R",{"$f":"IF($B102=TRUE,'3 Duties & Requirements'!B16,0)","v":0},{"$f":"IF(D102>0,MAX(E94:E101)+1,0)","v":0},"","","","","","","","","","","","","",""]
["Essential10",false,"R",{"$f":"IF($B103=TRUE,'3 Duties & Requirements'!B17,0)","v":0},{"$f":"IF(D103>0,MAX(E94:E102)+1,0)","v":0},"","","","","","","","","","","","","",""]
["Essential11",false,"R",{"$f":"IF($B104=TRUE,'3 Duties & Requirements'!B18,0)","v":0},{"$f":"IF(D104>0,MAX(E94:E103)+1,0)","v":0},"","","","","","","","","","","","","",""]
["Essential12",false,"R",{"$f":"IF($B105=TRUE,'3 Duties & Requirements'!B19,0)","v":0},{"$f":"IF(D105>0,MAX(E94:E104)+1,0)","v":0},"","","","","","","","","","","","","",""]
["Essential13",false,"R",{"$f":"IF($B106=TRUE,'3 Duties & Requirements'!B20,0)","v":0},{"$f":"IF(D106>0,MAX(E94:E105)+1,0)","v":0},"","","","","","","","","","","","","",""]
["Essential14",false,"R",{"$f":"IF($B107=TRUE,'3 Duties & Requirements'!B21,0)","v":0},{"$f":"IF(D107>0,MAX(E94:E106)+1,0)","v":0},"","","","","","","","","","","","","",""]
["Essential15",false,"R",{"$f":"IF($B108=TRUE,'3 Duties & Requirements'!B22,0)","v":0},{"$f":"IF(D108>0,MAX(E94:E107)+1,0)","v":0},"","","","","","","","","","","","","",""]
["Essential16",false,"R",{"$f":"IF($B109=TRUE,'3 Duties & Requirements'!B23,0)","v":0},{"$f":"IF(D109>0,MAX(E94:E108)+1,0)","v":0},"","","","","","","","","","","","","",""]
["Essential17",false,"R",{"$f":"IF($B110=TRUE,'3 Duties & Requirements'!B24,0)","v":0},{"$f":"IF(D110>0,MAX(E94:E109)+1,0)","v":0},"","","","","","","","","","","","","",""]
["Essential18",false,"R",{"$f":"IF($B111=TRUE,'3 Duties & Requirements'!B25,0)","v":0},{"$f":"IF(D111>0,MAX(E94:E110)+1,0)","v":0},"","","","","","","","","","","","","",""]
["Essential19",false,"R",{"$f":"IF($B112=TRUE,'3 Duties & Requirements'!B26,0)","v":0},{"$f":"IF(D112>0,MAX(E94:E111)+1,0)","v":0},"","","","","","","","","","","","","",""]
["Essential20",false,"R",{"$f":"IF($B113=TRUE,'3 Duties & Requirements'!B27,0)","v":0},{"$f":"IF(D113>0,MAX(E94:E112)+1,0)","v":0},"","","","","","","","","","","","","",""]
["Asset1",false,"A",{"$f":"IF($B114=TRUE,'3 Duties & Requirements'!B33,0)","v":0},{"$f":"IF(D114>0,MAX(E94:E113)+1,0)","v":0},"","","","","","","","","","","","","",""]
["Asset2",false,"A",{"$f":"IF($B115=TRUE,'3 Duties & Requirements'!B34,0)","v":0},{"$f":"IF(D115>0,MAX(E94:E114)+1,0)","v":0},"","","","","","","","","","","","","",""]
["Asset3",false,"A",{"$f":"IF($B116=TRUE,'3 Duties & Requirements'!B35,0)","v":0},{"$f":"IF(D116>0,MAX(E104:E115)+1,0)","v":0},"","","","","","","","","","","","","",""]
["Asset4",false,"A",{"$f":"IF($B117=TRUE,'3 Duties & Requirements'!B36,0)","v":0},{"$f":"IF(D117>0,MAX(E94:E116)+1,0)","v":0},"","","","","","","","","","","","","",""]
["Asset5",false,"A",{"$f":"IF($B118=TRUE,'3 Duties & Requirements'!B37,0)","v":0},{"$f":"IF(D118>0,MAX(E94:E117)+1,0)","v":0},"","","","","","","","","","","","","",""]
["Asset6",false,"A",{"$f":"IF($B119=TRUE,'3 Duties & Requirements'!B38,0)","v":0},{"$f":"IF(D119>0,MAX(E94:E118)+1,0)","v":0},"","","","","","","","","","","","","",""]
["Asset7",false,"A",{"$f":"IF($B120=TRUE,'3 Duties & Requirements'!B39,0)","v":0},0,"","","","","","","","","","","","","",""]
["Asset8",false,"A",{"$f":"IF($B121=TRUE,'3 Duties & Requirements'!B40,0)","v":0},{"$f":"IF(D121>0,MAX(E94:E120)+1,0)","v":0},"","","","","","","","","","","","","",""]
[null,null,null,null,"RESULT",{"$f":" CONCATENATE(F94,F95,F96,F97,F98,F99,F100,F101,F102,F103,F104,F105,F106,F107,F108,F109,F110,F111,F112,F113,F114,F115,F116,F117,F118,F119,F120,F121)","v":""},{"$f":" CONCATENATE(G94,G95,G96,G97,G98,G99,G100,G101,G102,G103,G104,G105,G106,G107,G108,G109,G110,G111,G112,G113,G114,G115,G116,G117,G118,G119,G120,G121)","v":""},"","","","","","","","","","","",""]
[]
[null,null,null,null,null,null,null,null,null,null,null,null,null,{"$f":"IF(P122>\"\", \"REQ\", \"\")","v":""},null,{"$f":"IF(R122>\"\", \"REQ\", \"\")","v":""}]
["Screening Sheet "]
[]
["Y"]
["N"]
[]
["Interview?",null,null,1,2,3,4,5,6,7,8,9,10,11,12,13,14,15,16,17,18,19,20,21,22,23,24,25,26,27,28,29,30,31,32,33,34,35,36,37,38,39,40,41,42,43,44,45,46,47,48,49,50,51,52,53,54,55,56,57,58,59,60,61,62,63,64,65,66,67,68,69,70,71,72,73,74,75,76,77,78,79,80,81,82,83,84,85,86,87,88,89,90,91,92,93,94,95,96,97,98,99,100,101,102,103,104,105,106,107,108,109,110,111,112,113,114,115,116,117,118,119,120,121,122,123,124,125,126,127,128,129,130,131,132,133,134,135,136,137,138,139,140,141,142,143,144,145,146,147,148,149,150,151,152,153,154,155,156,157,158,159,160,161,162,163,164,165,166,167,168,169,170,171,172,173,174,175,176,177,178,179,180,181,182,183,184,185,186,187,188,189,190,191,192,193,194,195,196,197,198,199,200,201,202,203,204,205,206,207,208,209,210,211,212,213,214,215,216,217,218,219,220,221,222,223,224,225,226,227,228,229,230,231,232,233,234,235,236,237,238,239,240,241,242,243,244,245,246,247,248,249,250,251,252,253,254,255,256,257,258,259,260,261,262,263,264,265,266,267,268,269,270,271,272,273,274,275,276,277,278,279,280,281,282,283,284,285,286,287,288,289,290,291,292,293,294,295,296,297,298,299,300,301,302,303,304,305,306,307,308,309,310,311,312,313,314,315,316,317,318,319,320,321,322,323,324,325,326,327,328,329,330,331,332,333,334,335,336,337,338,339,340,341,342,343,344,345,346,347,348,349,350,null,"concat1","concat2"]
[{"$f":"IF('5 Screening'!L17=\"y\", \"true\", \"false\")","v":"false"},{"$f":"IF($A131=\"TRUE\",'5 Screening'!B17,0)","v":0},{"$f":"IF(B131>0, 1, 0)","v":0},{"$f":"IF($C131=1, $B131, \"\")","v":""},{"$f":"IF($C131=2, $B131, \"\")","v":""},{"$f":"IF($C131=3, $B131, \"\")","v":""},{"$f":"IF($C131=4, $B131, \"\")","v":""},{"$f":"IF($C131=5, $B131, \"\")","v":""},{"$f":"IF($C131=6, $B131, \"\")","v":""},{"$f":"IF($C131=7, $B131, \"\")","v":""},{"$f":"IF($C131=8, $B131, \"\")","v":""},{"$f":"IF($C131=9, $B131, \"\")","v":""},{"$f":"IF($C131=10, $B131, \"\")","v":""},{"$f":"IF($C131=11, $B131, \"\")","v":""},{"$f":"IF($C131=12, $B131, \"\")","v":""},{"$f":"IF($C131=13, $B131, \"\")","v":""},{"$f":"IF($C131=14, $B131, \"\")","v":""},{"$f":"IF($C131=15, $B131, \"\")","v":""},{"$f":"IF($C131=16, $B131, \"\")","v":""},{"$f":"IF($C131=17, $B131, \"\")","v":""},{"$f":"IF($C131=18, $B131, \"\")","v":""},{"$f":"IF($C131=19, $B131, \"\")","v":""},{"$f":"IF($C131=20, $B131, \"\")","v":""},{"$f":"IF($C131=21, $B131, \"\")","v":""},{"$f":"IF($C131=22, $B131, \"\")","v":""},{"$f":"IF($C131=23, $B131, \"\")","v":""},{"$f":"IF($C131=24, $B131, \"\")","v":""},{"$f":"IF($C131=25, $B131, \"\")","v":""},{"$f":"IF($C131=26, $B131, \"\")","v":""},{"$f":"IF($C131=27, $B131, \"\")","v":""},{"$f":"IF($C131=28, $B131, \"\")","v":""},{"$f":"IF($C131=29, $B131, \"\")","v":""},{"$f":"IF($C131=30, $B131, \"\")","v":""},{"$f":"IF($C131=31, $B131, \"\")","v":""},{"$f":"IF($C131=32, $B131, \"\")","v":""},{"$f":"IF($C131=33, $B131, \"\")","v":""},{"$f":"IF($C131=34, $B131, \"\")","v":""},{"$f":"IF($C131=35, $B131, \"\")","v":""},{"$f":"IF($C131=36, $B131, \"\")","v":""},{"$f":"IF($C131=37, $B131, \"\")","v":""},{"$f":"IF($C131=38, $B131, \"\")","v":""},{"$f":"IF($C131=39, $B131, \"\")","v":""},{"$f":"IF($C131=40, $B131, \"\")","v":""},{"$f":"IF($C131=41, $B131, \"\")","v":""},{"$f":"IF($C131=42, $B131, \"\")","v":""},{"$f":"IF($C131=43, $B131, \"\")","v":""},{"$f":"IF($C131=44, $B131, \"\")","v":""},{"$f":"IF($C131=45, $B131, \"\")","v":""},{"$f":"IF($C131=46, $B131, \"\")","v":""},{"$f":"IF($C131=47, $B131, \"\")","v":""},{"$f":"IF($C131=48, $B131, \"\")","v":""},{"$f":"IF($C131=49, $B131, \"\")","v":""},{"$f":"IF($C131=50, $B131, \"\")","v":""},{"$f":"IF($C131=51, $B131, \"\")","v":""},{"$f":"IF($C131=52, $B131, \"\")","v":""},{"$f":"IF($C131=53, $B131, \"\")","v":""},{"$f":"IF($C131=54, $B131, \"\")","v":""},{"$f":"IF($C131=55, $B131, \"\")","v":""},{"$f":"IF($C131=56, $B131, \"\")","v":""},{"$f":"IF($C131=57, $B131, \"\")","v":""},{"$f":"IF($C131=58, $B131, \"\")","v":""},{"$f":"IF($C131=59, $B131, \"\")","v":""},{"$f":"IF($C131=60, $B131, \"\")","v":""},{"$f":"IF($C131=61, $B131, \"\")","v":""},{"$f":"IF($C131=62, $B131, \"\")","v":""},{"$f":"IF($C131=63, $B131, \"\")","v":""},{"$f":"IF($C131=64, $B131, \"\")","v":""},{"$f":"IF($C131=65, $B131, \"\")","v":""},{"$f":"IF($C131=66, $B131, \"\")","v":""},{"$f":"IF($C131=67, $B131, \"\")","v":""},{"$f":"IF($C131=68, $B131, \"\")","v":""},{"$f":"IF($C131=69, $B131, \"\")","v":""},{"$f":"IF($C131=70, $B131, \"\")","v":""},{"$f":"IF($C131=71, $B131, \"\")","v":""},{"$f":"IF($C131=72, $B131, \"\")","v":""},{"$f":"IF($C131=73, $B131, \"\")","v":""},{"$f":"IF($C131=74, $B131, \"\")","v":""},{"$f":"IF($C131=75, $B131, \"\")","v":""},{"$f":"IF($C131=76, $B131, \"\")","v":""},{"$f":"IF($C131=77, $B131, \"\")","v":""},{"$f":"IF($C131=78, $B131, \"\")","v":""},{"$f":"IF($C131=79, $B131, \"\")","v":""},{"$f":"IF($C131=80, $B131, \"\")","v":""},{"$f":"IF($C131=81, $B131, \"\")","v":""},{"$f":"IF($C131=82, $B131, \"\")","v":""},{"$f":"IF($C131=83, $B131, \"\")","v":""},{"$f":"IF($C131=84, $B131, \"\")","v":""},{"$f":"IF($C131=85, $B131, \"\")","v":""},{"$f":"IF($C131=86, $B131, \"\")","v":""},{"$f":"IF($C131=87, $B131, \"\")","v":""},{"$f":"IF($C131=88, $B131, \"\")","v":""},{"$f":"IF($C131=89, $B131, \"\")","v":""},{"$f":"IF($C131=90, $B131, \"\")","v":""},{"$f":"IF($C131=91, $B131, \"\")","v":""},{"$f":"IF($C131=92, $B131, \"\")","v":""},{"$f":"IF($C131=93, $B131, \"\")","v":""},{"$f":"IF($C131=94, $B131, \"\")","v":""},{"$f":"IF($C131=95, $B131, \"\")","v":""},{"$f":"IF($C131=96, $B131, \"\")","v":""},{"$f":"IF($C131=97, $B131, \"\")","v":""},{"$f":"IF($C131=98, $B131, \"\")","v":""},{"$f":"IF($C131=99, $B131, \"\")","v":""},{"$f":"IF($C131=100, $B131, \"\")","v":""},{"$f":"IF($C131=101, $B131, \"\")","v":""},{"$f":"IF($C131=102, $B131, \"\")","v":""},{"$f":"IF($C131=103, $B131, \"\")","v":""},{"$f":"IF($C131=104, $B131, \"\")","v":""},{"$f":"IF($C131=105, $B131, \"\")","v":""},{"$f":"IF($C131=106, $B131, \"\")","v":""},{"$f":"IF($C131=107, $B131, \"\")","v":""},{"$f":"IF($C131=108, $B131, \"\")","v":""},{"$f":"IF($C131=109, $B131, \"\")","v":""},{"$f":"IF($C131=110, $B131, \"\")","v":""},{"$f":"IF($C131=111, $B131, \"\")","v":""},{"$f":"IF($C131=112, $B131, \"\")","v":""},{"$f":"IF($C131=113, $B131, \"\")","v":""},{"$f":"IF($C131=114, $B131, \"\")","v":""},{"$f":"IF($C131=115, $B131, \"\")","v":""},{"$f":"IF($C131=116, $B131, \"\")","v":""},{"$f":"IF($C131=117, $B131, \"\")","v":""},{"$f":"IF($C131=118, $B131, \"\")","v":""},{"$f":"IF($C131=119, $B131, \"\")","v":""},{"$f":"IF($C131=120, $B131, \"\")","v":""},{"$f":"IF($C131=121, $B131, \"\")","v":""},{"$f":"IF($C131=122, $B131, \"\")","v":""},{"$f":"IF($C131=123, $B131, \"\")","v":""},{"$f":"IF($C131=124, $B131, \"\")","v":""},{"$f":"IF($C131=125, $B131, \"\")","v":""},{"$f":"IF($C131=126, $B131, \"\")","v":""},{"$f":"IF($C131=127, $B131, \"\")","v":""},{"$f":"IF($C131=128, $B131, \"\")","v":""},{"$f":"IF($C131=129, $B131, \"\")","v":""},{"$f":"IF($C131=130, $B131, \"\")","v":""},{"$f":"IF($C131=131, $B131, \"\")","v":""},{"$f":"IF($C131=132, $B131, \"\")","v":""},{"$f":"IF($C131=133, $B131, \"\")","v":""},{"$f":"IF($C131=134, $B131, \"\")","v":""},{"$f":"IF($C131=135, $B131, \"\")","v":""},{"$f":"IF($C131=136, $B131, \"\")","v":""},{"$f":"IF($C131=137, $B131, \"\")","v":""},{"$f":"IF($C131=138, $B131, \"\")","v":""},{"$f":"IF($C131=139, $B131, \"\")","v":""},{"$f":"IF($C131=140, $B131, \"\")","v":""},{"$f":"IF($C131=141, $B131, \"\")","v":""},{"$f":"IF($C131=142, $B131, \"\")","v":""},{"$f":"IF($C131=143, $B131, \"\")","v":""},{"$f":"IF($C131=144, $B131, \"\")","v":""},{"$f":"IF($C131=145, $B131, \"\")","v":""},{"$f":"IF($C131=146, $B131, \"\")","v":""},{"$f":"IF($C131=147, $B131, \"\")","v":""},{"$f":"IF($C131=148, $B131, \"\")","v":""},{"$f":"IF($C131=149, $B131, \"\")","v":""},{"$f":"IF($C131=150, $B131, \"\")","v":""},{"$f":"IF($C131=151, $B131, \"\")","v":""},{"$f":"IF($C131=152, $B131, \"\")","v":""},{"$f":"IF($C131=153, $B131, \"\")","v":""},{"$f":"IF($C131=154, $B131, \"\")","v":""},{"$f":"IF($C131=155, $B131, \"\")","v":""},{"$f":"IF($C131=156, $B131, \"\")","v":""},{"$f":"IF($C131=157, $B131, \"\")","v":""},{"$f":"IF($C131=158, $B131, \"\")","v":""},{"$f":"IF($C131=159, $B131, \"\")","v":""},{"$f":"IF($C131=160, $B131, \"\")","v":""},{"$f":"IF($C131=161, $B131, \"\")","v":""},{"$f":"IF($C131=162, $B131, \"\")","v":""},{"$f":"IF($C131=163, $B131, \"\")","v":""},{"$f":"IF($C131=164, $B131, \"\")","v":""},{"$f":"IF($C131=165, $B131, \"\")","v":""},{"$f":"IF($C131=166, $B131, \"\")","v":""},{"$f":"IF($C131=167, $B131, \"\")","v":""},{"$f":"IF($C131=168, $B131, \"\")","v":""},{"$f":"IF($C131=169, $B131, \"\")","v":""},{"$f":"IF($C131=170, $B131, \"\")","v":""},{"$f":"IF($C131=171, $B131, \"\")","v":""},{"$f":"IF($C131=172, $B131, \"\")","v":""},{"$f":"IF($C131=173, $B131, \"\")","v":""},{"$f":"IF($C131=174, $B131, \"\")","v":""},{"$f":"IF($C131=175, $B131, \"\")","v":""},{"$f":"IF($C131=176, $B131, \"\")","v":""},{"$f":"IF($C131=177, $B131, \"\")","v":""},{"$f":"IF($C131=178, $B131, \"\")","v":""},{"$f":"IF($C131=179, $B131, \"\")","v":""},{"$f":"IF($C131=180, $B131, \"\")","v":""},{"$f":"IF($C131=181, $B131, \"\")","v":""},{"$f":"IF($C131=182, $B131, \"\")","v":""},{"$f":"IF($C131=183, $B131, \"\")","v":""},{"$f":"IF($C131=184, $B131, \"\")","v":""},{"$f":"IF($C131=185, $B131, \"\")","v":""},{"$f":"IF($C131=186, $B131, \"\")","v":""},{"$f":"IF($C131=187, $B131, \"\")","v":""},{"$f":"IF($C131=188, $B131, \"\")","v":""},{"$f":"IF($C131=189, $B131, \"\")","v":""},{"$f":"IF($C131=190, $B131, \"\")","v":""},{"$f":"IF($C131=191, $B131, \"\")","v":""},{"$f":"IF($C131=192, $B131, \"\")","v":""},{"$f":"IF($C131=193, $B131, \"\")","v":""},{"$f":"IF($C131=194, $B131, \"\")","v":""},{"$f":"IF($C131=195, $B131, \"\")","v":""},{"$f":"IF($C131=196, $B131, \"\")","v":""},{"$f":"IF($C131=197, $B131, \"\")","v":""},{"$f":"IF($C131=198, $B131, \"\")","v":""},{"$f":"IF($C131=199, $B131, \"\")","v":""},{"$f":"IF($C131=200, $B131, \"\")","v":""},{"$f":"IF($C131=201, $B131, \"\")","v":""},{"$f":"IF($C131=202, $B131, \"\")","v":""},{"$f":"IF($C131=203, $B131, \"\")","v":""},{"$f":"IF($C131=204, $B131, \"\")","v":""},{"$f":"IF($C131=205, $B131, \"\")","v":""},{"$f":"IF($C131=206, $B131, \"\")","v":""},{"$f":"IF($C131=207, $B131, \"\")","v":""},{"$f":"IF($C131=208, $B131, \"\")","v":""},{"$f":"IF($C131=209, $B131, \"\")","v":""},{"$f":"IF($C131=210, $B131, \"\")","v":""},{"$f":"IF($C131=211, $B131, \"\")","v":""},{"$f":"IF($C131=212, $B131, \"\")","v":""},{"$f":"IF($C131=213, $B131, \"\")","v":""},{"$f":"IF($C131=214, $B131, \"\")","v":""},{"$f":"IF($C131=215, $B131, \"\")","v":""},{"$f":"IF($C131=216, $B131, \"\")","v":""},{"$f":"IF($C131=217, $B131, \"\")","v":""},{"$f":"IF($C131=218, $B131, \"\")","v":""},{"$f":"IF($C131=219, $B131, \"\")","v":""},{"$f":"IF($C131=220, $B131, \"\")","v":""},{"$f":"IF($C131=221, $B131, \"\")","v":""},{"$f":"IF($C131=222, $B131, \"\")","v":""},{"$f":"IF($C131=223, $B131, \"\")","v":""},{"$f":"IF($C131=224, $B131, \"\")","v":""},{"$f":"IF($C131=225, $B131, \"\")","v":""},{"$f":"IF($C131=226, $B131, \"\")","v":""},{"$f":"IF($C131=227, $B131, \"\")","v":""},{"$f":"IF($C131=228, $B131, \"\")","v":""},{"$f":"IF($C131=229, $B131, \"\")","v":""},{"$f":"IF($C131=230, $B131, \"\")","v":""},{"$f":"IF($C131=231, $B131, \"\")","v":""},{"$f":"IF($C131=232, $B131, \"\")","v":""},{"$f":"IF($C131=233, $B131, \"\")","v":""},{"$f":"IF($C131=234, $B131, \"\")","v":""},{"$f":"IF($C131=235, $B131, \"\")","v":""},{"$f":"IF($C131=236, $B131, \"\")","v":""},{"$f":"IF($C131=237, $B131, \"\")","v":""},{"$f":"IF($C131=238, $B131, \"\")","v":""},{"$f":"IF($C131=239, $B131, \"\")","v":""},{"$f":"IF($C131=240, $B131, \"\")","v":""},{"$f":"IF($C131=241, $B131, \"\")","v":""},{"$f":"IF($C131=242, $B131, \"\")","v":""},{"$f":"IF($C131=243, $B131, \"\")","v":""},{"$f":"IF($C131=244, $B131, \"\")","v":""},{"$f":"IF($C131=245, $B131, \"\")","v":""},{"$f":"IF($C131=246, $B131, \"\")","v":""},{"$f":"IF($C131=247, $B131, \"\")","v":""},{"$f":"IF($C131=248, $B131, \"\")","v":""},{"$f":"IF($C131=249, $B131, \"\")","v":""},{"$f":"IF($C131=250, $B131, \"\")","v":""},{"$f":"IF($C131=251, $B131, \"\")","v":""},{"$f":"IF($C131=252, $B131, \"\")","v":""},{"$f":"IF($C131=253, $B131, \"\")","v":""},{"$f":"IF($C131=254, $B131, \"\")","v":""},{"$f":"IF($C131=255, $B131, \"\")","v":""},{"$f":"IF($C131=256, $B131, \"\")","v":""},{"$f":"IF($C131=257, $B131, \"\")","v":""},{"$f":"IF($C131=258, $B131, \"\")","v":""},{"$f":"IF($C131=259, $B131, \"\")","v":""},{"$f":"IF($C131=260, $B131, \"\")","v":""},{"$f":"IF($C131=261, $B131, \"\")","v":""},{"$f":"IF($C131=262, $B131, \"\")","v":""},{"$f":"IF($C131=263, $B131, \"\")","v":""},{"$f":"IF($C131=264, $B131, \"\")","v":""},{"$f":"IF($C131=265, $B131, \"\")","v":""},{"$f":"IF($C131=266, $B131, \"\")","v":""},{"$f":"IF($C131=267, $B131, \"\")","v":""},{"$f":"IF($C131=268, $B131, \"\")","v":""},{"$f":"IF($C131=269, $B131, \"\")","v":""},{"$f":"IF($C131=270, $B131, \"\")","v":""},{"$f":"IF($C131=271, $B131, \"\")","v":""},{"$f":"IF($C131=272, $B131, \"\")","v":""},{"$f":"IF($C131=273, $B131, \"\")","v":""},{"$f":"IF($C131=274, $B131, \"\")","v":""},{"$f":"IF($C131=275, $B131, \"\")","v":""},{"$f":"IF($C131=276, $B131, \"\")","v":""},{"$f":"IF($C131=277, $B131, \"\")","v":""},{"$f":"IF($C131=278, $B131, \"\")","v":""},{"$f":"IF($C131=279, $B131, \"\")","v":""},{"$f":"IF($C131=280, $B131, \"\")","v":""},{"$f":"IF($C131=281, $B131, \"\")","v":""},{"$f":"IF($C131=282, $B131, \"\")","v":""},{"$f":"IF($C131=283, $B131, \"\")","v":""},{"$f":"IF($C131=284, $B131, \"\")","v":""},{"$f":"IF($C131=285, $B131, \"\")","v":""},{"$f":"IF($C131=286, $B131, \"\")","v":""},{"$f":"IF($C131=287, $B131, \"\")","v":""},{"$f":"IF($C131=288, $B131, \"\")","v":""},{"$f":"IF($C131=289, $B131, \"\")","v":""},{"$f":"IF($C131=290, $B131, \"\")","v":""},{"$f":"IF($C131=291, $B131, \"\")","v":""},{"$f":"IF($C131=292, $B131, \"\")","v":""},{"$f":"IF($C131=293, $B131, \"\")","v":""},{"$f":"IF($C131=294, $B131, \"\")","v":""},{"$f":"IF($C131=295, $B131, \"\")","v":""},{"$f":"IF($C131=296, $B131, \"\")","v":""},{"$f":"IF($C131=297, $B131, \"\")","v":""},{"$f":"IF($C131=298, $B131, \"\")","v":""},{"$f":"IF($C131=299, $B131, \"\")","v":""},{"$f":"IF($C131=300, $B131, \"\")","v":""},{"$f":"IF($C131=301, $B131, \"\")","v":""},{"$f":"IF($C131=302, $B131, \"\")","v":""},{"$f":"IF($C131=303, $B131, \"\")","v":""},{"$f":"IF($C131=304, $B131, \"\")","v":""},{"$f":"IF($C131=305, $B131, \"\")","v":""},{"$f":"IF($C131=306, $B131, \"\")","v":""},{"$f":"IF($C131=307, $B131, \"\")","v":""},{"$f":"IF($C131=308, $B131, \"\")","v":""},{"$f":"IF($C131=309, $B131, \"\")","v":""},{"$f":"IF($C131=310, $B131, \"\")","v":""},{"$f":"IF($C131=311, $B131, \"\")","v":""},{"$f":"IF($C131=312, $B131, \"\")","v":""},{"$f":"IF($C131=313, $B131, \"\")","v":""},{"$f":"IF($C131=314, $B131, \"\")","v":""},{"$f":"IF($C131=315, $B131, \"\")","v":""},{"$f":"IF($C131=316, $B131, \"\")","v":""},{"$f":"IF($C131=317, $B131, \"\")","v":""},{"$f":"IF($C131=318, $B131, \"\")","v":""},{"$f":"IF($C131=319, $B131, \"\")","v":""},{"$f":"IF($C131=320, $B131, \"\")","v":""},{"$f":"IF($C131=321, $B131, \"\")","v":""},{"$f":"IF($C131=322, $B131, \"\")","v":""},{"$f":"IF($C131=323, $B131, \"\")","v":""},{"$f":"IF($C131=324, $B131, \"\")","v":""},{"$f":"IF($C131=325, $B131, \"\")","v":""},{"$f":"IF($C131=326, $B131, \"\")","v":""},{"$f":"IF($C131=327, $B131, \"\")","v":""},{"$f":"IF($C131=328, $B131, \"\")","v":""},{"$f":"IF($C131=329, $B131, \"\")","v":""},{"$f":"IF($C131=330, $B131, \"\")","v":""},{"$f":"IF($C131=331, $B131, \"\")","v":""},{"$f":"IF($C131=332, $B131, \"\")","v":""},{"$f":"IF($C131=333, $B131, \"\")","v":""},{"$f":"IF($C131=334, $B131, \"\")","v":""},{"$f":"IF($C131=335, $B131, \"\")","v":""},{"$f":"IF($C131=336, $B131, \"\")","v":""},{"$f":"IF($C131=337, $B131, \"\")","v":""},{"$f":"IF($C131=338, $B131, \"\")","v":""},{"$f":"IF($C131=339, $B131, \"\")","v":""},{"$f":"IF($C131=340, $B131, \"\")","v":""},{"$f":"IF($C131=341, $B131, \"\")","v":""},{"$f":"IF($C131=342, $B131, \"\")","v":""},{"$f":"IF($C131=343, $B131, \"\")","v":""},{"$f":"IF($C131=344, $B131, \"\")","v":""},{"$f":"IF($C131=345, $B131, \"\")","v":""},{"$f":"IF($C131=346, $B131, \"\")","v":""},{"$f":"IF($C131=347, $B131, \"\")","v":""},{"$f":"IF($C131=348, $B131, \"\")","v":""},{"$f":"IF($C131=349, $B131, \"\")","v":""},{"$f":"IF($C131=350, $B131, \"\")","v":""},{"$f":"IF($C131=MP130, $B131, \"\")","v":0}]
[{"$f":"IF('5 Screening'!L18=\"y\", \"true\", \"false\")","v":"false"},{"$f":"IF($A132=\"TRUE\",'5 Screening'!B18,0)","v":0},{"$f":"IF(B132>0,MAX(C131)+1,0)","v":0},{"$f":"IF($C132=1, $B132, \"\")","v":""},{"$f":"IF($C132=2, $B132, \"\")","v":""},{"$f":"IF($C132=3, $B132, \"\")","v":""},{"$f":"IF($C132=4, $B132, \"\")","v":""},{"$f":"IF($C132=5, $B132, \"\")","v":""},{"$f":"IF($C132=6, $B132, \"\")","v":""},{"$f":"IF($C132=7, $B132, \"\")","v":""},{"$f":"IF($C132=8, $B132, \"\")","v":""},{"$f":"IF($C132=9, $B132, \"\")","v":""},{"$f":"IF($C132=10, $B132, \"\")","v":""},{"$f":"IF($C132=11, $B132, \"\")","v":""},{"$f":"IF($C132=12, $B132, \"\")","v":""},{"$f":"IF($C132=13, $B132, \"\")","v":""},{"$f":"IF($C132=14, $B132, \"\")","v":""},{"$f":"IF($C132=15, $B132, \"\")","v":""},{"$f":"IF($C132=16, $B132, \"\")","v":""},{"$f":"IF($C132=17, $B132, \"\")","v":""},{"$f":"IF($C132=18, $B132, \"\")","v":""},{"$f":"IF($C132=19, $B132, \"\")","v":""},{"$f":"IF($C132=20, $B132, \"\")","v":""},{"$f":"IF($C132=21, $B132, \"\")","v":""},{"$f":"IF($C132=22, $B132, \"\")","v":""},{"$f":"IF($C132=23, $B132, \"\")","v":""},{"$f":"IF($C132=24, $B132, \"\")","v":""},{"$f":"IF($C132=25, $B132, \"\")","v":""},{"$f":"IF($C132=26, $B132, \"\")","v":""},{"$f":"IF($C132=27, $B132, \"\")","v":""},{"$f":"IF($C132=28, $B132, \"\")","v":""},{"$f":"IF($C132=29, $B132, \"\")","v":""},{"$f":"IF($C132=30, $B132, \"\")","v":""},{"$f":"IF($C132=31, $B132, \"\")","v":""},{"$f":"IF($C132=32, $B132, \"\")","v":""},{"$f":"IF($C132=33, $B132, \"\")","v":""},{"$f":"IF($C132=34, $B132, \"\")","v":""},{"$f":"IF($C132=35, $B132, \"\")","v":""},{"$f":"IF($C132=36, $B132, \"\")","v":""},{"$f":"IF($C132=37, $B132, \"\")","v":""},{"$f":"IF($C132=38, $B132, \"\")","v":""},{"$f":"IF($C132=39, $B132, \"\")","v":""},{"$f":"IF($C132=40, $B132, \"\")","v":""},{"$f":"IF($C132=41, $B132, \"\")","v":""},{"$f":"IF($C132=42, $B132, \"\")","v":""},{"$f":"IF($C132=43, $B132, \"\")","v":""},{"$f":"IF($C132=44, $B132, \"\")","v":""},{"$f":"IF($C132=45, $B132, \"\")","v":""},{"$f":"IF($C132=46, $B132, \"\")","v":""},{"$f":"IF($C132=47, $B132, \"\")","v":""},{"$f":"IF($C132=48, $B132, \"\")","v":""},{"$f":"IF($C132=49, $B132, \"\")","v":""},{"$f":"IF($C132=50, $B132, \"\")","v":""},{"$f":"IF($C132=51, $B132, \"\")","v":""},{"$f":"IF($C132=52, $B132, \"\")","v":""},{"$f":"IF($C132=53, $B132, \"\")","v":""},{"$f":"IF($C132=54, $B132, \"\")","v":""},{"$f":"IF($C132=55, $B132, \"\")","v":""},{"$f":"IF($C132=56, $B132, \"\")","v":""},{"$f":"IF($C132=57, $B132, \"\")","v":""},{"$f":"IF($C132=58, $B132, \"\")","v":""},{"$f":"IF($C132=59, $B132, \"\")","v":""},{"$f":"IF($C132=60, $B132, \"\")","v":""},{"$f":"IF($C132=61, $B132, \"\")","v":""},{"$f":"IF($C132=62, $B132, \"\")","v":""},{"$f":"IF($C132=63, $B132, \"\")","v":""},{"$f":"IF($C132=64, $B132, \"\")","v":""},{"$f":"IF($C132=65, $B132, \"\")","v":""},{"$f":"IF($C132=66, $B132, \"\")","v":""},{"$f":"IF($C132=67, $B132, \"\")","v":""},{"$f":"IF($C132=68, $B132, \"\")","v":""},{"$f":"IF($C132=69, $B132, \"\")","v":""},{"$f":"IF($C132=70, $B132, \"\")","v":""},{"$f":"IF($C132=71, $B132, \"\")","v":""},{"$f":"IF($C132=72, $B132, \"\")","v":""},{"$f":"IF($C132=73, $B132, \"\")","v":""},{"$f":"IF($C132=74, $B132, \"\")","v":""},{"$f":"IF($C132=75, $B132, \"\")","v":""},{"$f":"IF($C132=76, $B132, \"\")","v":""},{"$f":"IF($C132=77, $B132, \"\")","v":""},{"$f":"IF($C132=78, $B132, \"\")","v":""},{"$f":"IF($C132=79, $B132, \"\")","v":""},{"$f":"IF($C132=80, $B132, \"\")","v":""},{"$f":"IF($C132=81, $B132, \"\")","v":""},{"$f":"IF($C132=82, $B132, \"\")","v":""},{"$f":"IF($C132=83, $B132, \"\")","v":""},{"$f":"IF($C132=84, $B132, \"\")","v":""},{"$f":"IF($C132=85, $B132, \"\")","v":""},{"$f":"IF($C132=86, $B132, \"\")","v":""},{"$f":"IF($C132=87, $B132, \"\")","v":""},{"$f":"IF($C132=88, $B132, \"\")","v":""},{"$f":"IF($C132=89, $B132, \"\")","v":""},{"$f":"IF($C132=90, $B132, \"\")","v":""},{"$f":"IF($C132=91, $B132, \"\")","v":""},{"$f":"IF($C132=92, $B132, \"\")","v":""},{"$f":"IF($C132=93, $B132, \"\")","v":""},{"$f":"IF($C132=94, $B132, \"\")","v":""},{"$f":"IF($C132=95, $B132, \"\")","v":""},{"$f":"IF($C132=96, $B132, \"\")","v":""},{"$f":"IF($C132=97, $B132, \"\")","v":""},{"$f":"IF($C132=98, $B132, \"\")","v":""},{"$f":"IF($C132=99, $B132, \"\")","v":""},{"$f":"IF($C132=100, $B132, \"\")","v":""},{"$f":"IF($C132=101, $B132, \"\")","v":""},{"$f":"IF($C132=102, $B132, \"\")","v":""},{"$f":"IF($C132=103, $B132, \"\")","v":""},{"$f":"IF($C132=104, $B132, \"\")","v":""},{"$f":"IF($C132=105, $B132, \"\")","v":""},{"$f":"IF($C132=106, $B132, \"\")","v":""},{"$f":"IF($C132=107, $B132, \"\")","v":""},{"$f":"IF($C132=108, $B132, \"\")","v":""},{"$f":"IF($C132=109, $B132, \"\")","v":""},{"$f":"IF($C132=110, $B132, \"\")","v":""},{"$f":"IF($C132=111, $B132, \"\")","v":""},{"$f":"IF($C132=112, $B132, \"\")","v":""},{"$f":"IF($C132=113, $B132, \"\")","v":""},{"$f":"IF($C132=114, $B132, \"\")","v":""},{"$f":"IF($C132=115, $B132, \"\")","v":""},{"$f":"IF($C132=116, $B132, \"\")","v":""},{"$f":"IF($C132=117, $B132, \"\")","v":""},{"$f":"IF($C132=118, $B132, \"\")","v":""},{"$f":"IF($C132=119, $B132, \"\")","v":""},{"$f":"IF($C132=120, $B132, \"\")","v":""},{"$f":"IF($C132=121, $B132, \"\")","v":""},{"$f":"IF($C132=122, $B132, \"\")","v":""},{"$f":"IF($C132=123, $B132, \"\")","v":""},{"$f":"IF($C132=124, $B132, \"\")","v":""},{"$f":"IF($C132=125, $B132, \"\")","v":""},{"$f":"IF($C132=126, $B132, \"\")","v":""},{"$f":"IF($C132=127, $B132, \"\")","v":""},{"$f":"IF($C132=128, $B132, \"\")","v":""},{"$f":"IF($C132=129, $B132, \"\")","v":""},{"$f":"IF($C132=130, $B132, \"\")","v":""},{"$f":"IF($C132=131, $B132, \"\")","v":""},{"$f":"IF($C132=132, $B132, \"\")","v":""},{"$f":"IF($C132=133, $B132, \"\")","v":""},{"$f":"IF($C132=134, $B132, \"\")","v":""},{"$f":"IF($C132=135, $B132, \"\")","v":""},{"$f":"IF($C132=136, $B132, \"\")","v":""},{"$f":"IF($C132=137, $B132, \"\")","v":""},{"$f":"IF($C132=138, $B132, \"\")","v":""},{"$f":"IF($C132=139, $B132, \"\")","v":""},{"$f":"IF($C132=140, $B132, \"\")","v":""},{"$f":"IF($C132=141, $B132, \"\")","v":""},{"$f":"IF($C132=142, $B132, \"\")","v":""},{"$f":"IF($C132=143, $B132, \"\")","v":""},{"$f":"IF($C132=144, $B132, \"\")","v":""},{"$f":"IF($C132=145, $B132, \"\")","v":""},{"$f":"IF($C132=146, $B132, \"\")","v":""},{"$f":"IF($C132=147, $B132, \"\")","v":""},{"$f":"IF($C132=148, $B132, \"\")","v":""},{"$f":"IF($C132=149, $B132, \"\")","v":""},{"$f":"IF($C132=150, $B132, \"\")","v":""},{"$f":"IF($C132=151, $B132, \"\")","v":""},{"$f":"IF($C132=152, $B132, \"\")","v":""},{"$f":"IF($C132=153, $B132, \"\")","v":""},{"$f":"IF($C132=154, $B132, \"\")","v":""},{"$f":"IF($C132=155, $B132, \"\")","v":""},{"$f":"IF($C132=156, $B132, \"\")","v":""},{"$f":"IF($C132=157, $B132, \"\")","v":""},{"$f":"IF($C132=158, $B132, \"\")","v":""},{"$f":"IF($C132=159, $B132, \"\")","v":""},{"$f":"IF($C132=160, $B132, \"\")","v":""},{"$f":"IF($C132=161, $B132, \"\")","v":""},{"$f":"IF($C132=162, $B132, \"\")","v":""},{"$f":"IF($C132=163, $B132, \"\")","v":""},{"$f":"IF($C132=164, $B132, \"\")","v":""},{"$f":"IF($C132=165, $B132, \"\")","v":""},{"$f":"IF($C132=166, $B132, \"\")","v":""},{"$f":"IF($C132=167, $B132, \"\")","v":""},{"$f":"IF($C132=168, $B132, \"\")","v":""},{"$f":"IF($C132=169, $B132, \"\")","v":""},{"$f":"IF($C132=170, $B132, \"\")","v":""},{"$f":"IF($C132=171, $B132, \"\")","v":""},{"$f":"IF($C132=172, $B132, \"\")","v":""},{"$f":"IF($C132=173, $B132, \"\")","v":""},{"$f":"IF($C132=174, $B132, \"\")","v":""},{"$f":"IF($C132=175, $B132, \"\")","v":""},{"$f":"IF($C132=176, $B132, \"\")","v":""},{"$f":"IF($C132=177, $B132, \"\")","v":""},{"$f":"IF($C132=178, $B132, \"\")","v":""},{"$f":"IF($C132=179, $B132, \"\")","v":""},{"$f":"IF($C132=180, $B132, \"\")","v":""},{"$f":"IF($C132=181, $B132, \"\")","v":""},{"$f":"IF($C132=182, $B132, \"\")","v":""},{"$f":"IF($C132=183, $B132, \"\")","v":""},{"$f":"IF($C132=184, $B132, \"\")","v":""},{"$f":"IF($C132=185, $B132, \"\")","v":""},{"$f":"IF($C132=186, $B132, \"\")","v":""},{"$f":"IF($C132=187, $B132, \"\")","v":""},{"$f":"IF($C132=188, $B132, \"\")","v":""},{"$f":"IF($C132=189, $B132, \"\")","v":""},{"$f":"IF($C132=190, $B132, \"\")","v":""},{"$f":"IF($C132=191, $B132, \"\")","v":""},{"$f":"IF($C132=192, $B132, \"\")","v":""},{"$f":"IF($C132=193, $B132, \"\")","v":""},{"$f":"IF($C132=194, $B132, \"\")","v":""},{"$f":"IF($C132=195, $B132, \"\")","v":""},{"$f":"IF($C132=196, $B132, \"\")","v":""},{"$f":"IF($C132=197, $B132, \"\")","v":""},{"$f":"IF($C132=198, $B132, \"\")","v":""},{"$f":"IF($C132=199, $B132, \"\")","v":""},{"$f":"IF($C132=200, $B132, \"\")","v":""},{"$f":"IF($C132=201, $B132, \"\")","v":""},{"$f":"IF($C132=202, $B132, \"\")","v":""},{"$f":"IF($C132=203, $B132, \"\")","v":""},{"$f":"IF($C132=204, $B132, \"\")","v":""},{"$f":"IF($C132=205, $B132, \"\")","v":""},{"$f":"IF($C132=206, $B132, \"\")","v":""},{"$f":"IF($C132=207, $B132, \"\")","v":""},{"$f":"IF($C132=208, $B132, \"\")","v":""},{"$f":"IF($C132=209, $B132, \"\")","v":""},{"$f":"IF($C132=210, $B132, \"\")","v":""},{"$f":"IF($C132=211, $B132, \"\")","v":""},{"$f":"IF($C132=212, $B132, \"\")","v":""},{"$f":"IF($C132=213, $B132, \"\")","v":""},{"$f":"IF($C132=214, $B132, \"\")","v":""},{"$f":"IF($C132=215, $B132, \"\")","v":""},{"$f":"IF($C132=216, $B132, \"\")","v":""},{"$f":"IF($C132=217, $B132, \"\")","v":""},{"$f":"IF($C132=218, $B132, \"\")","v":""},{"$f":"IF($C132=219, $B132, \"\")","v":""},{"$f":"IF($C132=220, $B132, \"\")","v":""},{"$f":"IF($C132=221, $B132, \"\")","v":""},{"$f":"IF($C132=222, $B132, \"\")","v":""},{"$f":"IF($C132=223, $B132, \"\")","v":""},{"$f":"IF($C132=224, $B132, \"\")","v":""},{"$f":"IF($C132=225, $B132, \"\")","v":""},{"$f":"IF($C132=226, $B132, \"\")","v":""},{"$f":"IF($C132=227, $B132, \"\")","v":""},{"$f":"IF($C132=228, $B132, \"\")","v":""},{"$f":"IF($C132=229, $B132, \"\")","v":""},{"$f":"IF($C132=230, $B132, \"\")","v":""},{"$f":"IF($C132=231, $B132, \"\")","v":""},{"$f":"IF($C132=232, $B132, \"\")","v":""},{"$f":"IF($C132=233, $B132, \"\")","v":""},{"$f":"IF($C132=234, $B132, \"\")","v":""},{"$f":"IF($C132=235, $B132, \"\")","v":""},{"$f":"IF($C132=236, $B132, \"\")","v":""},{"$f":"IF($C132=237, $B132, \"\")","v":""},{"$f":"IF($C132=238, $B132, \"\")","v":""},{"$f":"IF($C132=239, $B132, \"\")","v":""},{"$f":"IF($C132=240, $B132, \"\")","v":""},{"$f":"IF($C132=241, $B132, \"\")","v":""},{"$f":"IF($C132=242, $B132, \"\")","v":""},{"$f":"IF($C132=243, $B132, \"\")","v":""},{"$f":"IF($C132=244, $B132, \"\")","v":""},{"$f":"IF($C132=245, $B132, \"\")","v":""},{"$f":"IF($C132=246, $B132, \"\")","v":""},{"$f":"IF($C132=247, $B132, \"\")","v":""},{"$f":"IF($C132=248, $B132, \"\")","v":""},{"$f":"IF($C132=249, $B132, \"\")","v":""},{"$f":"IF($C132=250, $B132, \"\")","v":""},{"$f":"IF($C132=251, $B132, \"\")","v":""},{"$f":"IF($C132=252, $B132, \"\")","v":""},{"$f":"IF($C132=253, $B132, \"\")","v":""},{"$f":"IF($C132=254, $B132, \"\")","v":""},{"$f":"IF($C132=255, $B132, \"\")","v":""},{"$f":"IF($C132=256, $B132, \"\")","v":""},{"$f":"IF($C132=257, $B132, \"\")","v":""},{"$f":"IF($C132=258, $B132, \"\")","v":""},{"$f":"IF($C132=259, $B132, \"\")","v":""},{"$f":"IF($C132=260, $B132, \"\")","v":""},{"$f":"IF($C132=261, $B132, \"\")","v":""},{"$f":"IF($C132=262, $B132, \"\")","v":""},{"$f":"IF($C132=263, $B132, \"\")","v":""},{"$f":"IF($C132=264, $B132, \"\")","v":""},{"$f":"IF($C132=265, $B132, \"\")","v":""},{"$f":"IF($C132=266, $B132, \"\")","v":""},{"$f":"IF($C132=267, $B132, \"\")","v":""},{"$f":"IF($C132=268, $B132, \"\")","v":""},{"$f":"IF($C132=269, $B132, \"\")","v":""},{"$f":"IF($C132=270, $B132, \"\")","v":""},{"$f":"IF($C132=271, $B132, \"\")","v":""},{"$f":"IF($C132=272, $B132, \"\")","v":""},{"$f":"IF($C132=273, $B132, \"\")","v":""},{"$f":"IF($C132=274, $B132, \"\")","v":""},{"$f":"IF($C132=275, $B132, \"\")","v":""},{"$f":"IF($C132=276, $B132, \"\")","v":""},{"$f":"IF($C132=277, $B132, \"\")","v":""},{"$f":"IF($C132=278, $B132, \"\")","v":""},{"$f":"IF($C132=279, $B132, \"\")","v":""},{"$f":"IF($C132=280, $B132, \"\")","v":""},{"$f":"IF($C132=281, $B132, \"\")","v":""},{"$f":"IF($C132=282, $B132, \"\")","v":""},{"$f":"IF($C132=283, $B132, \"\")","v":""},{"$f":"IF($C132=284, $B132, \"\")","v":""},{"$f":"IF($C132=285, $B132, \"\")","v":""},{"$f":"IF($C132=286, $B132, \"\")","v":""},{"$f":"IF($C132=287, $B132, \"\")","v":""},{"$f":"IF($C132=288, $B132, \"\")","v":""},{"$f":"IF($C132=289, $B132, \"\")","v":""},{"$f":"IF($C132=290, $B132, \"\")","v":""},{"$f":"IF($C132=291, $B132, \"\")","v":""},{"$f":"IF($C132=292, $B132, \"\")","v":""},{"$f":"IF($C132=293, $B132, \"\")","v":""},{"$f":"IF($C132=294, $B132, \"\")","v":""},{"$f":"IF($C132=295, $B132, \"\")","v":""},{"$f":"IF($C132=296, $B132, \"\")","v":""},{"$f":"IF($C132=297, $B132, \"\")","v":""},{"$f":"IF($C132=298, $B132, \"\")","v":""},{"$f":"IF($C132=299, $B132, \"\")","v":""},{"$f":"IF($C132=300, $B132, \"\")","v":""},{"$f":"IF($C132=301, $B132, \"\")","v":""},{"$f":"IF($C132=302, $B132, \"\")","v":""},{"$f":"IF($C132=303, $B132, \"\")","v":""},{"$f":"IF($C132=304, $B132, \"\")","v":""},{"$f":"IF($C132=305, $B132, \"\")","v":""},{"$f":"IF($C132=306, $B132, \"\")","v":""},{"$f":"IF($C132=307, $B132, \"\")","v":""},{"$f":"IF($C132=308, $B132, \"\")","v":""},{"$f":"IF($C132=309, $B132, \"\")","v":""},{"$f":"IF($C132=310, $B132, \"\")","v":""},{"$f":"IF($C132=311, $B132, \"\")","v":""},{"$f":"IF($C132=312, $B132, \"\")","v":""},{"$f":"IF($C132=313, $B132, \"\")","v":""},{"$f":"IF($C132=314, $B132, \"\")","v":""},{"$f":"IF($C132=315, $B132, \"\")","v":""},{"$f":"IF($C132=316, $B132, \"\")","v":""},{"$f":"IF($C132=317, $B132, \"\")","v":""},{"$f":"IF($C132=318, $B132, \"\")","v":""},{"$f":"IF($C132=319, $B132, \"\")","v":""},{"$f":"IF($C132=320, $B132, \"\")","v":""},{"$f":"IF($C132=321, $B132, \"\")","v":""},{"$f":"IF($C132=322, $B132, \"\")","v":""},{"$f":"IF($C132=323, $B132, \"\")","v":""},{"$f":"IF($C132=324, $B132, \"\")","v":""},{"$f":"IF($C132=325, $B132, \"\")","v":""},{"$f":"IF($C132=326, $B132, \"\")","v":""},{"$f":"IF($C132=327, $B132, \"\")","v":""},{"$f":"IF($C132=328, $B132, \"\")","v":""},{"$f":"IF($C132=329, $B132, \"\")","v":""},{"$f":"IF($C132=330, $B132, \"\")","v":""},{"$f":"IF($C132=331, $B132, \"\")","v":""},{"$f":"IF($C132=332, $B132, \"\")","v":""},{"$f":"IF($C132=333, $B132, \"\")","v":""},{"$f":"IF($C132=334, $B132, \"\")","v":""},{"$f":"IF($C132=335, $B132, \"\")","v":""},{"$f":"IF($C132=336, $B132, \"\")","v":""},{"$f":"IF($C132=337, $B132, \"\")","v":""},{"$f":"IF($C132=338, $B132, \"\")","v":""},{"$f":"IF($C132=339, $B132, \"\")","v":""},{"$f":"IF($C132=340, $B132, \"\")","v":""},{"$f":"IF($C132=341, $B132, \"\")","v":""},{"$f":"IF($C132=342, $B132, \"\")","v":""},{"$f":"IF($C132=343, $B132, \"\")","v":""},{"$f":"IF($C132=344, $B132, \"\")","v":""},{"$f":"IF($C132=345, $B132, \"\")","v":""},{"$f":"IF($C132=346, $B132, \"\")","v":""},{"$f":"IF($C132=347, $B132, \"\")","v":""},{"$f":"IF($C132=348, $B132, \"\")","v":""},{"$f":"IF($C132=349, $B132, \"\")","v":""},{"$f":"IF($C132=350, $B132, \"\")","v":""}]
[{"$f":"IF('5 Screening'!L19=\"y\", \"true\", \"false\")","v":"false"},{"$f":"IF($A133=\"TRUE\",'5 Screening'!B19,0)","v":0},{"$f":"IF(B133>0,MAX($C$131:C132)+1,0)","v":0},"","","","","","","","","","","","","","","","","","","","","","","","","","","","","","","","","","","","","","","","","","","","","","","","","","","","","","","","","","","","","","","","","","","","","","","","","","","","","","","","","","","","","","","","","","","","","","","","","","","","","","","","","","","","","","","","","","","","","","","","","","","","","","","","","","","","","","","","","","","","","","","","","","","","","","","","","","","","","","","","","","","","","","","","","","","","","","","","","","","","","","","","","","","","","","","","","","","","","","","","","","","","","","","","","","","","","","","","","","","","","","","","","","","","","","","","","","","","","","","","","","","","","","","","","","","","","","","","","","","","","","","","","","","","","","","","","","","","","","","","","","","","","","","","","","","","","","","","","","","","","","","","","","","","","","","","","","","","","","","","","","","","","","","","","","","","","","","","","","","","","","","","","","","","","",""]
[{"$f":"IF('5 Screening'!L20=\"y\", \"true\", \"false\")","v":"false"},{"$f":"IF($A134=\"TRUE\",'5 Screening'!B20,0)","v":0},{"$f":"IF(B134>0,MAX($C$131:C133)+1,0)","v":0},"","","","","","","","","","","","","","","","","","","","","","","","","","","","","","","","","","","","","","","","","","","","","","","","","","","","","","","","","","","","","","","","","","","","","","","","","","","","","","","","","","","","","","","","","","","","","","","","","","","","","","","","","","","","","","","","","","","","","","","","","","","","","","","","","","","","","","","","","","","","","","","","","","","","","","","","","","","","","","","","","","","","","","","","","","","","","","","","","","","","","","","","","","","","","","","","","","","","","","","","","","","","","","","","","","","","","","","","","","","","","","","","","","","","","","","","","","","","","","","","","","","","","","","","","","","","","","","","","","","","","","","","","","","","","","","","","","","","","","","","","","","","","","","","","","","","","","","","","","","","","","","","","","","","","","","","","","","","","","","","","","","","","","","","","","","","","","","","","","","","","","","","","","","","","",""]
[{"$f":"IF('5 Screening'!L21=\"y\", \"true\", \"false\")","v":"false"},{"$f":"IF($A135=\"TRUE\",'5 Screening'!#REF!,0)","v":0},{"$f":"IF(B135>0,MAX($C$131:C134)+1,0)","v":0},"","","","","","","","","","","","","","","","","","","","","","","","","","","","","","","","","","","","","","","","","","","","","","","","","","","","","","","","","","","","","","","","","","","","","","","","","","","","","","","","","","","","","","","","","","","","","","","","","","","","","","","","","","","","","","","","","","","","","","","","","","","","","","","","","","","","","","","","","","","","","","","","","","","","","","","","","","","","","","","","","","","","","","","","","","","","","","","","","","","","","","","","","","","","","","","","","","","","","","","","","","","","","","","","","","","","","","","","","","","","","","","","","","","","","","","","","","","","","","","","","","","","","","","","","","","","","","","","","","","","","","","","","","","","","","","","","","","","","","","","","","","","","","","","","","","","","","","","","","","","","","","","","","","","","","","","","","","","","","","","","","","","","","","","","","","","","","","","","","","","","","","","","","","","","",""]
[{"$f":"IF('5 Screening'!L21=\"y\", \"true\", \"false\")","v":"false"},{"$f":"IF($A136=\"TRUE\",'5 Screening'!B21,0)","v":0},{"$f":"IF(B136>0,MAX($C$131:C135)+1,0)","v":0},"","","","","","","","","","","","","","","","","","","","","","","","","","","","","","","","","","","","","","","","","","","","","","","","","","","","","","","","","","","","","","","","","","","","","","","","","","","","","","","","","","","","","","","","","","","","","","","","","","","","","","","","","","","","","","","","","","","","","","","","","","","","","","","","","","","","","","","","","","","","","","","","","","","","","","","","","","","","","","","","","","","","","","","","","","","","","","","","","","","","","","","","","","","","","","","","","","","","","","","","","","","","","","","","","","","","","","","","","","","","","","","","","","","","","","","","","","","","","","","","","","","","","","","","","","","","","","","","","","","","","","","","","","","","","","","","","","","","","","","","","","","","","","","","","","","","","","","","","","","","","","","","","","","","","","","","","","","","","","","","","","","","","","","","","","","","","","","","","","","","","","","","","","","","","",""]
[{"$f":"IF('5 Screening'!L22=\"y\", \"true\", \"false\")","v":"false"},{"$f":"IF($A137=\"TRUE\",'5 Screening'!B22,0)","v":0},{"$f":"IF(B137>0,MAX($C$131:C136)+1,0)","v":0},"","","","","","","","","","","","","","","","","","","","","","","","","","","","","","","","","","","","","","","","","","","","","","","","","","","","","","","","","","","","","","","","","","","","","","","","","","","","","","","","","","","","","","","","","","","","","","","","","","","","","","","","","","","","","","","","","","","","","","","","","","","","","","","","","","","","","","","","","","","","","","","","","","","","","","","","","","","","","","","","","","","","","","","","","","","","","","","","","","","","","","","","","","","","","","","","","","","","","","","","","","","","","","","","","","","","","","","","","","","","","","","","","","","","","","","","","","","","","","","","","","","","","","","","","","","","","","","","","","","","","","","","","","","","","","","","","","","","","","","","","","","","","","","","","","","","","","","","","","","","","","","","","","","","","","","","","","","","","","","","","","","","","","","","","","","","","","","","","","","","","","","","","","","","","",""]
[{"$f":"IF('5 Screening'!L23=\"y\", \"true\", \"false\")","v":"false"},{"$f":"IF($A138=\"TRUE\",'5 Screening'!B23,0)","v":0},{"$f":"IF(B138>0,MAX($C$131:C137)+1,0)","v":0},"","","","","","","","","","","","","","","","","","","","","","","","","","","","","","","","","","","","","","","","","","","","","","","","","","","","","","","","","","","","","","","","","","","","","","","","","","","","","","","","","","","","","","","","","","","","","","","","","","","","","","","","","","","","","","","","","","","","","","","","","","","","","","","","","","","","","","","","","","","","","","","","","","","","","","","","","","","","","","","","","","","","","","","","","","","","","","","","","","","","","","","","","","","","","","","","","","","","","","","","","","","","","","","","","","","","","","","","","","","","","","","","","","","","","","","","","","","","","","","","","","","","","","","","","","","","","","","","","","","","","","","","","","","","","","","","","","","","","","","","","","","","","","","","","","","","","","","","","","","","","","","","","","","","","","","","","","","","","","","","","","","","","","","","","","","","","","","","","","","","","","","","","","","","","",""]
[{"$f":"IF('5 Screening'!L24=\"y\", \"true\", \"false\")","v":"false"},{"$f":"IF($A139=\"TRUE\",'5 Screening'!B24,0)","v":0},{"$f":"IF(B139>0,MAX($C$131:C138)+1,0)","v":0},"","","","","","","","","","","","","","","","","","","","","","","","","","","","","","","","","","","","","","","","","","","","","","","","","","","","","","","","","","","","","","","","","","","","","","","","","","","","","","","","","","","","","","","","","","","","","","","","","","","","","","","","","","","","","","","","","","","","","","","","","","","","","","","","","","","","","","","","","","","","","","","","","","","","","","","","","","","","","","","","","","","","","","","","","","","","","","","","","","","","","","","","","","","","","","","","","","","","","","","","","","","","","","","","","","","","","","","","","","","","","","","","","","","","","","","","","","","","","","","","","","","","","","","","","","","","","","","","","","","","","","","","","","","","","","","","","","","","","","","","","","","","","","","","","","","","","","","","","","","","","","","","","","","","","","","","","","","","","","","","","","","","","","","","","","","","","","","","","","","","","","","","","","","","","",""]
[{"$f":"IF('5 Screening'!L25=\"y\", \"true\", \"false\")","v":"false"},{"$f":"IF($A140=\"TRUE\",'5 Screening'!B25,0)","v":0},{"$f":"IF(B140>0,MAX($C$131:C139)+1,0)","v":0},"","","","","","","","","","","","","","","","","","","","","","","","","","","","","","","","","","","","","","","","","","","","","","","","","","","","","","","","","","","","","","","","","","","","","","","","","","","","","","","","","","","","","","","","","","","","","","","","","","","","","","","","","","","","","","","","","","","","","","","","","","","","","","","","","","","","","","","","","","","","","","","","","","","","","","","","","","","","","","","","","","","","","","","","","","","","","","","","","","","","","","","","","","","","","","","","","","","","","","","","","","","","","","","","","","","","","","","","","","","","","","","","","","","","","","","","","","","","","","","","","","","","","","","","","","","","","","","","","","","","","","","","","","","","","","","","","","","","","","","","","","","","","","","","","","","","","","","","","","","","","","","","","","","","","","","","","","","","","","","","","","","","","","","","","","","","","","","","","","","","","","","","","","","","","",""]
[{"$f":"IF('5 Screening'!L26=\"y\", \"true\", \"false\")","v":"false"},{"$f":"IF($A141=\"TRUE\",'5 Screening'!B26,0)","v":0},{"$f":"IF(B141>0,MAX($C$131:C140)+1,0)","v":0},"","","","","","","","","","","","","","","","","","","","","","","","","","","","","","","","","","","","","","","","","","","","","","","","","","","","","","","","","","","","","","","","","","","","","","","","","","","","","","","","","","","","","","","","","","","","","","","","","","","","","","","","","","","","","","","","","","","","","","","","","","","","","","","","","","","","","","","","","","","","","","","","","","","","","","","","","","","","","","","","","","","","","","","","","","","","","","","","","","","","","","","","","","","","","","","","","","","","","","","","","","","","","","","","","","","","","","","","","","","","","","","","","","","","","","","","","","","","","","","","","","","","","","","","","","","","","","","","","","","","","","","","","","","","","","","","","","","","","","","","","","","","","","","","","","","","","","","","","","","","","","","","","","","","","","","","","","","","","","","","","","","","","","","","","","","","","","","","","","","","","","","","","","","","","",""]
[{"$f":"IF('5 Screening'!L27=\"y\", \"true\", \"false\")","v":"false"},{"$f":"IF($A142=\"TRUE\",'5 Screening'!B27,0)","v":0},{"$f":"IF(B142>0,MAX($C$131:C141)+1,0)","v":0},"","","","","","","","","","","","","","","","","","","","","","","","","","","","","","","","","","","","","","","","","","","","","","","","","","","","","","","","","","","","","","","","","","","","","","","","","","","","","","","","","","","","","","","","","","","","","","","","","","","","","","","","","","","","","","","","","","","","","","","","","","","","","","","","","","","","","","","","","","","","","","","","","","","","","","","","","","","","","","","","","","","","","","","","","","","","","","","","","","","","","","","","","","","","","","","","","","","","","","","","","","","","","","","","","","","","","","","","","","","","","","","","","","","","","","","","","","","","","","","","","","","","","","","","","","","","","","","","","","","","","","","","","","","","","","","","","","","","","","","","","","","","","","","","","","","","","","","","","","","","","","","","","","","","","","","","","","","","","","","","","","","","","","","","","","","","","","","","","","","","","","","","","","","","","",""]
[{"$f":"IF('5 Screening'!L28=\"y\", \"true\", \"false\")","v":"false"},{"$f":"IF($A143=\"TRUE\",'5 Screening'!B28,0)","v":0},{"$f":"IF(B143>0,MAX($C$131:C142)+1,0)","v":0},"","","","","","","","","","","","","","","","","","","","","","","","","","","","","","","","","","","","","","","","","","","","","","","","","","","","","","","","","","","","","","","","","","","","","","","","","","","","","","","","","","","","","","","","","","","","","","","","","","","","","","","","","","","","","","","","","","","","","","","","","","","","","","","","","","","","","","","","","","","","","","","","","","","","","","","","","","","","","","","","","","","","","","","","","","","","","","","","","","","","","","","","","","","","","","","","","","","","","","","","","","","","","","","","","","","","","","","","","","","","","","","","","","","","","","","","","","","","","","","","","","","","","","","","","","","","","","","","","","","","","","","","","","","","","","","","","","","","","","","","","","","","","","","","","","","","","","","","","","","","","","","","","","","","","","","","","","","","","","","","","","","","","","","","","","","","","","","","","","","","","","","","","","","","","",""]
[{"$f":"IF('5 Screening'!L29=\"y\", \"true\", \"false\")","v":"false"},{"$f":"IF($A144=\"TRUE\",'5 Screening'!B29,0)","v":0},{"$f":"IF(B144>0,MAX($C$131:C143)+1,0)","v":0},"","","","","","","","","","","","","","","","","","","","","","","","","","","","","","","","","","","","","","","","","","","","","","","","","","","","","","","","","","","","","","","","","","","","","","","","","","","","","","","","","","","","","","","","","","","","","","","","","","","","","","","","","","","","","","","","","","","","","","","","","","","","","","","","","","","","","","","","","","","","","","","","","","","","","","","","","","","","","","","","","","","","","","","","","","","","","","","","","","","","","","","","","","","","","","","","","","","","","","","","","","","","","","","","","","","","","","","","","","","","","","","","","","","","","","","","","","","","","","","","","","","","","","","","","","","","","","","","","","","","","","","","","","","","","","","","","","","","","","","","","","","","","","","","","","","","","","","","","","","","","","","","","","","","","","","","","","","","","","","","","","","","","","","","","","","","","","","","","","","","","","","","","","","","","",""]
[{"$f":"IF('5 Screening'!L30=\"y\", \"true\", \"false\")","v":"false"},{"$f":"IF($A145=\"TRUE\",'5 Screening'!B30,0)","v":0},{"$f":"IF(B145>0,MAX($C$131:C144)+1,0)","v":0},"","","","","","","","","","","","","","","","","","","","","","","","","","","","","","","","","","","","","","","","","","","","","","","","","","","","","","","","","","","","","","","","","","","","","","","","","","","","","","","","","","","","","","","","","","","","","","","","","","","","","","","","","","","","","","","","","","","","","","","","","","","","","","","","","","","","","","","","","","","","","","","","","","","","","","","","","","","","","","","","","","","","","","","","","","","","","","","","","","","","","","","","","","","","","","","","","","","","","","","","","","","","","","","","","","","","","","","","","","","","","","","","","","","","","","","","","","","","","","","","","","","","","","","","","","","","","","","","","","","","","","","","","","","","","","","","","","","","","","","","","","","","","","","","","","","","","","","","","","","","","","","","","","","","","","","","","","","","","","","","","","","","","","","","","","","","","","","","","","","","","","","","","","","","","",""]
[{"$f":"IF('5 Screening'!L31=\"y\", \"true\", \"false\")","v":"false"},{"$f":"IF($A146=\"TRUE\",'5 Screening'!B31,0)","v":0},{"$f":"IF(B146>0,MAX($C$131:C145)+1,0)","v":0},"","","","","","","","","","","","","","","","","","","","","","","","","","","","","","","","","","","","","","","","","","","","","","","","","","","","","","","","","","","","","","","","","","","","","","","","","","","","","","","","","","","","","","","","","","","","","","","","","","","","","","","","","","","","","","","","","","","","","","","","","","","","","","","","","","","","","","","","","","","","","","","","","","","","","","","","","","","","","","","","","","","","","","","","","","","","","","","","","","","","","","","","","","","","","","","","","","","","","","","","","","","","","","","","","","","","","","","","","","","","","","","","","","","","","","","","","","","","","","","","","","","","","","","","","","","","","","","","","","","","","","","","","","","","","","","","","","","","","","","","","","","","","","","","","","","","","","","","","","","","","","","","","","","","","","","","","","","","","","","","","","","","","","","","","","","","","","","","","","","","","","","","","","","","","",""]
[{"$f":"IF('5 Screening'!L32=\"y\", \"true\", \"false\")","v":"false"},{"$f":"IF($A147=\"TRUE\",'5 Screening'!B32,0)","v":0},{"$f":"IF(B147>0,MAX($C$131:C146)+1,0)","v":0},"","","","","","","","","","","","","","","","","","","","","","","","","","","","","","","","","","","","","","","","","","","","","","","","","","","","","","","","","","","","","","","","","","","","","","","","","","","","","","","","","","","","","","","","","","","","","","","","","","","","","","","","","","","","","","","","","","","","","","","","","","","","","","","","","","","","","","","","","","","","","","","","","","","","","","","","","","","","","","","","","","","","","","","","","","","","","","","","","","","","","","","","","","","","","","","","","","","","","","","","","","","","","","","","","","","","","","","","","","","","","","","","","","","","","","","","","","","","","","","","","","","","","","","","","","","","","","","","","","","","","","","","","","","","","","","","","","","","","","","","","","","","","","","","","","","","","","","","","","","","","","","","","","","","","","","","","","","","","","","","","","","","","","","","","","","","","","","","","","","","","","","","","","","","","",""]
[{"$f":"IF('5 Screening'!L33=\"y\", \"true\", \"false\")","v":"false"},{"$f":"IF($A148=\"TRUE\",'5 Screening'!B33,0)","v":0},{"$f":"IF(B148>0,MAX($C$131:C147)+1,0)","v":0},"","","","","","","","","","","","","","","","","","","","","","","","","","","","","","","","","","","","","","","","","","","","","","","","","","","","","","","","","","","","","","","","","","","","","","","","","","","","","","","","","","","","","","","","","","","","","","","","","","","","","","","","","","","","","","","","","","","","","","","","","","","","","","","","","","","","","","","","","","","","","","","","","","","","","","","","","","","","","","","","","","","","","","","","","","","","","","","","","","","","","","","","","","","","","","","","","","","","","","","","","","","","","","","","","","","","","","","","","","","","","","","","","","","","","","","","","","","","","","","","","","","","","","","","","","","","","","","","","","","","","","","","","","","","","","","","","","","","","","","","","","","","","","","","","","","","","","","","","","","","","","","","","","","","","","","","","","","","","","","","","","","","","","","","","","","","","","","","","","","","","","","","","","","","","",""]
[{"$f":"IF('5 Screening'!L34=\"y\", \"true\", \"false\")","v":"false"},{"$f":"IF($A149=\"TRUE\",'5 Screening'!B34,0)","v":0},{"$f":"IF(B149>0,MAX($C$131:C148)+1,0)","v":0},"","","","","","","","","","","","","","","","","","","","","","","","","","","","","","","","","","","","","","","","","","","","","","","","","","","","","","","","","","","","","","","","","","","","","","","","","","","","","","","","","","","","","","","","","","","","","","","","","","","","","","","","","","","","","","","","","","","","","","","","","","","","","","","","","","","","","","","","","","","","","","","","","","","","","","","","","","","","","","","","","","","","","","","","","","","","","","","","","","","","","","","","","","","","","","","","","","","","","","","","","","","","","","","","","","","","","","","","","","","","","","","","","","","","","","","","","","","","","","","","","","","","","","","","","","","","","","","","","","","","","","","","","","","","","","","","","","","","","","","","","","","","","","","","","","","","","","","","","","","","","","","","","","","","","","","","","","","","","","","","","","","","","","","","","","","","","","","","","","","","","","","","","","","","","",""]
[{"$f":"IF('5 Screening'!L35=\"y\", \"true\", \"false\")","v":"false"},{"$f":"IF($A150=\"TRUE\",'5 Screening'!B35,0)","v":0},{"$f":"IF(B150>0,MAX($C$131:C149)+1,0)","v":0},"","","","","","","","","","","","","","","","","","","","","","","","","","","","","","","","","","","","","","","","","","","","","","","","","","","","","","","","","","","","","","","","","","","","","","","","","","","","","","","","","","","","","","","","","","","","","","","","","","","","","","","","","","","","","","","","","","","","","","","","","","","","","","","","","","","","","","","","","","","","","","","","","","","","","","","","","","","","","","","","","","","","","","","","","","","","","","","","","","","","","","","","","","","","","","","","","","","","","","","","","","","","","","","","","","","","","","","","","","","","","","","","","","","","","","","","","","","","","","","","","","","","","","","","","","","","","","","","","","","","","","","","","","","","","","","","","","","","","","","","","","","","","","","","","","","","","","","","","","","","","","","","","","","","","","","","","","","","","","","","","","","","","","","","","","","","","","","","","","","","","","","","","","","","","",""]
[{"$f":"IF('5 Screening'!L36=\"y\", \"true\", \"false\")","v":"false"},{"$f":"IF($A151=\"TRUE\",'5 Screening'!B36,0)","v":0},{"$f":"IF(B151>0,MAX($C$131:C150)+1,0)","v":0},"","","","","","","","","","","","","","","","","","","","","","","","","","","","","","","","","","","","","","","","","","","","","","","","","","","","","","","","","","","","","","","","","","","","","","","","","","","","","","","","","","","","","","","","","","","","","","","","","","","","","","","","","","","","","","","","","","","","","","","","","","","","","","","","","","","","","","","","","","","","","","","","","","","","","","","","","","","","","","","","","","","","","","","","","","","","","","","","","","","","","","","","","","","","","","","","","","","","","","","","","","","","","","","","","","","","","","","","","","","","","","","","","","","","","","","","","","","","","","","","","","","","","","","","","","","","","","","","","","","","","","","","","","","","","","","","","","","","","","","","","","","","","","","","","","","","","","","","","","","","","","","","","","","","","","","","","","","","","","","","","","","","","","","","","","","","","","","","","","","","","","","","","","","","","",""]
[{"$f":"IF('5 Screening'!L37=\"y\", \"true\", \"false\")","v":"false"},{"$f":"IF($A152=\"TRUE\",'5 Screening'!B37,0)","v":0},{"$f":"IF(B152>0,MAX($C$131:C151)+1,0)","v":0},"","","","","","","","","","","","","","","","","","","","","","","","","","","","","","","","","","","","","","","","","","","","","","","","","","","","","","","","","","","","","","","","","","","","","","","","","","","","","","","","","","","","","","","","","","","","","","","","","","","","","","","","","","","","","","","","","","","","","","","","","","","","","","","","","","","","","","","","","","","","","","","","","","","","","","","","","","","","","","","","","","","","","","","","","","","","","","","","","","","","","","","","","","","","","","","","","","","","","","","","","","","","","","","","","","","","","","","","","","","","","","","","","","","","","","","","","","","","","","","","","","","","","","","","","","","","","","","","","","","","","","","","","","","","","","","","","","","","","","","","","","","","","","","","","","","","","","","","","","","","","","","","","","","","","","","","","","","","","","","","","","","","","","","","","","","","","","","","","","","","","","","","","","","","","",""]
[{"$f":"IF('5 Screening'!L38=\"y\", \"true\", \"false\")","v":"false"},{"$f":"IF($A153=\"TRUE\",'5 Screening'!B38,0)","v":0},{"$f":"IF(B153>0,MAX($C$131:C152)+1,0)","v":0},"","","","","","","","","","","","","","","","","","","","","","","","","","","","","","","","","","","","","","","","","","","","","","","","","","","","","","","","","","","","","","","","","","","","","","","","","","","","","","","","","","","","","","","","","","","","","","","","","","","","","","","","","","","","","","","","","","","","","","","","","","","","","","","","","","","","","","","","","","","","","","","","","","","","","","","","","","","","","","","","","","","","","","","","","","","","","","","","","","","","","","","","","","","","","","","","","","","","","","","","","","","","","","","","","","","","","","","","","","","","","","","","","","","","","","","","","","","","","","","","","","","","","","","","","","","","","","","","","","","","","","","","","","","","","","","","","","","","","","","","","","","","","","","","","","","","","","","","","","","","","","","","","","","","","","","","","","","","","","","","","","","","","","","","","","","","","","","","","","","","","","","","","","","","","",""]
[{"$f":"IF('5 Screening'!L39=\"y\", \"true\", \"false\")","v":"false"},{"$f":"IF($A154=\"TRUE\",'5 Screening'!B39,0)","v":0},{"$f":"IF(B154>0,MAX($C$131:C153)+1,0)","v":0},"","","","","","","","","","","","","","","","","","","","","","","","","","","","","","","","","","","","","","","","","","","","","","","","","","","","","","","","","","","","","","","","","","","","","","","","","","","","","","","","","","","","","","","","","","","","","","","","","","","","","","","","","","","","","","","","","","","","","","","","","","","","","","","","","","","","","","","","","","","","","","","","","","","","","","","","","","","","","","","","","","","","","","","","","","","","","","","","","","","","","","","","","","","","","","","","","","","","","","","","","","","","","","","","","","","","","","","","","","","","","","","","","","","","","","","","","","","","","","","","","","","","","","","","","","","","","","","","","","","","","","","","","","","","","","","","","","","","","","","","","","","","","","","","","","","","","","","","","","","","","","","","","","","","","","","","","","","","","","","","","","","","","","","","","","","","","","","","","","","","","","","","","","","","","",""]
[{"$f":"IF('5 Screening'!L40=\"y\", \"true\", \"false\")","v":"false"},{"$f":"IF($A155=\"TRUE\",'5 Screening'!B40,0)","v":0},{"$f":"IF(B155>0,MAX($C$131:C154)+1,0)","v":0},"","","","","","","","","","","","","","","","","","","","","","","","","","","","","","","","","","","","","","","","","","","","","","","","","","","","","","","","","","","","","","","","","","","","","","","","","","","","","","","","","","","","","","","","","","","","","","","","","","","","","","","","","","","","","","","","","","","","","","","","","","","","","","","","","","","","","","","","","","","","","","","","","","","","","","","","","","","","","","","","","","","","","","","","","","","","","","","","","","","","","","","","","","","","","","","","","","","","","","","","","","","","","","","","","","","","","","","","","","","","","","","","","","","","","","","","","","","","","","","","","","","","","","","","","","","","","","","","","","","","","","","","","","","","","","","","","","","","","","","","","","","","","","","","","","","","","","","","","","","","","","","","","","","","","","","","","","","","","","","","","","","","","","","","","","","","","","","","","","","","","","","","","","","","","",""]
[{"$f":"IF('5 Screening'!L41=\"y\", \"true\", \"false\")","v":"false"},{"$f":"IF($A156=\"TRUE\",'5 Screening'!B41,0)","v":0},{"$f":"IF(B156>0,MAX($C$131:C155)+1,0)","v":0},"","","","","","","","","","","","","","","","","","","","","","","","","","","","","","","","","","","","","","","","","","","","","","","","","","","","","","","","","","","","","","","","","","","","","","","","","","","","","","","","","","","","","","","","","","","","","","","","","","","","","","","","","","","","","","","","","","","","","","","","","","","","","","","","","","","","","","","","","","","","","","","","","","","","","","","","","","","","","","","","","","","","","","","","","","","","","","","","","","","","","","","","","","","","","","","","","","","","","","","","","","","","","","","","","","","","","","","","","","","","","","","","","","","","","","","","","","","","","","","","","","","","","","","","","","","","","","","","","","","","","","","","","","","","","","","","","","","","","","","","","","","","","","","","","","","","","","","","","","","","","","","","","","","","","","","","","","","","","","","","","","","","","","","","","","","","","","","","","","","","","","","","","","","","","",""]
[{"$f":"IF('5 Screening'!L42=\"y\", \"true\", \"false\")","v":"false"},{"$f":"IF($A157=\"TRUE\",'5 Screening'!B42,0)","v":0},{"$f":"IF(B157>0,MAX($C$131:C156)+1,0)","v":0},"","","","","","","","","","","","","","","","","","","","","","","","","","","","","","","","","","","","","","","","","","","","","","","","","","","","","","","","","","","","","","","","","","","","","","","","","","","","","","","","","","","","","","","","","","","","","","","","","","","","","","","","","","","","","","","","","","","","","","","","","","","","","","","","","","","","","","","","","","","","","","","","","","","","","","","","","","","","","","","","","","","","","","","","","","","","","","","","","","","","","","","","","","","","","","","","","","","","","","","","","","","","","","","","","","","","","","","","","","","","","","","","","","","","","","","","","","","","","","","","","","","","","","","","","","","","","","","","","","","","","","","","","","","","","","","","","","","","","","","","","","","","","","","","","","","","","","","","","","","","","","","","","","","","","","","","","","","","","","","","","","","","","","","","","","","","","","","","","","","","","","","","","","","","","",""]
[{"$f":"IF('5 Screening'!L43=\"y\", \"true\", \"false\")","v":"false"},{"$f":"IF($A158=\"TRUE\",'5 Screening'!B43,0)","v":0},{"$f":"IF(B158>0,MAX($C$131:C157)+1,0)","v":0},"","","","","","","","","","","","","","","","","","","","","","","","","","","","","","","","","","","","","","","","","","","","","","","","","","","","","","","","","","","","","","","","","","","","","","","","","","","","","","","","","","","","","","","","","","","","","","","","","","","","","","","","","","","","","","","","","","","","","","","","","","","","","","","","","","","","","","","","","","","","","","","","","","","","","","","","","","","","","","","","","","","","","","","","","","","","","","","","","","","","","","","","","","","","","","","","","","","","","","","","","","","","","","","","","","","","","","","","","","","","","","","","","","","","","","","","","","","","","","","","","","","","","","","","","","","","","","","","","","","","","","","","","","","","","","","","","","","","","","","","","","","","","","","","","","","","","","","","","","","","","","","","","","","","","","","","","","","","","","","","","","","","","","","","","","","","","","","","","","","","","","","","","","","","","",""]
[{"$f":"IF('5 Screening'!L44=\"y\", \"true\", \"false\")","v":"false"},{"$f":"IF($A159=\"TRUE\",'5 Screening'!B44,0)","v":0},{"$f":"IF(B159>0,MAX($C$131:C158)+1,0)","v":0},"","","","","","","","","","","","","","","","","","","","","","","","","","","","","","","","","","","","","","","","","","","","","","","","","","","","","","","","","","","","","","","","","","","","","","","","","","","","","","","","","","","","","","","","","","","","","","","","","","","","","","","","","","","","","","","","","","","","","","","","","","","","","","","","","","","","","","","","","","","","","","","","","","","","","","","","","","","","","","","","","","","","","","","","","","","","","","","","","","","","","","","","","","","","","","","","","","","","","","","","","","","","","","","","","","","","","","","","","","","","","","","","","","","","","","","","","","","","","","","","","","","","","","","","","","","","","","","","","","","","","","","","","","","","","","","","","","","","","","","","","","","","","","","","","","","","","","","","","","","","","","","","","","","","","","","","","","","","","","","","","","","","","","","","","","","","","","","","","","","","","","","","","","","","","",""]
[{"$f":"IF('5 Screening'!L45=\"y\", \"true\", \"false\")","v":"false"},{"$f":"IF($A160=\"TRUE\",'5 Screening'!B45,0)","v":0},{"$f":"IF(B160>0,MAX($C$131:C159)+1,0)","v":0},"","","","","","","","","","","","","","","","","","","","","","","","","","","","","","","","","","","","","","","","","","","","","","","","","","","","","","","","","","","","","","","","","","","","","","","","","","","","","","","","","","","","","","","","","","","","","","","","","","","","","","","","","","","","","","","","","","","","","","","","","","","","","","","","","","","","","","","","","","","","","","","","","","","","","","","","","","","","","","","","","","","","","","","","","","","","","","","","","","","","","","","","","","","","","","","","","","","","","","","","","","","","","","","","","","","","","","","","","","","","","","","","","","","","","","","","","","","","","","","","","","","","","","","","","","","","","","","","","","","","","","","","","","","","","","","","","","","","","","","","","","","","","","","","","","","","","","","","","","","","","","","","","","","","","","","","","","","","","","","","","","","","","","","","","","","","","","","","","","","","","","","","","","","","","",""]
[{"$f":"IF('5 Screening'!L46=\"y\", \"true\", \"false\")","v":"false"},{"$f":"IF($A161=\"TRUE\",'5 Screening'!B46,0)","v":0},{"$f":"IF(B161>0,MAX($C$131:C160)+1,0)","v":0},"","","","","","","","","","","","","","","","","","","","","","","","","","","","","","","","","","","","","","","","","","","","","","","","","","","","","","","","","","","","","","","","","","","","","","","","","","","","","","","","","","","","","","","","","","","","","","","","","","","","","","","","","","","","","","","","","","","","","","","","","","","","","","","","","","","","","","","","","","","","","","","","","","","","","","","","","","","","","","","","","","","","","","","","","","","","","","","","","","","","","","","","","","","","","","","","","","","","","","","","","","","","","","","","","","","","","","","","","","","","","","","","","","","","","","","","","","","","","","","","","","","","","","","","","","","","","","","","","","","","","","","","","","","","","","","","","","","","","","","","","","","","","","","","","","","","","","","","","","","","","","","","","","","","","","","","","","","","","","","","","","","","","","","","","","","","","","","","","","","","","","","","","","","","","",""]
[{"$f":"IF('5 Screening'!L47=\"y\", \"true\", \"false\")","v":"false"},{"$f":"IF($A162=\"TRUE\",'5 Screening'!B47,0)","v":0},{"$f":"IF(B162>0,MAX($C$131:C161)+1,0)","v":0},"","","","","","","","","","","","","","","","","","","","","","","","","","","","","","","","","","","","","","","","","","","","","","","","","","","","","","","","","","","","","","","","","","","","","","","","","","","","","","","","","","","","","","","","","","","","","","","","","","","","","","","","","","","","","","","","","","","","","","","","","","","","","","","","","","","","","","","","","","","","","","","","","","","","","","","","","","","","","","","","","","","","","","","","","","","","","","","","","","","","","","","","","","","","","","","","","","","","","","","","","","","","","","","","","","","","","","","","","","","","","","","","","","","","","","","","","","","","","","","","","","","","","","","","","","","","","","","","","","","","","","","","","","","","","","","","","","","","","","","","","","","","","","","","","","","","","","","","","","","","","","","","","","","","","","","","","","","","","","","","","","","","","","","","","","","","","","","","","","","","","","","","","","","","","",""]
[{"$f":"IF('5 Screening'!L48=\"y\", \"true\", \"false\")","v":"false"},{"$f":"IF($A163=\"TRUE\",'5 Screening'!B48,0)","v":0},{"$f":"IF(B163>0,MAX($C$131:C162)+1,0)","v":0},"","","","","","","","","","","","","","","","","","","","","","","","","","","","","","","","","","","","","","","","","","","","","","","","","","","","","","","","","","","","","","","","","","","","","","","","","","","","","","","","","","","","","","","","","","","","","","","","","","","","","","","","","","","","","","","","","","","","","","","","","","","","","","","","","","","","","","","","","","","","","","","","","","","","","","","","","","","","","","","","","","","","","","","","","","","","","","","","","","","","","","","","","","","","","","","","","","","","","","","","","","","","","","","","","","","","","","","","","","","","","","","","","","","","","","","","","","","","","","","","","","","","","","","","","","","","","","","","","","","","","","","","","","","","","","","","","","","","","","","","","","","","","","","","","","","","","","","","","","","","","","","","","","","","","","","","","","","","","","","","","","","","","","","","","","","","","","","","","","","","","","","","","","","","","",""]
[{"$f":"IF('5 Screening'!L49=\"y\", \"true\", \"false\")","v":"false"},{"$f":"IF($A164=\"TRUE\",'5 Screening'!B49,0)","v":0},{"$f":"IF(B164>0,MAX($C$131:C163)+1,0)","v":0},"","","","","","","","","","","","","","","","","","","","","","","","","","","","","","","","","","","","","","","","","","","","","","","","","","","","","","","","","","","","","","","","","","","","","","","","","","","","","","","","","","","","","","","","","","","","","","","","","","","","","","","","","","","","","","","","","","","","","","","","","","","","","","","","","","","","","","","","","","","","","","","","","","","","","","","","","","","","","","","","","","","","","","","","","","","","","","","","","","","","","","","","","","","","","","","","","","","","","","","","","","","","","","","","","","","","","","","","","","","","","","","","","","","","","","","","","","","","","","","","","","","","","","","","","","","","","","","","","","","","","","","","","","","","","","","","","","","","","","","","","","","","","","","","","","","","","","","","","","","","","","","","","","","","","","","","","","","","","","","","","","","","","","","","","","","","","","","","","","","","","","","","","","","","","",""]
[{"$f":"IF('5 Screening'!L50=\"y\", \"true\", \"false\")","v":"false"},{"$f":"IF($A165=\"TRUE\",'5 Screening'!B50,0)","v":0},{"$f":"IF(B165>0,MAX($C$131:C164)+1,0)","v":0},"","","","","","","","","","","","","","","","","","","","","","","","","","","","","","","","","","","","","","","","","","","","","","","","","","","","","","","","","","","","","","","","","","","","","","","","","","","","","","","","","","","","","","","","","","","","","","","","","","","","","","","","","","","","","","","","","","","","","","","","","","","","","","","","","","","","","","","","","","","","","","","","","","","","","","","","","","","","","","","","","","","","","","","","","","","","","","","","","","","","","","","","","","","","","","","","","","","","","","","","","","","","","","","","","","","","","","","","","","","","","","","","","","","","","","","","","","","","","","","","","","","","","","","","","","","","","","","","","","","","","","","","","","","","","","","","","","","","","","","","","","","","","","","","","","","","","","","","","","","","","","","","","","","","","","","","","","","","","","","","","","","","","","","","","","","","","","","","","","","","","","","","","","","","","",""]
[{"$f":"IF('5 Screening'!L51=\"y\", \"true\", \"false\")","v":"false"},{"$f":"IF($A166=\"TRUE\",'5 Screening'!B51,0)","v":0},{"$f":"IF(B166>0,MAX($C$131:C165)+1,0)","v":0},"","","","","","","","","","","","","","","","","","","","","","","","","","","","","","","","","","","","","","","","","","","","","","","","","","","","","","","","","","","","","","","","","","","","","","","","","","","","","","","","","","","","","","","","","","","","","","","","","","","","","","","","","","","","","","","","","","","","","","","","","","","","","","","","","","","","","","","","","","","","","","","","","","","","","","","","","","","","","","","","","","","","","","","","","","","","","","","","","","","","","","","","","","","","","","","","","","","","","","","","","","","","","","","","","","","","","","","","","","","","","","","","","","","","","","","","","","","","","","","","","","","","","","","","","","","","","","","","","","","","","","","","","","","","","","","","","","","","","","","","","","","","","","","","","","","","","","","","","","","","","","","","","","","","","","","","","","","","","","","","","","","","","","","","","","","","","","","","","","","","","","","","","","","","","",""]
[{"$f":"IF('5 Screening'!L52=\"y\", \"true\", \"false\")","v":"false"},{"$f":"IF($A167=\"TRUE\",'5 Screening'!B52,0)","v":0},{"$f":"IF(B167>0,MAX($C$131:C166)+1,0)","v":0},"","","","","","","","","","","","","","","","","","","","","","","","","","","","","","","","","","","","","","","","","","","","","","","","","","","","","","","","","","","","","","","","","","","","","","","","","","","","","","","","","","","","","","","","","","","","","","","","","","","","","","","","","","","","","","","","","","","","","","","","","","","","","","","","","","","","","","","","","","","","","","","","","","","","","","","","","","","","","","","","","","","","","","","","","","","","","","","","","","","","","","","","","","","","","","","","","","","","","","","","","","","","","","","","","","","","","","","","","","","","","","","","","","","","","","","","","","","","","","","","","","","","","","","","","","","","","","","","","","","","","","","","","","","","","","","","","","","","","","","","","","","","","","","","","","","","","","","","","","","","","","","","","","","","","","","","","","","","","","","","","","","","","","","","","","","","","","","","","","","","","","","","","","","","","",""]
[{"$f":"IF('5 Screening'!L53=\"y\", \"true\", \"false\")","v":"false"},{"$f":"IF($A168=\"TRUE\",'5 Screening'!B53,0)","v":0},{"$f":"IF(B168>0,MAX($C$131:C167)+1,0)","v":0},"","","","","","","","","","","","","","","","","","","","","","","","","","","","","","","","","","","","","","","","","","","","","","","","","","","","","","","","","","","","","","","","","","","","","","","","","","","","","","","","","","","","","","","","","","","","","","","","","","","","","","","","","","","","","","","","","","","","","","","","","","","","","","","","","","","","","","","","","","","","","","","","","","","","","","","","","","","","","","","","","","","","","","","","","","","","","","","","","","","","","","","","","","","","","","","","","","","","","","","","","","","","","","","","","","","","","","","","","","","","","","","","","","","","","","","","","","","","","","","","","","","","","","","","","","","","","","","","","","","","","","","","","","","","","","","","","","","","","","","","","","","","","","","","","","","","","","","","","","","","","","","","","","","","","","","","","","","","","","","","","","","","","","","","","","","","","","","","","","","","","","","","","","","","","",""]
[{"$f":"IF('5 Screening'!L54=\"y\", \"true\", \"false\")","v":"false"},{"$f":"IF($A169=\"TRUE\",'5 Screening'!B54,0)","v":0},{"$f":"IF(B169>0,MAX($C$131:C168)+1,0)","v":0},"","","","","","","","","","","","","","","","","","","","","","","","","","","","","","","","","","","","","","","","","","","","","","","","","","","","","","","","","","","","","","","","","","","","","","","","","","","","","","","","","","","","","","","","","","","","","","","","","","","","","","","","","","","","","","","","","","","","","","","","","","","","","","","","","","","","","","","","","","","","","","","","","","","","","","","","","","","","","","","","","","","","","","","","","","","","","","","","","","","","","","","","","","","","","","","","","","","","","","","","","","","","","","","","","","","","","","","","","","","","","","","","","","","","","","","","","","","","","","","","","","","","","","","","","","","","","","","","","","","","","","","","","","","","","","","","","","","","","","","","","","","","","","","","","","","","","","","","","","","","","","","","","","","","","","","","","","","","","","","","","","","","","","","","","","","","","","","","","","","","","","","","","","","","","",""]
[{"$f":"IF('5 Screening'!L55=\"y\", \"true\", \"false\")","v":"false"},{"$f":"IF($A170=\"TRUE\",'5 Screening'!B55,0)","v":0},{"$f":"IF(B170>0,MAX($C$131:C169)+1,0)","v":0},"","","","","","","","","","","","","","","","","","","","","","","","","","","","","","","","","","","","","","","","","","","","","","","","","","","","","","","","","","","","","","","","","","","","","","","","","","","","","","","","","","","","","","","","","","","","","","","","","","","","","","","","","","","","","","","","","","","","","","","","","","","","","","","","","","","","","","","","","","","","","","","","","","","","","","","","","","","","","","","","","","","","","","","","","","","","","","","","","","","","","","","","","","","","","","","","","","","","","","","","","","","","","","","","","","","","","","","","","","","","","","","","","","","","","","","","","","","","","","","","","","","","","","","","","","","","","","","","","","","","","","","","","","","","","","","","","","","","","","","","","","","","","","","","","","","","","","","","","","","","","","","","","","","","","","","","","","","","","","","","","","","","","","","","","","","","","","","","","","","","","","","","","","","","","",""]
[{"$f":"IF('5 Screening'!L56=\"y\", \"true\", \"false\")","v":"false"},{"$f":"IF($A171=\"TRUE\",'5 Screening'!B56,0)","v":0},{"$f":"IF(B171>0,MAX($C$131:C170)+1,0)","v":0},"","","","","","","","","","","","","","","","","","","","","","","","","","","","","","","","","","","","","","","","","","","","","","","","","","","","","","","","","","","","","","","","","","","","","","","","","","","","","","","","","","","","","","","","","","","","","","","","","","","","","","","","","","","","","","","","","","","","","","","","","","","","","","","","","","","","","","","","","","","","","","","","","","","","","","","","","","","","","","","","","","","","","","","","","","","","","","","","","","","","","","","","","","","","","","","","","","","","","","","","","","","","","","","","","","","","","","","","","","","","","","","","","","","","","","","","","","","","","","","","","","","","","","","","","","","","","","","","","","","","","","","","","","","","","","","","","","","","","","","","","","","","","","","","","","","","","","","","","","","","","","","","","","","","","","","","","","","","","","","","","","","","","","","","","","","","","","","","","","","","","","","","","","","","","",""]
[{"$f":"IF('5 Screening'!L57=\"y\", \"true\", \"false\")","v":"false"},{"$f":"IF($A172=\"TRUE\",'5 Screening'!B57,0)","v":0},{"$f":"IF(B172>0,MAX($C$131:C171)+1,0)","v":0},"","","","","","","","","","","","","","","","","","","","","","","","","","","","","","","","","","","","","","","","","","","","","","","","","","","","","","","","","","","","","","","","","","","","","","","","","","","","","","","","","","","","","","","","","","","","","","","","","","","","","","","","","","","","","","","","","","","","","","","","","","","","","","","","","","","","","","","","","","","","","","","","","","","","","","","","","","","","","","","","","","","","","","","","","","","","","","","","","","","","","","","","","","","","","","","","","","","","","","","","","","","","","","","","","","","","","","","","","","","","","","","","","","","","","","","","","","","","","","","","","","","","","","","","","","","","","","","","","","","","","","","","","","","","","","","","","","","","","","","","","","","","","","","","","","","","","","","","","","","","","","","","","","","","","","","","","","","","","","","","","","","","","","","","","","","","","","","","","","","","","","","","","","","","","",""]
[{"$f":"IF('5 Screening'!L58=\"y\", \"true\", \"false\")","v":"false"},{"$f":"IF($A173=\"TRUE\",'5 Screening'!B58,0)","v":0},{"$f":"IF(B173>0,MAX($C$131:C172)+1,0)","v":0},"","","","","","","","","","","","","","","","","","","","","","","","","","","","","","","","","","","","","","","","","","","","","","","","","","","","","","","","","","","","","","","","","","","","","","","","","","","","","","","","","","","","","","","","","","","","","","","","","","","","","","","","","","","","","","","","","","","","","","","","","","","","","","","","","","","","","","","","","","","","","","","","","","","","","","","","","","","","","","","","","","","","","","","","","","","","","","","","","","","","","","","","","","","","","","","","","","","","","","","","","","","","","","","","","","","","","","","","","","","","","","","","","","","","","","","","","","","","","","","","","","","","","","","","","","","","","","","","","","","","","","","","","","","","","","","","","","","","","","","","","","","","","","","","","","","","","","","","","","","","","","","","","","","","","","","","","","","","","","","","","","","","","","","","","","","","","","","","","","","","","","","","","","","","","",""]
[{"$f":"IF('5 Screening'!L59=\"y\", \"true\", \"false\")","v":"false"},{"$f":"IF($A174=\"TRUE\",'5 Screening'!B59,0)","v":0},{"$f":"IF(B174>0,MAX($C$131:C173)+1,0)","v":0},"","","","","","","","","","","","","","","","","","","","","","","","","","","","","","","","","","","","","","","","","","","","","","","","","","","","","","","","","","","","","","","","","","","","","","","","","","","","","","","","","","","","","","","","","","","","","","","","","","","","","","","","","","","","","","","","","","","","","","","","","","","","","","","","","","","","","","","","","","","","","","","","","","","","","","","","","","","","","","","","","","","","","","","","","","","","","","","","","","","","","","","","","","","","","","","","","","","","","","","","","","","","","","","","","","","","","","","","","","","","","","","","","","","","","","","","","","","","","","","","","","","","","","","","","","","","","","","","","","","","","","","","","","","","","","","","","","","","","","","","","","","","","","","","","","","","","","","","","","","","","","","","","","","","","","","","","","","","","","","","","","","","","","","","","","","","","","","","","","","","","","","","","","","","","",""]
[{"$f":"IF('5 Screening'!L60=\"y\", \"true\", \"false\")","v":"false"},{"$f":"IF($A175=\"TRUE\",'5 Screening'!B60,0)","v":0},{"$f":"IF(B175>0,MAX($C$131:C174)+1,0)","v":0},"","","","","","","","","","","","","","","","","","","","","","","","","","","","","","","","","","","","","","","","","","","","","","","","","","","","","","","","","","","","","","","","","","","","","","","","","","","","","","","","","","","","","","","","","","","","","","","","","","","","","","","","","","","","","","","","","","","","","","","","","","","","","","","","","","","","","","","","","","","","","","","","","","","","","","","","","","","","","","","","","","","","","","","","","","","","","","","","","","","","","","","","","","","","","","","","","","","","","","","","","","","","","","","","","","","","","","","","","","","","","","","","","","","","","","","","","","","","","","","","","","","","","","","","","","","","","","","","","","","","","","","","","","","","","","","","","","","","","","","","","","","","","","","","","","","","","","","","","","","","","","","","","","","","","","","","","","","","","","","","","","","","","","","","","","","","","","","","","","","","","","","","","","","","","",""]
[{"$f":"IF('5 Screening'!L61=\"y\", \"true\", \"false\")","v":"false"},{"$f":"IF($A176=\"TRUE\",'5 Screening'!B61,0)","v":0},{"$f":"IF(B176>0,MAX($C$131:C175)+1,0)","v":0},"","","","","","","","","","","","","","","","","","","","","","","","","","","","","","","","","","","","","","","","","","","","","","","","","","","","","","","","","","","","","","","","","","","","","","","","","","","","","","","","","","","","","","","","","","","","","","","","","","","","","","","","","","","","","","","","","","","","","","","","","","","","","","","","","","","","","","","","","","","","","","","","","","","","","","","","","","","","","","","","","","","","","","","","","","","","","","","","","","","","","","","","","","","","","","","","","","","","","","","","","","","","","","","","","","","","","","","","","","","","","","","","","","","","","","","","","","","","","","","","","","","","","","","","","","","","","","","","","","","","","","","","","","","","","","","","","","","","","","","","","","","","","","","","","","","","","","","","","","","","","","","","","","","","","","","","","","","","","","","","","","","","","","","","","","","","","","","","","","","","","","","","","","","","","",""]
[{"$f":"IF('5 Screening'!L62=\"y\", \"true\", \"false\")","v":"false"},{"$f":"IF($A177=\"TRUE\",'5 Screening'!B62,0)","v":0},{"$f":"IF(B177>0,MAX($C$131:C176)+1,0)","v":0},"","","","","","","","","","","","","","","","","","","","","","","","","","","","","","","","","","","","","","","","","","","","","","","","","","","","","","","","","","","","","","","","","","","","","","","","","","","","","","","","","","","","","","","","","","","","","","","","","","","","","","","","","","","","","","","","","","","","","","","","","","","","","","","","","","","","","","","","","","","","","","","","","","","","","","","","","","","","","","","","","","","","","","","","","","","","","","","","","","","","","","","","","","","","","","","","","","","","","","","","","","","","","","","","","","","","","","","","","","","","","","","","","","","","","","","","","","","","","","","","","","","","","","","","","","","","","","","","","","","","","","","","","","","","","","","","","","","","","","","","","","","","","","","","","","","","","","","","","","","","","","","","","","","","","","","","","","","","","","","","","","","","","","","","","","","","","","","","","","","","","","","","","","","","","",""]
[{"$f":"IF('5 Screening'!L63=\"y\", \"true\", \"false\")","v":"false"},{"$f":"IF($A178=\"TRUE\",'5 Screening'!B63,0)","v":0},{"$f":"IF(B178>0,MAX($C$131:C177)+1,0)","v":0},"","","","","","","","","","","","","","","","","","","","","","","","","","","","","","","","","","","","","","","","","","","","","","","","","","","","","","","","","","","","","","","","","","","","","","","","","","","","","","","","","","","","","","","","","","","","","","","","","","","","","","","","","","","","","","","","","","","","","","","","","","","","","","","","","","","","","","","","","","","","","","","","","","","","","","","","","","","","","","","","","","","","","","","","","","","","","","","","","","","","","","","","","","","","","","","","","","","","","","","","","","","","","","","","","","","","","","","","","","","","","","","","","","","","","","","","","","","","","","","","","","","","","","","","","","","","","","","","","","","","","","","","","","","","","","","","","","","","","","","","","","","","","","","","","","","","","","","","","","","","","","","","","","","","","","","","","","","","","","","","","","","","","","","","","","","","","","","","","","","","","","","","","","","","","",""]
[{"$f":"IF('5 Screening'!L64=\"y\", \"true\", \"false\")","v":"false"},{"$f":"IF($A179=\"TRUE\",'5 Screening'!B64,0)","v":0},{"$f":"IF(B179>0,MAX($C$131:C178)+1,0)","v":0},"","","","","","","","","","","","","","","","","","","","","","","","","","","","","","","","","","","","","","","","","","","","","","","","","","","","","","","","","","","","","","","","","","","","","","","","","","","","","","","","","","","","","","","","","","","","","","","","","","","","","","","","","","","","","","","","","","","","","","","","","","","","","","","","","","","","","","","","","","","","","","","","","","","","","","","","","","","","","","","","","","","","","","","","","","","","","","","","","","","","","","","","","","","","","","","","","","","","","","","","","","","","","","","","","","","","","","","","","","","","","","","","","","","","","","","","","","","","","","","","","","","","","","","","","","","","","","","","","","","","","","","","","","","","","","","","","","","","","","","","","","","","","","","","","","","","","","","","","","","","","","","","","","","","","","","","","","","","","","","","","","","","","","","","","","","","","","","","","","","","","","","","","","","","","",""]
[{"$f":"IF('5 Screening'!L65=\"y\", \"true\", \"false\")","v":"false"},{"$f":"IF($A180=\"TRUE\",'5 Screening'!B65,0)","v":0},{"$f":"IF(B180>0,MAX($C$131:C179)+1,0)","v":0},"","","","","","","","","","","","","","","","","","","","","","","","","","","","","","","","","","","","","","","","","","","","","","","","","","","","","","","","","","","","","","","","","","","","","","","","","","","","","","","","","","","","","","","","","","","","","","","","","","","","","","","","","","","","","","","","","","","","","","","","","","","","","","","","","","","","","","","","","","","","","","","","","","","","","","","","","","","","","","","","","","","","","","","","","","","","","","","","","","","","","","","","","","","","","","","","","","","","","","","","","","","","","","","","","","","","","","","","","","","","","","","","","","","","","","","","","","","","","","","","","","","","","","","","","","","","","","","","","","","","","","","","","","","","","","","","","","","","","","","","","","","","","","","","","","","","","","","","","","","","","","","","","","","","","","","","","","","","","","","","","","","","","","","","","","","","","","","","","","","","","","","","","","","","","",""]
[{"$f":"IF('5 Screening'!L66=\"y\", \"true\", \"false\")","v":"false"},{"$f":"IF($A181=\"TRUE\",'5 Screening'!B66,0)","v":0},{"$f":"IF(B181>0,MAX($C$131:C180)+1,0)","v":0},"","","","","","","","","","","","","","","","","","","","","","","","","","","","","","","","","","","","","","","","","","","","","","","","","","","","","","","","","","","","","","","","","","","","","","","","","","","","","","","","","","","","","","","","","","","","","","","","","","","","","","","","","","","","","","","","","","","","","","","","","","","","","","","","","","","","","","","","","","","","","","","","","","","","","","","","","","","","","","","","","","","","","","","","","","","","","","","","","","","","","","","","","","","","","","","","","","","","","","","","","","","","","","","","","","","","","","","","","","","","","","","","","","","","","","","","","","","","","","","","","","","","","","","","","","","","","","","","","","","","","","","","","","","","","","","","","","","","","","","","","","","","","","","","","","","","","","","","","","","","","","","","","","","","","","","","","","","","","","","","","","","","","","","","","","","","","","","","","","","","","","","","","","","","","",""]
[{"$f":"IF('5 Screening'!L67=\"y\", \"true\", \"false\")","v":"false"},{"$f":"IF($A182=\"TRUE\",'5 Screening'!B67,0)","v":0},{"$f":"IF(B182>0,MAX($C$131:C181)+1,0)","v":0},"","","","","","","","","","","","","","","","","","","","","","","","","","","","","","","","","","","","","","","","","","","","","","","","","","","","","","","","","","","","","","","","","","","","","","","","","","","","","","","","","","","","","","","","","","","","","","","","","","","","","","","","","","","","","","","","","","","","","","","","","","","","","","","","","","","","","","","","","","","","","","","","","","","","","","","","","","","","","","","","","","","","","","","","","","","","","","","","","","","","","","","","","","","","","","","","","","","","","","","","","","","","","","","","","","","","","","","","","","","","","","","","","","","","","","","","","","","","","","","","","","","","","","","","","","","","","","","","","","","","","","","","","","","","","","","","","","","","","","","","","","","","","","","","","","","","","","","","","","","","","","","","","","","","","","","","","","","","","","","","","","","","","","","","","","","","","","","","","","","","","","","","","","","","","",""]
[{"$f":"IF('5 Screening'!L68=\"y\", \"true\", \"false\")","v":"false"},{"$f":"IF($A183=\"TRUE\",'5 Screening'!B68,0)","v":0},{"$f":"IF(B183>0,MAX($C$131:C182)+1,0)","v":0},"","","","","","","","","","","","","","","","","","","","","","","","","","","","","","","","","","","","","","","","","","","","","","","","","","","","","","","","","","","","","","","","","","","","","","","","","","","","","","","","","","","","","","","","","","","","","","","","","","","","","","","","","","","","","","","","","","","","","","","","","","","","","","","","","","","","","","","","","","","","","","","","","","","","","","","","","","","","","","","","","","","","","","","","","","","","","","","","","","","","","","","","","","","","","","","","","","","","","","","","","","","","","","","","","","","","","","","","","","","","","","","","","","","","","","","","","","","","","","","","","","","","","","","","","","","","","","","","","","","","","","","","","","","","","","","","","","","","","","","","","","","","","","","","","","","","","","","","","","","","","","","","","","","","","","","","","","","","","","","","","","","","","","","","","","","","","","","","","","","","","","","","","","","","","",""]
[{"$f":"IF('5 Screening'!L69=\"y\", \"true\", \"false\")","v":"false"},{"$f":"IF($A184=\"TRUE\",'5 Screening'!B69,0)","v":0},{"$f":"IF(B184>0,MAX($C$131:C183)+1,0)","v":0},"","","","","","","","","","","","","","","","","","","","","","","","","","","","","","","","","","","","","","","","","","","","","","","","","","","","","","","","","","","","","","","","","","","","","","","","","","","","","","","","","","","","","","","","","","","","","","","","","","","","","","","","","","","","","","","","","","","","","","","","","","","","","","","","","","","","","","","","","","","","","","","","","","","","","","","","","","","","","","","","","","","","","","","","","","","","","","","","","","","","","","","","","","","","","","","","","","","","","","","","","","","","","","","","","","","","","","","","","","","","","","","","","","","","","","","","","","","","","","","","","","","","","","","","","","","","","","","","","","","","","","","","","","","","","","","","","","","","","","","","","","","","","","","","","","","","","","","","","","","","","","","","","","","","","","","","","","","","","","","","","","","","","","","","","","","","","","","","","","","","","","","","","","","","","",""]
[{"$f":"IF('5 Screening'!L70=\"y\", \"true\", \"false\")","v":"false"},{"$f":"IF($A185=\"TRUE\",'5 Screening'!B70,0)","v":0},{"$f":"IF(B185>0,MAX($C$131:C184)+1,0)","v":0},"","","","","","","","","","","","","","","","","","","","","","","","","","","","","","","","","","","","","","","","","","","","","","","","","","","","","","","","","","","","","","","","","","","","","","","","","","","","","","","","","","","","","","","","","","","","","","","","","","","","","","","","","","","","","","","","","","","","","","","","","","","","","","","","","","","","","","","","","","","","","","","","","","","","","","","","","","","","","","","","","","","","","","","","","","","","","","","","","","","","","","","","","","","","","","","","","","","","","","","","","","","","","","","","","","","","","","","","","","","","","","","","","","","","","","","","","","","","","","","","","","","","","","","","","","","","","","","","","","","","","","","","","","","","","","","","","","","","","","","","","","","","","","","","","","","","","","","","","","","","","","","","","","","","","","","","","","","","","","","","","","","","","","","","","","","","","","","","","","","","","","","","","","","","","",""]
[{"$f":"IF('5 Screening'!L71=\"y\", \"true\", \"false\")","v":"false"},{"$f":"IF($A186=\"TRUE\",'5 Screening'!B71,0)","v":0},{"$f":"IF(B186>0,MAX($C$131:C185)+1,0)","v":0},"","","","","","","","","","","","","","","","","","","","","","","","","","","","","","","","","","","","","","","","","","","","","","","","","","","","","","","","","","","","","","","","","","","","","","","","","","","","","","","","","","","","","","","","","","","","","","","","","","","","","","","","","","","","","","","","","","","","","","","","","","","","","","","","","","","","","","","","","","","","","","","","","","","","","","","","","","","","","","","","","","","","","","","","","","","","","","","","","","","","","","","","","","","","","","","","","","","","","","","","","","","","","","","","","","","","","","","","","","","","","","","","","","","","","","","","","","","","","","","","","","","","","","","","","","","","","","","","","","","","","","","","","","","","","","","","","","","","","","","","","","","","","","","","","","","","","","","","","","","","","","","","","","","","","","","","","","","","","","","","","","","","","","","","","","","","","","","","","","","","","","","","","","","","","",""]
[{"$f":"IF('5 Screening'!L72=\"y\", \"true\", \"false\")","v":"false"},{"$f":"IF($A187=\"TRUE\",'5 Screening'!B72,0)","v":0},{"$f":"IF(B187>0,MAX($C$131:C186)+1,0)","v":0},"","","","","","","","","","","","","","","","","","","","","","","","","","","","","","","","","","","","","","","","","","","","","","","","","","","","","","","","","","","","","","","","","","","","","","","","","","","","","","","","","","","","","","","","","","","","","","","","","","","","","","","","","","","","","","","","","","","","","","","","","","","","","","","","","","","","","","","","","","","","","","","","","","","","","","","","","","","","","","","","","","","","","","","","","","","","","","","","","","","","","","","","","","","","","","","","","","","","","","","","","","","","","","","","","","","","","","","","","","","","","","","","","","","","","","","","","","","","","","","","","","","","","","","","","","","","","","","","","","","","","","","","","","","","","","","","","","","","","","","","","","","","","","","","","","","","","","","","","","","","","","","","","","","","","","","","","","","","","","","","","","","","","","","","","","","","","","","","","","","","","","","","","","","","","",""]
[{"$f":"IF('5 Screening'!L73=\"y\", \"true\", \"false\")","v":"false"},{"$f":"IF($A188=\"TRUE\",'5 Screening'!B73,0)","v":0},{"$f":"IF(B188>0,MAX($C$131:C187)+1,0)","v":0},"","","","","","","","","","","","","","","","","","","","","","","","","","","","","","","","","","","","","","","","","","","","","","","","","","","","","","","","","","","","","","","","","","","","","","","","","","","","","","","","","","","","","","","","","","","","","","","","","","","","","","","","","","","","","","","","","","","","","","","","","","","","","","","","","","","","","","","","","","","","","","","","","","","","","","","","","","","","","","","","","","","","","","","","","","","","","","","","","","","","","","","","","","","","","","","","","","","","","","","","","","","","","","","","","","","","","","","","","","","","","","","","","","","","","","","","","","","","","","","","","","","","","","","","","","","","","","","","","","","","","","","","","","","","","","","","","","","","","","","","","","","","","","","","","","","","","","","","","","","","","","","","","","","","","","","","","","","","","","","","","","","","","","","","","","","","","","","","","","","","","","","","","","","","","",""]
[{"$f":"IF('5 Screening'!L74=\"y\", \"true\", \"false\")","v":"false"},{"$f":"IF($A189=\"TRUE\",'5 Screening'!B74,0)","v":0},{"$f":"IF(B189>0,MAX($C$131:C188)+1,0)","v":0},"","","","","","","","","","","","","","","","","","","","","","","","","","","","","","","","","","","","","","","","","","","","","","","","","","","","","","","","","","","","","","","","","","","","","","","","","","","","","","","","","","","","","","","","","","","","","","","","","","","","","","","","","","","","","","","","","","","","","","","","","","","","","","","","","","","","","","","","","","","","","","","","","","","","","","","","","","","","","","","","","","","","","","","","","","","","","","","","","","","","","","","","","","","","","","","","","","","","","","","","","","","","","","","","","","","","","","","","","","","","","","","","","","","","","","","","","","","","","","","","","","","","","","","","","","","","","","","","","","","","","","","","","","","","","","","","","","","","","","","","","","","","","","","","","","","","","","","","","","","","","","","","","","","","","","","","","","","","","","","","","","","","","","","","","","","","","","","","","","","","","","","","","","","","","",""]
[{"$f":"IF('5 Screening'!L75=\"y\", \"true\", \"false\")","v":"false"},{"$f":"IF($A190=\"TRUE\",'5 Screening'!B75,0)","v":0},{"$f":"IF(B190>0,MAX($C$131:C189)+1,0)","v":0},"","","","","","","","","","","","","","","","","","","","","","","","","","","","","","","","","","","","","","","","","","","","","","","","","","","","","","","","","","","","","","","","","","","","","","","","","","","","","","","","","","","","","","","","","","","","","","","","","","","","","","","","","","","","","","","","","","","","","","","","","","","","","","","","","","","","","","","","","","","","","","","","","","","","","","","","","","","","","","","","","","","","","","","","","","","","","","","","","","","","","","","","","","","","","","","","","","","","","","","","","","","","","","","","","","","","","","","","","","","","","","","","","","","","","","","","","","","","","","","","","","","","","","","","","","","","","","","","","","","","","","","","","","","","","","","","","","","","","","","","","","","","","","","","","","","","","","","","","","","","","","","","","","","","","","","","","","","","","","","","","","","","","","","","","","","","","","","","","","","","","","","","","","","","","",""]
[{"$f":"IF('5 Screening'!L76=\"y\", \"true\", \"false\")","v":"false"},{"$f":"IF($A191=\"TRUE\",'5 Screening'!B76,0)","v":0},{"$f":"IF(B191>0,MAX($C$131:C190)+1,0)","v":0},"","","","","","","","","","","","","","","","","","","","","","","","","","","","","","","","","","","","","","","","","","","","","","","","","","","","","","","","","","","","","","","","","","","","","","","","","","","","","","","","","","","","","","","","","","","","","","","","","","","","","","","","","","","","","","","","","","","","","","","","","","","","","","","","","","","","","","","","","","","","","","","","","","","","","","","","","","","","","","","","","","","","","","","","","","","","","","","","","","","","","","","","","","","","","","","","","","","","","","","","","","","","","","","","","","","","","","","","","","","","","","","","","","","","","","","","","","","","","","","","","","","","","","","","","","","","","","","","","","","","","","","","","","","","","","","","","","","","","","","","","","","","","","","","","","","","","","","","","","","","","","","","","","","","","","","","","","","","","","","","","","","","","","","","","","","","","","","","","","","","","","","","","","","","","",""]
[{"$f":"IF('5 Screening'!L77=\"y\", \"true\", \"false\")","v":"false"},{"$f":"IF($A192=\"TRUE\",'5 Screening'!B77,0)","v":0},{"$f":"IF(B192>0,MAX($C$131:C191)+1,0)","v":0},"","","","","","","","","","","","","","","","","","","","","","","","","","","","","","","","","","","","","","","","","","","","","","","","","","","","","","","","","","","","","","","","","","","","","","","","","","","","","","","","","","","","","","","","","","","","","","","","","","","","","","","","","","","","","","","","","","","","","","","","","","","","","","","","","","","","","","","","","","","","","","","","","","","","","","","","","","","","","","","","","","","","","","","","","","","","","","","","","","","","","","","","","","","","","","","","","","","","","","","","","","","","","","","","","","","","","","","","","","","","","","","","","","","","","","","","","","","","","","","","","","","","","","","","","","","","","","","","","","","","","","","","","","","","","","","","","","","","","","","","","","","","","","","","","","","","","","","","","","","","","","","","","","","","","","","","","","","","","","","","","","","","","","","","","","","","","","","","","","","","","","","","","","","","","",""]
[{"$f":"IF('5 Screening'!L78=\"y\", \"true\", \"false\")","v":"false"},{"$f":"IF($A193=\"TRUE\",'5 Screening'!B78,0)","v":0},{"$f":"IF(B193>0,MAX($C$131:C192)+1,0)","v":0},"","","","","","","","","","","","","","","","","","","","","","","","","","","","","","","","","","","","","","","","","","","","","","","","","","","","","","","","","","","","","","","","","","","","","","","","","","","","","","","","","","","","","","","","","","","","","","","","","","","","","","","","","","","","","","","","","","","","","","","","","","","","","","","","","","","","","","","","","","","","","","","","","","","","","","","","","","","","","","","","","","","","","","","","","","","","","","","","","","","","","","","","","","","","","","","","","","","","","","","","","","","","","","","","","","","","","","","","","","","","","","","","","","","","","","","","","","","","","","","","","","","","","","","","","","","","","","","","","","","","","","","","","","","","","","","","","","","","","","","","","","","","","","","","","","","","","","","","","","","","","","","","","","","","","","","","","","","","","","","","","","","","","","","","","","","","","","","","","","","","","","","","","","","","","",""]
[{"$f":"IF('5 Screening'!L79=\"y\", \"true\", \"false\")","v":"false"},{"$f":"IF($A194=\"TRUE\",'5 Screening'!B79,0)","v":0},{"$f":"IF(B194>0,MAX($C$131:C193)+1,0)","v":0},"","","","","","","","","","","","","","","","","","","","","","","","","","","","","","","","","","","","","","","","","","","","","","","","","","","","","","","","","","","","","","","","","","","","","","","","","","","","","","","","","","","","","","","","","","","","","","","","","","","","","","","","","","","","","","","","","","","","","","","","","","","","","","","","","","","","","","","","","","","","","","","","","","","","","","","","","","","","","","","","","","","","","","","","","","","","","","","","","","","","","","","","","","","","","","","","","","","","","","","","","","","","","","","","","","","","","","","","","","","","","","","","","","","","","","","","","","","","","","","","","","","","","","","","","","","","","","","","","","","","","","","","","","","","","","","","","","","","","","","","","","","","","","","","","","","","","","","","","","","","","","","","","","","","","","","","","","","","","","","","","","","","","","","","","","","","","","","","","","","","","","","","","","","","","",""]
[{"$f":"IF('5 Screening'!L80=\"y\", \"true\", \"false\")","v":"false"},{"$f":"IF($A195=\"TRUE\",'5 Screening'!B80,0)","v":0},{"$f":"IF(B195>0,MAX($C$131:C194)+1,0)","v":0},"","","","","","","","","","","","","","","","","","","","","","","","","","","","","","","","","","","","","","","","","","","","","","","","","","","","","","","","","","","","","","","","","","","","","","","","","","","","","","","","","","","","","","","","","","","","","","","","","","","","","","","","","","","","","","","","","","","","","","","","","","","","","","","","","","","","","","","","","","","","","","","","","","","","","","","","","","","","","","","","","","","","","","","","","","","","","","","","","","","","","","","","","","","","","","","","","","","","","","","","","","","","","","","","","","","","","","","","","","","","","","","","","","","","","","","","","","","","","","","","","","","","","","","","","","","","","","","","","","","","","","","","","","","","","","","","","","","","","","","","","","","","","","","","","","","","","","","","","","","","","","","","","","","","","","","","","","","","","","","","","","","","","","","","","","","","","","","","","","","","","","","","","","","","","",""]
[{"$f":"IF('5 Screening'!L81=\"y\", \"true\", \"false\")","v":"false"},{"$f":"IF($A196=\"TRUE\",'5 Screening'!B81,0)","v":0},{"$f":"IF(B196>0,MAX($C$131:C195)+1,0)","v":0},{"$f":"IF($C196=1, $B196, \"\")","v":""},{"$f":"IF($C196=2, $B196, \"\")","v":""},{"$f":"IF($C196=3, $B196, \"\")","v":""},{"$f":"IF($C196=4, $B196, \"\")","v":""},{"$f":"IF($C196=5, $B196, \"\")","v":""},{"$f":"IF($C196=6, $B196, \"\")","v":""},{"$f":"IF($C196=7, $B196, \"\")","v":""},{"$f":"IF($C196=8, $B196, \"\")","v":""},{"$f":"IF($C196=9, $B196, \"\")","v":""},{"$f":"IF($C196=10, $B196, \"\")","v":""},{"$f":"IF($C196=11, $B196, \"\")","v":""},{"$f":"IF($C196=12, $B196, \"\")","v":""},{"$f":"IF($C196=13, $B196, \"\")","v":""},{"$f":"IF($C196=14, $B196, \"\")","v":""},{"$f":"IF($C196=15, $B196, \"\")","v":""},{"$f":"IF($C196=16, $B196, \"\")","v":""},{"$f":"IF($C196=17, $B196, \"\")","v":""},{"$f":"IF($C196=18, $B196, \"\")","v":""},{"$f":"IF($C196=19, $B196, \"\")","v":""},{"$f":"IF($C196=20, $B196, \"\")","v":""},{"$f":"IF($C196=21, $B196, \"\")","v":""},{"$f":"IF($C196=22, $B196, \"\")","v":""},{"$f":"IF($C196=23, $B196, \"\")","v":""},{"$f":"IF($C196=24, $B196, \"\")","v":""},{"$f":"IF($C196=25, $B196, \"\")","v":""},{"$f":"IF($C196=26, $B196, \"\")","v":""},{"$f":"IF($C196=27, $B196, \"\")","v":""},{"$f":"IF($C196=28, $B196, \"\")","v":""},{"$f":"IF($C196=29, $B196, \"\")","v":""},{"$f":"IF($C196=30, $B196, \"\")","v":""},{"$f":"IF($C196=31, $B196, \"\")","v":""},{"$f":"IF($C196=32, $B196, \"\")","v":""},{"$f":"IF($C196=33, $B196, \"\")","v":""},{"$f":"IF($C196=34, $B196, \"\")","v":""},{"$f":"IF($C196=35, $B196, \"\")","v":""},{"$f":"IF($C196=36, $B196, \"\")","v":""},{"$f":"IF($C196=37, $B196, \"\")","v":""},{"$f":"IF($C196=38, $B196, \"\")","v":""},{"$f":"IF($C196=39, $B196, \"\")","v":""},{"$f":"IF($C196=40, $B196, \"\")","v":""},{"$f":"IF($C196=41, $B196, \"\")","v":""},{"$f":"IF($C196=42, $B196, \"\")","v":""},{"$f":"IF($C196=43, $B196, \"\")","v":""},{"$f":"IF($C196=44, $B196, \"\")","v":""},{"$f":"IF($C196=45, $B196, \"\")","v":""},{"$f":"IF($C196=46, $B196, \"\")","v":""},{"$f":"IF($C196=47, $B196, \"\")","v":""},{"$f":"IF($C196=48, $B196, \"\")","v":""},{"$f":"IF($C196=49, $B196, \"\")","v":""},{"$f":"IF($C196=50, $B196, \"\")","v":""},{"$f":"IF($C196=51, $B196, \"\")","v":""},{"$f":"IF($C196=52, $B196, \"\")","v":""},{"$f":"IF($C196=53, $B196, \"\")","v":""},{"$f":"IF($C196=54, $B196, \"\")","v":""},{"$f":"IF($C196=55, $B196, \"\")","v":""},{"$f":"IF($C196=56, $B196, \"\")","v":""},{"$f":"IF($C196=57, $B196, \"\")","v":""},{"$f":"IF($C196=58, $B196, \"\")","v":""},{"$f":"IF($C196=59, $B196, \"\")","v":""},{"$f":"IF($C196=60, $B196, \"\")","v":""},{"$f":"IF($C196=61, $B196, \"\")","v":""},{"$f":"IF($C196=62, $B196, \"\")","v":""},{"$f":"IF($C196=63, $B196, \"\")","v":""},{"$f":"IF($C196=64, $B196, \"\")","v":""},{"$f":"IF($C196=65, $B196, \"\")","v":""},{"$f":"IF($C196=66, $B196, \"\")","v":""},{"$f":"IF($C196=67, $B196, \"\")","v":""},{"$f":"IF($C196=68, $B196, \"\")","v":""},{"$f":"IF($C196=69, $B196, \"\")","v":""},{"$f":"IF($C196=70, $B196, \"\")","v":""},{"$f":"IF($C196=71, $B196, \"\")","v":""},{"$f":"IF($C196=72, $B196, \"\")","v":""},{"$f":"IF($C196=73, $B196, \"\")","v":""},{"$f":"IF($C196=74, $B196, \"\")","v":""},{"$f":"IF($C196=75, $B196, \"\")","v":""},{"$f":"IF($C196=76, $B196, \"\")","v":""},{"$f":"IF($C196=77, $B196, \"\")","v":""},{"$f":"IF($C196=78, $B196, \"\")","v":""},{"$f":"IF($C196=79, $B196, \"\")","v":""},{"$f":"IF($C196=80, $B196, \"\")","v":""},{"$f":"IF($C196=81, $B196, \"\")","v":""},{"$f":"IF($C196=82, $B196, \"\")","v":""},{"$f":"IF($C196=83, $B196, \"\")","v":""},{"$f":"IF($C196=84, $B196, \"\")","v":""},{"$f":"IF($C196=85, $B196, \"\")","v":""},{"$f":"IF($C196=86, $B196, \"\")","v":""},{"$f":"IF($C196=87, $B196, \"\")","v":""},{"$f":"IF($C196=88, $B196, \"\")","v":""},{"$f":"IF($C196=89, $B196, \"\")","v":""},{"$f":"IF($C196=90, $B196, \"\")","v":""},{"$f":"IF($C196=91, $B196, \"\")","v":""},{"$f":"IF($C196=92, $B196, \"\")","v":""},{"$f":"IF($C196=93, $B196, \"\")","v":""},{"$f":"IF($C196=94, $B196, \"\")","v":""},{"$f":"IF($C196=95, $B196, \"\")","v":""},{"$f":"IF($C196=96, $B196, \"\")","v":""},{"$f":"IF($C196=97, $B196, \"\")","v":""},{"$f":"IF($C196=98, $B196, \"\")","v":""},{"$f":"IF($C196=99, $B196, \"\")","v":""},{"$f":"IF($C196=100, $B196, \"\")","v":""},{"$f":"IF($C196=101, $B196, \"\")","v":""},{"$f":"IF($C196=102, $B196, \"\")","v":""},{"$f":"IF($C196=103, $B196, \"\")","v":""},{"$f":"IF($C196=104, $B196, \"\")","v":""},{"$f":"IF($C196=105, $B196, \"\")","v":""},{"$f":"IF($C196=106, $B196, \"\")","v":""},{"$f":"IF($C196=107, $B196, \"\")","v":""},{"$f":"IF($C196=108, $B196, \"\")","v":""},{"$f":"IF($C196=109, $B196, \"\")","v":""},{"$f":"IF($C196=110, $B196, \"\")","v":""},{"$f":"IF($C196=111, $B196, \"\")","v":""},{"$f":"IF($C196=112, $B196, \"\")","v":""},{"$f":"IF($C196=113, $B196, \"\")","v":""},{"$f":"IF($C196=114, $B196, \"\")","v":""},{"$f":"IF($C196=115, $B196, \"\")","v":""},{"$f":"IF($C196=116, $B196, \"\")","v":""},{"$f":"IF($C196=117, $B196, \"\")","v":""},{"$f":"IF($C196=118, $B196, \"\")","v":""},{"$f":"IF($C196=119, $B196, \"\")","v":""},{"$f":"IF($C196=120, $B196, \"\")","v":""},{"$f":"IF($C196=121, $B196, \"\")","v":""},{"$f":"IF($C196=122, $B196, \"\")","v":""},{"$f":"IF($C196=123, $B196, \"\")","v":""},{"$f":"IF($C196=124, $B196, \"\")","v":""},{"$f":"IF($C196=125, $B196, \"\")","v":""},{"$f":"IF($C196=126, $B196, \"\")","v":""},{"$f":"IF($C196=127, $B196, \"\")","v":""},{"$f":"IF($C196=128, $B196, \"\")","v":""},{"$f":"IF($C196=129, $B196, \"\")","v":""},{"$f":"IF($C196=130, $B196, \"\")","v":""},{"$f":"IF($C196=131, $B196, \"\")","v":""},{"$f":"IF($C196=132, $B196, \"\")","v":""},{"$f":"IF($C196=133, $B196, \"\")","v":""},{"$f":"IF($C196=134, $B196, \"\")","v":""},{"$f":"IF($C196=135, $B196, \"\")","v":""},{"$f":"IF($C196=136, $B196, \"\")","v":""},{"$f":"IF($C196=137, $B196, \"\")","v":""},{"$f":"IF($C196=138, $B196, \"\")","v":""},{"$f":"IF($C196=139, $B196, \"\")","v":""},{"$f":"IF($C196=140, $B196, \"\")","v":""},{"$f":"IF($C196=141, $B196, \"\")","v":""},{"$f":"IF($C196=142, $B196, \"\")","v":""},{"$f":"IF($C196=143, $B196, \"\")","v":""},{"$f":"IF($C196=144, $B196, \"\")","v":""},{"$f":"IF($C196=145, $B196, \"\")","v":""},{"$f":"IF($C196=146, $B196, \"\")","v":""},{"$f":"IF($C196=147, $B196, \"\")","v":""},{"$f":"IF($C196=148, $B196, \"\")","v":""},{"$f":"IF($C196=149, $B196, \"\")","v":""},{"$f":"IF($C196=150, $B196, \"\")","v":""},{"$f":"IF($C196=151, $B196, \"\")","v":""},{"$f":"IF($C196=152, $B196, \"\")","v":""},{"$f":"IF($C196=153, $B196, \"\")","v":""},{"$f":"IF($C196=154, $B196, \"\")","v":""},{"$f":"IF($C196=155, $B196, \"\")","v":""},{"$f":"IF($C196=156, $B196, \"\")","v":""},{"$f":"IF($C196=157, $B196, \"\")","v":""},{"$f":"IF($C196=158, $B196, \"\")","v":""},{"$f":"IF($C196=159, $B196, \"\")","v":""},{"$f":"IF($C196=160, $B196, \"\")","v":""},{"$f":"IF($C196=161, $B196, \"\")","v":""},{"$f":"IF($C196=162, $B196, \"\")","v":""},{"$f":"IF($C196=163, $B196, \"\")","v":""},{"$f":"IF($C196=164, $B196, \"\")","v":""},{"$f":"IF($C196=165, $B196, \"\")","v":""},{"$f":"IF($C196=166, $B196, \"\")","v":""},{"$f":"IF($C196=167, $B196, \"\")","v":""},{"$f":"IF($C196=168, $B196, \"\")","v":""},{"$f":"IF($C196=169, $B196, \"\")","v":""},{"$f":"IF($C196=170, $B196, \"\")","v":""},{"$f":"IF($C196=171, $B196, \"\")","v":""},{"$f":"IF($C196=172, $B196, \"\")","v":""},{"$f":"IF($C196=173, $B196, \"\")","v":""},{"$f":"IF($C196=174, $B196, \"\")","v":""},{"$f":"IF($C196=175, $B196, \"\")","v":""},{"$f":"IF($C196=176, $B196, \"\")","v":""},{"$f":"IF($C196=177, $B196, \"\")","v":""},{"$f":"IF($C196=178, $B196, \"\")","v":""},{"$f":"IF($C196=179, $B196, \"\")","v":""},{"$f":"IF($C196=180, $B196, \"\")","v":""},{"$f":"IF($C196=181, $B196, \"\")","v":""},{"$f":"IF($C196=182, $B196, \"\")","v":""},{"$f":"IF($C196=183, $B196, \"\")","v":""},{"$f":"IF($C196=184, $B196, \"\")","v":""},{"$f":"IF($C196=185, $B196, \"\")","v":""},{"$f":"IF($C196=186, $B196, \"\")","v":""},{"$f":"IF($C196=187, $B196, \"\")","v":""},{"$f":"IF($C196=188, $B196, \"\")","v":""},{"$f":"IF($C196=189, $B196, \"\")","v":""},{"$f":"IF($C196=190, $B196, \"\")","v":""},{"$f":"IF($C196=191, $B196, \"\")","v":""},{"$f":"IF($C196=192, $B196, \"\")","v":""},{"$f":"IF($C196=193, $B196, \"\")","v":""},{"$f":"IF($C196=194, $B196, \"\")","v":""},{"$f":"IF($C196=195, $B196, \"\")","v":""},{"$f":"IF($C196=196, $B196, \"\")","v":""},{"$f":"IF($C196=197, $B196, \"\")","v":""},{"$f":"IF($C196=198, $B196, \"\")","v":""},{"$f":"IF($C196=199, $B196, \"\")","v":""},{"$f":"IF($C196=200, $B196, \"\")","v":""},{"$f":"IF($C196=201, $B196, \"\")","v":""},{"$f":"IF($C196=202, $B196, \"\")","v":""},{"$f":"IF($C196=203, $B196, \"\")","v":""},{"$f":"IF($C196=204, $B196, \"\")","v":""},{"$f":"IF($C196=205, $B196, \"\")","v":""},{"$f":"IF($C196=206, $B196, \"\")","v":""},{"$f":"IF($C196=207, $B196, \"\")","v":""},{"$f":"IF($C196=208, $B196, \"\")","v":""},{"$f":"IF($C196=209, $B196, \"\")","v":""},{"$f":"IF($C196=210, $B196, \"\")","v":""},{"$f":"IF($C196=211, $B196, \"\")","v":""},{"$f":"IF($C196=212, $B196, \"\")","v":""},{"$f":"IF($C196=213, $B196, \"\")","v":""},{"$f":"IF($C196=214, $B196, \"\")","v":""},{"$f":"IF($C196=215, $B196, \"\")","v":""},{"$f":"IF($C196=216, $B196, \"\")","v":""},{"$f":"IF($C196=217, $B196, \"\")","v":""},{"$f":"IF($C196=218, $B196, \"\")","v":""},{"$f":"IF($C196=219, $B196, \"\")","v":""},{"$f":"IF($C196=220, $B196, \"\")","v":""},{"$f":"IF($C196=221, $B196, \"\")","v":""},{"$f":"IF($C196=222, $B196, \"\")","v":""},{"$f":"IF($C196=223, $B196, \"\")","v":""},{"$f":"IF($C196=224, $B196, \"\")","v":""},{"$f":"IF($C196=225, $B196, \"\")","v":""},{"$f":"IF($C196=226, $B196, \"\")","v":""},{"$f":"IF($C196=227, $B196, \"\")","v":""},{"$f":"IF($C196=228, $B196, \"\")","v":""},{"$f":"IF($C196=229, $B196, \"\")","v":""},{"$f":"IF($C196=230, $B196, \"\")","v":""},{"$f":"IF($C196=231, $B196, \"\")","v":""},{"$f":"IF($C196=232, $B196, \"\")","v":""},{"$f":"IF($C196=233, $B196, \"\")","v":""},{"$f":"IF($C196=234, $B196, \"\")","v":""},{"$f":"IF($C196=235, $B196, \"\")","v":""},{"$f":"IF($C196=236, $B196, \"\")","v":""},{"$f":"IF($C196=237, $B196, \"\")","v":""},{"$f":"IF($C196=238, $B196, \"\")","v":""},{"$f":"IF($C196=239, $B196, \"\")","v":""},{"$f":"IF($C196=240, $B196, \"\")","v":""},{"$f":"IF($C196=241, $B196, \"\")","v":""},{"$f":"IF($C196=242, $B196, \"\")","v":""},{"$f":"IF($C196=243, $B196, \"\")","v":""},{"$f":"IF($C196=244, $B196, \"\")","v":""},{"$f":"IF($C196=245, $B196, \"\")","v":""},{"$f":"IF($C196=246, $B196, \"\")","v":""},{"$f":"IF($C196=247, $B196, \"\")","v":""},{"$f":"IF($C196=248, $B196, \"\")","v":""},{"$f":"IF($C196=249, $B196, \"\")","v":""},{"$f":"IF($C196=250, $B196, \"\")","v":""},{"$f":"IF($C196=251, $B196, \"\")","v":""},{"$f":"IF($C196=252, $B196, \"\")","v":""},{"$f":"IF($C196=253, $B196, \"\")","v":""},{"$f":"IF($C196=254, $B196, \"\")","v":""},{"$f":"IF($C196=255, $B196, \"\")","v":""},{"$f":"IF($C196=256, $B196, \"\")","v":""},{"$f":"IF($C196=257, $B196, \"\")","v":""},{"$f":"IF($C196=258, $B196, \"\")","v":""},{"$f":"IF($C196=259, $B196, \"\")","v":""},{"$f":"IF($C196=260, $B196, \"\")","v":""},{"$f":"IF($C196=261, $B196, \"\")","v":""},{"$f":"IF($C196=262, $B196, \"\")","v":""},{"$f":"IF($C196=263, $B196, \"\")","v":""},{"$f":"IF($C196=264, $B196, \"\")","v":""},{"$f":"IF($C196=265, $B196, \"\")","v":""},{"$f":"IF($C196=266, $B196, \"\")","v":""},{"$f":"IF($C196=267, $B196, \"\")","v":""},{"$f":"IF($C196=268, $B196, \"\")","v":""},{"$f":"IF($C196=269, $B196, \"\")","v":""},{"$f":"IF($C196=270, $B196, \"\")","v":""},{"$f":"IF($C196=271, $B196, \"\")","v":""},{"$f":"IF($C196=272, $B196, \"\")","v":""},{"$f":"IF($C196=273, $B196, \"\")","v":""},{"$f":"IF($C196=274, $B196, \"\")","v":""},{"$f":"IF($C196=275, $B196, \"\")","v":""},{"$f":"IF($C196=276, $B196, \"\")","v":""},{"$f":"IF($C196=277, $B196, \"\")","v":""},{"$f":"IF($C196=278, $B196, \"\")","v":""},{"$f":"IF($C196=279, $B196, \"\")","v":""},{"$f":"IF($C196=280, $B196, \"\")","v":""},{"$f":"IF($C196=281, $B196, \"\")","v":""},{"$f":"IF($C196=282, $B196, \"\")","v":""},{"$f":"IF($C196=283, $B196, \"\")","v":""},{"$f":"IF($C196=284, $B196, \"\")","v":""},{"$f":"IF($C196=285, $B196, \"\")","v":""},{"$f":"IF($C196=286, $B196, \"\")","v":""},{"$f":"IF($C196=287, $B196, \"\")","v":""},{"$f":"IF($C196=288, $B196, \"\")","v":""},{"$f":"IF($C196=289, $B196, \"\")","v":""},{"$f":"IF($C196=290, $B196, \"\")","v":""},{"$f":"IF($C196=291, $B196, \"\")","v":""},{"$f":"IF($C196=292, $B196, \"\")","v":""},{"$f":"IF($C196=293, $B196, \"\")","v":""},{"$f":"IF($C196=294, $B196, \"\")","v":""},{"$f":"IF($C196=295, $B196, \"\")","v":""},{"$f":"IF($C196=296, $B196, \"\")","v":""},{"$f":"IF($C196=297, $B196, \"\")","v":""},{"$f":"IF($C196=298, $B196, \"\")","v":""},{"$f":"IF($C196=299, $B196, \"\")","v":""},{"$f":"IF($C196=300, $B196, \"\")","v":""},{"$f":"IF($C196=301, $B196, \"\")","v":""},{"$f":"IF($C196=302, $B196, \"\")","v":""},{"$f":"IF($C196=303, $B196, \"\")","v":""},{"$f":"IF($C196=304, $B196, \"\")","v":""},{"$f":"IF($C196=305, $B196, \"\")","v":""},{"$f":"IF($C196=306, $B196, \"\")","v":""},{"$f":"IF($C196=307, $B196, \"\")","v":""},{"$f":"IF($C196=308, $B196, \"\")","v":""},{"$f":"IF($C196=309, $B196, \"\")","v":""},{"$f":"IF($C196=310, $B196, \"\")","v":""},{"$f":"IF($C196=311, $B196, \"\")","v":""},{"$f":"IF($C196=312, $B196, \"\")","v":""},{"$f":"IF($C196=313, $B196, \"\")","v":""},{"$f":"IF($C196=314, $B196, \"\")","v":""},{"$f":"IF($C196=315, $B196, \"\")","v":""},{"$f":"IF($C196=316, $B196, \"\")","v":""},{"$f":"IF($C196=317, $B196, \"\")","v":""},{"$f":"IF($C196=318, $B196, \"\")","v":""},{"$f":"IF($C196=319, $B196, \"\")","v":""},{"$f":"IF($C196=320, $B196, \"\")","v":""},{"$f":"IF($C196=321, $B196, \"\")","v":""},{"$f":"IF($C196=322, $B196, \"\")","v":""},{"$f":"IF($C196=323, $B196, \"\")","v":""},{"$f":"IF($C196=324, $B196, \"\")","v":""},{"$f":"IF($C196=325, $B196, \"\")","v":""},{"$f":"IF($C196=326, $B196, \"\")","v":""},{"$f":"IF($C196=327, $B196, \"\")","v":""},{"$f":"IF($C196=328, $B196, \"\")","v":""},{"$f":"IF($C196=329, $B196, \"\")","v":""},{"$f":"IF($C196=330, $B196, \"\")","v":""},{"$f":"IF($C196=331, $B196, \"\")","v":""},{"$f":"IF($C196=332, $B196, \"\")","v":""},{"$f":"IF($C196=333, $B196, \"\")","v":""},{"$f":"IF($C196=334, $B196, \"\")","v":""},{"$f":"IF($C196=335, $B196, \"\")","v":""},{"$f":"IF($C196=336, $B196, \"\")","v":""},{"$f":"IF($C196=337, $B196, \"\")","v":""},{"$f":"IF($C196=338, $B196, \"\")","v":""},{"$f":"IF($C196=339, $B196, \"\")","v":""},{"$f":"IF($C196=340, $B196, \"\")","v":""},{"$f":"IF($C196=341, $B196, \"\")","v":""},{"$f":"IF($C196=342, $B196, \"\")","v":""},{"$f":"IF($C196=343, $B196, \"\")","v":""},{"$f":"IF($C196=344, $B196, \"\")","v":""},{"$f":"IF($C196=345, $B196, \"\")","v":""},{"$f":"IF($C196=346, $B196, \"\")","v":""},{"$f":"IF($C196=347, $B196, \"\")","v":""},{"$f":"IF($C196=348, $B196, \"\")","v":""},{"$f":"IF($C196=349, $B196, \"\")","v":""},{"$f":"IF($C196=350, $B196, \"\")","v":""}]
[{"$f":"IF('5 Screening'!L82=\"y\", \"true\", \"false\")","v":"false"},{"$f":"IF($A197=\"TRUE\",'5 Screening'!B82,0)","v":0},{"$f":"IF(B197>0,MAX($C$131:C196)+1,0)","v":0},"","","","","","","","","","","","","","","","","","","","","","","","","","","","","","","","","","","","","","","","","","","","","","","","","","","","","","","","","","","","","","","","","","","","","","","","","","","","","","","","","","","","","","","","","","","","","","","","","","","","","","","","","","","","","","","","","","","","","","","","","","","","","","","","","","","","","","","","","","","","","","","","","","","","","","","","","","","","","","","","","","","","","","","","","","","","","","","","","","","","","","","","","","","","","","","","","","","","","","","","","","","","","","","","","","","","","","","","","","","","","","","","","","","","","","","","","","","","","","","","","","","","","","","","","","","","","","","","","","","","","","","","","","","","","","","","","","","","","","","","","","","","","","","","","","","","","","","","","","","","","","","","","","","","","","","","","","","","","","","","","","","","","","","","","","","","","","","","","","","","","","","","","","","","","",""]
[{"$f":"IF('5 Screening'!L83=\"y\", \"true\", \"false\")","v":"false"},{"$f":"IF($A198=\"TRUE\",'5 Screening'!B83,0)","v":0},{"$f":"IF(B198>0,MAX($C$131:C197)+1,0)","v":0},"","","","","","","","","","","","","","","","","","","","","","","","","","","","","","","","","","","","","","","","","","","","","","","","","","","","","","","","","","","","","","","","","","","","","","","","","","","","","","","","","","","","","","","","","","","","","","","","","","","","","","","","","","","","","","","","","","","","","","","","","","","","","","","","","","","","","","","","","","","","","","","","","","","","","","","","","","","","","","","","","","","","","","","","","","","","","","","","","","","","","","","","","","","","","","","","","","","","","","","","","","","","","","","","","","","","","","","","","","","","","","","","","","","","","","","","","","","","","","","","","","","","","","","","","","","","","","","","","","","","","","","","","","","","","","","","","","","","","","","","","","","","","","","","","","","","","","","","","","","","","","","","","","","","","","","","","","","","","","","","","","","","","","","","","","","","","","","","","","","","","","","","","","","","","",""]
[{"$f":"IF('5 Screening'!L84=\"y\", \"true\", \"false\")","v":"false"},{"$f":"IF($A199=\"TRUE\",'5 Screening'!B84,0)","v":0},{"$f":"IF(B199>0,MAX($C$131:C198)+1,0)","v":0},"","","","","","","","","","","","","","","","","","","","","","","","","","","","","","","","","","","","","","","","","","","","","","","","","","","","","","","","","","","","","","","","","","","","","","","","","","","","","","","","","","","","","","","","","","","","","","","","","","","","","","","","","","","","","","","","","","","","","","","","","","","","","","","","","","","","","","","","","","","","","","","","","","","","","","","","","","","","","","","","","","","","","","","","","","","","","","","","","","","","","","","","","","","","","","","","","","","","","","","","","","","","","","","","","","","","","","","","","","","","","","","","","","","","","","","","","","","","","","","","","","","","","","","","","","","","","","","","","","","","","","","","","","","","","","","","","","","","","","","","","","","","","","","","","","","","","","","","","","","","","","","","","","","","","","","","","","","","","","","","","","","","","","","","","","","","","","","","","","","","","","","","","","","","","",""]
[{"$f":"IF('5 Screening'!L85=\"y\", \"true\", \"false\")","v":"false"},{"$f":"IF($A200=\"TRUE\",'5 Screening'!B85,0)","v":0},{"$f":"IF(B200>0,MAX($C$131:C199)+1,0)","v":0},"","","","","","","","","","","","","","","","","","","","","","","","","","","","","","","","","","","","","","","","","","","","","","","","","","","","","","","","","","","","","","","","","","","","","","","","","","","","","","","","","","","","","","","","","","","","","","","","","","","","","","","","","","","","","","","","","","","","","","","","","","","","","","","","","","","","","","","","","","","","","","","","","","","","","","","","","","","","","","","","","","","","","","","","","","","","","","","","","","","","","","","","","","","","","","","","","","","","","","","","","","","","","","","","","","","","","","","","","","","","","","","","","","","","","","","","","","","","","","","","","","","","","","","","","","","","","","","","","","","","","","","","","","","","","","","","","","","","","","","","","","","","","","","","","","","","","","","","","","","","","","","","","","","","","","","","","","","","","","","","","","","","","","","","","","","","","","","","","","","","","","","","","","","","","",""]
[{"$f":"IF('5 Screening'!L86=\"y\", \"true\", \"false\")","v":"false"},{"$f":"IF($A201=\"TRUE\",'5 Screening'!B86,0)","v":0},{"$f":"IF(B201>0,MAX($C$131:C200)+1,0)","v":0},"","","","","","","","","","","","","","","","","","","","","","","","","","","","","","","","","","","","","","","","","","","","","","","","","","","","","","","","","","","","","","","","","","","","","","","","","","","","","","","","","","","","","","","","","","","","","","","","","","","","","","","","","","","","","","","","","","","","","","","","","","","","","","","","","","","","","","","","","","","","","","","","","","","","","","","","","","","","","","","","","","","","","","","","","","","","","","","","","","","","","","","","","","","","","","","","","","","","","","","","","","","","","","","","","","","","","","","","","","","","","","","","","","","","","","","","","","","","","","","","","","","","","","","","","","","","","","","","","","","","","","","","","","","","","","","","","","","","","","","","","","","","","","","","","","","","","","","","","","","","","","","","","","","","","","","","","","","","","","","","","","","","","","","","","","","","","","","","","","","","","","","","","","","","","",""]
[{"$f":"IF('5 Screening'!L87=\"y\", \"true\", \"false\")","v":"false"},{"$f":"IF($A202=\"TRUE\",'5 Screening'!B87,0)","v":0},{"$f":"IF(B202>0,MAX($C$131:C201)+1,0)","v":0},"","","","","","","","","","","","","","","","","","","","","","","","","","","","","","","","","","","","","","","","","","","","","","","","","","","","","","","","","","","","","","","","","","","","","","","","","","","","","","","","","","","","","","","","","","","","","","","","","","","","","","","","","","","","","","","","","","","","","","","","","","","","","","","","","","","","","","","","","","","","","","","","","","","","","","","","","","","","","","","","","","","","","","","","","","","","","","","","","","","","","","","","","","","","","","","","","","","","","","","","","","","","","","","","","","","","","","","","","","","","","","","","","","","","","","","","","","","","","","","","","","","","","","","","","","","","","","","","","","","","","","","","","","","","","","","","","","","","","","","","","","","","","","","","","","","","","","","","","","","","","","","","","","","","","","","","","","","","","","","","","","","","","","","","","","","","","","","","","","","","","","","","","","","","","",""]
[{"$f":"IF('5 Screening'!L88=\"y\", \"true\", \"false\")","v":"false"},{"$f":"IF($A203=\"TRUE\",'5 Screening'!B88,0)","v":0},{"$f":"IF(B203>0,MAX($C$131:C202)+1,0)","v":0},"","","","","","","","","","","","","","","","","","","","","","","","","","","","","","","","","","","","","","","","","","","","","","","","","","","","","","","","","","","","","","","","","","","","","","","","","","","","","","","","","","","","","","","","","","","","","","","","","","","","","","","","","","","","","","","","","","","","","","","","","","","","","","","","","","","","","","","","","","","","","","","","","","","","","","","","","","","","","","","","","","","","","","","","","","","","","","","","","","","","","","","","","","","","","","","","","","","","","","","","","","","","","","","","","","","","","","","","","","","","","","","","","","","","","","","","","","","","","","","","","","","","","","","","","","","","","","","","","","","","","","","","","","","","","","","","","","","","","","","","","","","","","","","","","","","","","","","","","","","","","","","","","","","","","","","","","","","","","","","","","","","","","","","","","","","","","","","","","","","","","","","","","","","","","",""]
[{"$f":"IF('5 Screening'!L89=\"y\", \"true\", \"false\")","v":"false"},{"$f":"IF($A204=\"TRUE\",'5 Screening'!B89,0)","v":0},{"$f":"IF(B204>0,MAX($C$131:C203)+1,0)","v":0},"","","","","","","","","","","","","","","","","","","","","","","","","","","","","","","","","","","","","","","","","","","","","","","","","","","","","","","","","","","","","","","","","","","","","","","","","","","","","","","","","","","","","","","","","","","","","","","","","","","","","","","","","","","","","","","","","","","","","","","","","","","","","","","","","","","","","","","","","","","","","","","","","","","","","","","","","","","","","","","","","","","","","","","","","","","","","","","","","","","","","","","","","","","","","","","","","","","","","","","","","","","","","","","","","","","","","","","","","","","","","","","","","","","","","","","","","","","","","","","","","","","","","","","","","","","","","","","","","","","","","","","","","","","","","","","","","","","","","","","","","","","","","","","","","","","","","","","","","","","","","","","","","","","","","","","","","","","","","","","","","","","","","","","","","","","","","","","","","","","","","","","","","","","","","",""]
[{"$f":"IF('5 Screening'!L90=\"y\", \"true\", \"false\")","v":"false"},{"$f":"IF($A205=\"TRUE\",'5 Screening'!B90,0)","v":0},{"$f":"IF(B205>0,MAX($C$131:C204)+1,0)","v":0},"","","","","","","","","","","","","","","","","","","","","","","","","","","","","","","","","","","","","","","","","","","","","","","","","","","","","","","","","","","","","","","","","","","","","","","","","","","","","","","","","","","","","","","","","","","","","","","","","","","","","","","","","","","","","","","","","","","","","","","","","","","","","","","","","","","","","","","","","","","","","","","","","","","","","","","","","","","","","","","","","","","","","","","","","","","","","","","","","","","","","","","","","","","","","","","","","","","","","","","","","","","","","","","","","","","","","","","","","","","","","","","","","","","","","","","","","","","","","","","","","","","","","","","","","","","","","","","","","","","","","","","","","","","","","","","","","","","","","","","","","","","","","","","","","","","","","","","","","","","","","","","","","","","","","","","","","","","","","","","","","","","","","","","","","","","","","","","","","","","","","","","","","","","","","",""]
[{"$f":"IF('5 Screening'!L91=\"y\", \"true\", \"false\")","v":"false"},{"$f":"IF($A206=\"TRUE\",'5 Screening'!B91,0)","v":0},{"$f":"IF(B206>0,MAX($C$131:C205)+1,0)","v":0},"","","","","","","","","","","","","","","","","","","","","","","","","","","","","","","","","","","","","","","","","","","","","","","","","","","","","","","","","","","","","","","","","","","","","","","","","","","","","","","","","","","","","","","","","","","","","","","","","","","","","","","","","","","","","","","","","","","","","","","","","","","","","","","","","","","","","","","","","","","","","","","","","","","","","","","","","","","","","","","","","","","","","","","","","","","","","","","","","","","","","","","","","","","","","","","","","","","","","","","","","","","","","","","","","","","","","","","","","","","","","","","","","","","","","","","","","","","","","","","","","","","","","","","","","","","","","","","","","","","","","","","","","","","","","","","","","","","","","","","","","","","","","","","","","","","","","","","","","","","","","","","","","","","","","","","","","","","","","","","","","","","","","","","","","","","","","","","","","","","","","","","","","","","","","",""]
[{"$f":"IF('5 Screening'!L92=\"y\", \"true\", \"false\")","v":"false"},{"$f":"IF($A207=\"TRUE\",'5 Screening'!B92,0)","v":0},{"$f":"IF(B207>0,MAX($C$131:C206)+1,0)","v":0},"","","","","","","","","","","","","","","","","","","","","","","","","","","","","","","","","","","","","","","","","","","","","","","","","","","","","","","","","","","","","","","","","","","","","","","","","","","","","","","","","","","","","","","","","","","","","","","","","","","","","","","","","","","","","","","","","","","","","","","","","","","","","","","","","","","","","","","","","","","","","","","","","","","","","","","","","","","","","","","","","","","","","","","","","","","","","","","","","","","","","","","","","","","","","","","","","","","","","","","","","","","","","","","","","","","","","","","","","","","","","","","","","","","","","","","","","","","","","","","","","","","","","","","","","","","","","","","","","","","","","","","","","","","","","","","","","","","","","","","","","","","","","","","","","","","","","","","","","","","","","","","","","","","","","","","","","","","","","","","","","","","","","","","","","","","","","","","","","","","","","","","","","","","","","",""]
[{"$f":"IF('5 Screening'!L93=\"y\", \"true\", \"false\")","v":"false"},{"$f":"IF($A208=\"TRUE\",'5 Screening'!B93,0)","v":0},{"$f":"IF(B208>0,MAX($C$131:C207)+1,0)","v":0},"","","","","","","","","","","","","","","","","","","","","","","","","","","","","","","","","","","","","","","","","","","","","","","","","","","","","","","","","","","","","","","","","","","","","","","","","","","","","","","","","","","","","","","","","","","","","","","","","","","","","","","","","","","","","","","","","","","","","","","","","","","","","","","","","","","","","","","","","","","","","","","","","","","","","","","","","","","","","","","","","","","","","","","","","","","","","","","","","","","","","","","","","","","","","","","","","","","","","","","","","","","","","","","","","","","","","","","","","","","","","","","","","","","","","","","","","","","","","","","","","","","","","","","","","","","","","","","","","","","","","","","","","","","","","","","","","","","","","","","","","","","","","","","","","","","","","","","","","","","","","","","","","","","","","","","","","","","","","","","","","","","","","","","","","","","","","","","","","","","","","","","","","","","","","",""]
[{"$f":"IF('5 Screening'!L94=\"y\", \"true\", \"false\")","v":"false"},{"$f":"IF($A209=\"TRUE\",'5 Screening'!B94,0)","v":0},{"$f":"IF(B209>0,MAX($C$131:C208)+1,0)","v":0},"","","","","","","","","","","","","","","","","","","","","","","","","","","","","","","","","","","","","","","","","","","","","","","","","","","","","","","","","","","","","","","","","","","","","","","","","","","","","","","","","","","","","","","","","","","","","","","","","","","","","","","","","","","","","","","","","","","","","","","","","","","","","","","","","","","","","","","","","","","","","","","","","","","","","","","","","","","","","","","","","","","","","","","","","","","","","","","","","","","","","","","","","","","","","","","","","","","","","","","","","","","","","","","","","","","","","","","","","","","","","","","","","","","","","","","","","","","","","","","","","","","","","","","","","","","","","","","","","","","","","","","","","","","","","","","","","","","","","","","","","","","","","","","","","","","","","","","","","","","","","","","","","","","","","","","","","","","","","","","","","","","","","","","","","","","","","","","","","","","","","","","","","","","","","",""]
[{"$f":"IF('5 Screening'!L95=\"y\", \"true\", \"false\")","v":"false"},{"$f":"IF($A210=\"TRUE\",'5 Screening'!B95,0)","v":0},{"$f":"IF(B210>0,MAX($C$131:C209)+1,0)","v":0},"","","","","","","","","","","","","","","","","","","","","","","","","","","","","","","","","","","","","","","","","","","","","","","","","","","","","","","","","","","","","","","","","","","","","","","","","","","","","","","","","","","","","","","","","","","","","","","","","","","","","","","","","","","","","","","","","","","","","","","","","","","","","","","","","","","","","","","","","","","","","","","","","","","","","","","","","","","","","","","","","","","","","","","","","","","","","","","","","","","","","","","","","","","","","","","","","","","","","","","","","","","","","","","","","","","","","","","","","","","","","","","","","","","","","","","","","","","","","","","","","","","","","","","","","","","","","","","","","","","","","","","","","","","","","","","","","","","","","","","","","","","","","","","","","","","","","","","","","","","","","","","","","","","","","","","","","","","","","","","","","","","","","","","","","","","","","","","","","","","","","","","","","","","","","",""]
[{"$f":"IF('5 Screening'!L96=\"y\", \"true\", \"false\")","v":"false"},{"$f":"IF($A211=\"TRUE\",'5 Screening'!B96,0)","v":0},{"$f":"IF(B211>0,MAX($C$131:C210)+1,0)","v":0},"","","","","","","","","","","","","","","","","","","","","","","","","","","","","","","","","","","","","","","","","","","","","","","","","","","","","","","","","","","","","","","","","","","","","","","","","","","","","","","","","","","","","","","","","","","","","","","","","","","","","","","","","","","","","","","","","","","","","","","","","","","","","","","","","","","","","","","","","","","","","","","","","","","","","","","","","","","","","","","","","","","","","","","","","","","","","","","","","","","","","","","","","","","","","","","","","","","","","","","","","","","","","","","","","","","","","","","","","","","","","","","","","","","","","","","","","","","","","","","","","","","","","","","","","","","","","","","","","","","","","","","","","","","","","","","","","","","","","","","","","","","","","","","","","","","","","","","","","","","","","","","","","","","","","","","","","","","","","","","","","","","","","","","","","","","","","","","","","","","","","","","","","","","","","",""]
[{"$f":"IF('5 Screening'!L97=\"y\", \"true\", \"false\")","v":"false"},{"$f":"IF($A212=\"TRUE\",'5 Screening'!B97,0)","v":0},{"$f":"IF(B212>0,MAX($C$131:C211)+1,0)","v":0},"","","","","","","","","","","","","","","","","","","","","","","","","","","","","","","","","","","","","","","","","","","","","","","","","","","","","","","","","","","","","","","","","","","","","","","","","","","","","","","","","","","","","","","","","","","","","","","","","","","","","","","","","","","","","","","","","","","","","","","","","","","","","","","","","","","","","","","","","","","","","","","","","","","","","","","","","","","","","","","","","","","","","","","","","","","","","","","","","","","","","","","","","","","","","","","","","","","","","","","","","","","","","","","","","","","","","","","","","","","","","","","","","","","","","","","","","","","","","","","","","","","","","","","","","","","","","","","","","","","","","","","","","","","","","","","","","","","","","","","","","","","","","","","","","","","","","","","","","","","","","","","","","","","","","","","","","","","","","","","","","","","","","","","","","","","","","","","","","","","","","","","","","","","","","",""]
[{"$f":"IF('5 Screening'!L98=\"y\", \"true\", \"false\")","v":"false"},{"$f":"IF($A213=\"TRUE\",'5 Screening'!B98,0)","v":0},{"$f":"IF(B213>0,MAX($C$131:C212)+1,0)","v":0},"","","","","","","","","","","","","","","","","","","","","","","","","","","","","","","","","","","","","","","","","","","","","","","","","","","","","","","","","","","","","","","","","","","","","","","","","","","","","","","","","","","","","","","","","","","","","","","","","","","","","","","","","","","","","","","","","","","","","","","","","","","","","","","","","","","","","","","","","","","","","","","","","","","","","","","","","","","","","","","","","","","","","","","","","","","","","","","","","","","","","","","","","","","","","","","","","","","","","","","","","","","","","","","","","","","","","","","","","","","","","","","","","","","","","","","","","","","","","","","","","","","","","","","","","","","","","","","","","","","","","","","","","","","","","","","","","","","","","","","","","","","","","","","","","","","","","","","","","","","","","","","","","","","","","","","","","","","","","","","","","","","","","","","","","","","","","","","","","","","","","","","","","","","","","",""]
[{"$f":"IF('5 Screening'!L99=\"y\", \"true\", \"false\")","v":"false"},{"$f":"IF($A214=\"TRUE\",'5 Screening'!B99,0)","v":0},{"$f":"IF(B214>0,MAX($C$131:C213)+1,0)","v":0},"","","","","","","","","","","","","","","","","","","","","","","","","","","","","","","","","","","","","","","","","","","","","","","","","","","","","","","","","","","","","","","","","","","","","","","","","","","","","","","","","","","","","","","","","","","","","","","","","","","","","","","","","","","","","","","","","","","","","","","","","","","","","","","","","","","","","","","","","","","","","","","","","","","","","","","","","","","","","","","","","","","","","","","","","","","","","","","","","","","","","","","","","","","","","","","","","","","","","","","","","","","","","","","","","","","","","","","","","","","","","","","","","","","","","","","","","","","","","","","","","","","","","","","","","","","","","","","","","","","","","","","","","","","","","","","","","","","","","","","","","","","","","","","","","","","","","","","","","","","","","","","","","","","","","","","","","","","","","","","","","","","","","","","","","","","","","","","","","","","","","","","","","","","","","",""]
[{"$f":"IF('5 Screening'!L100=\"y\", \"true\", \"false\")","v":"false"},{"$f":"IF($A215=\"TRUE\",'5 Screening'!B100,0)","v":0},{"$f":"IF(B215>0,MAX($C$131:C214)+1,0)","v":0},"","","","","","","","","","","","","","","","","","","","","","","","","","","","","","","","","","","","","","","","","","","","","","","","","","","","","","","","","","","","","","","","","","","","","","","","","","","","","","","","","","","","","","","","","","","","","","","","","","","","","","","","","","","","","","","","","","","","","","","","","","","","","","","","","","","","","","","","","","","","","","","","","","","","","","","","","","","","","","","","","","","","","","","","","","","","","","","","","","","","","","","","","","","","","","","","","","","","","","","","","","","","","","","","","","","","","","","","","","","","","","","","","","","","","","","","","","","","","","","","","","","","","","","","","","","","","","","","","","","","","","","","","","","","","","","","","","","","","","","","","","","","","","","","","","","","","","","","","","","","","","","","","","","","","","","","","","","","","","","","","","","","","","","","","","","","","","","","","","","","","","","","","","","","","",""]
[{"$f":"IF('5 Screening'!L101=\"y\", \"true\", \"false\")","v":"false"},{"$f":"IF($A216=\"TRUE\",'5 Screening'!B101,0)","v":0},{"$f":"IF(B216>0,MAX($C$131:C215)+1,0)","v":0},"","","","","","","","","","","","","","","","","","","","","","","","","","","","","","","","","","","","","","","","","","","","","","","","","","","","","","","","","","","","","","","","","","","","","","","","","","","","","","","","","","","","","","","","","","","","","","","","","","","","","","","","","","","","","","","","","","","","","","","","","","","","","","","","","","","","","","","","","","","","","","","","","","","","","","","","","","","","","","","","","","","","","","","","","","","","","","","","","","","","","","","","","","","","","","","","","","","","","","","","","","","","","","","","","","","","","","","","","","","","","","","","","","","","","","","","","","","","","","","","","","","","","","","","","","","","","","","","","","","","","","","","","","","","","","","","","","","","","","","","","","","","","","","","","","","","","","","","","","","","","","","","","","","","","","","","","","","","","","","","","","","","","","","","","","","","","","","","","","","","","","","","","","","","","",""]
[{"$f":"IF('5 Screening'!L102=\"y\", \"true\", \"false\")","v":"false"},{"$f":"IF($A217=\"TRUE\",'5 Screening'!B102,0)","v":0},{"$f":"IF(B217>0,MAX($C$131:C216)+1,0)","v":0},"","","","","","","","","","","","","","","","","","","","","","","","","","","","","","","","","","","","","","","","","","","","","","","","","","","","","","","","","","","","","","","","","","","","","","","","","","","","","","","","","","","","","","","","","","","","","","","","","","","","","","","","","","","","","","","","","","","","","","","","","","","","","","","","","","","","","","","","","","","","","","","","","","","","","","","","","","","","","","","","","","","","","","","","","","","","","","","","","","","","","","","","","","","","","","","","","","","","","","","","","","","","","","","","","","","","","","","","","","","","","","","","","","","","","","","","","","","","","","","","","","","","","","","","","","","","","","","","","","","","","","","","","","","","","","","","","","","","","","","","","","","","","","","","","","","","","","","","","","","","","","","","","","","","","","","","","","","","","","","","","","","","","","","","","","","","","","","","","","","","","","","","","","","","","",""]
[{"$f":"IF('5 Screening'!L103=\"y\", \"true\", \"false\")","v":"false"},{"$f":"IF($A218=\"TRUE\",'5 Screening'!B103,0)","v":0},{"$f":"IF(B218>0,MAX($C$131:C217)+1,0)","v":0},"","","","","","","","","","","","","","","","","","","","","","","","","","","","","","","","","","","","","","","","","","","","","","","","","","","","","","","","","","","","","","","","","","","","","","","","","","","","","","","","","","","","","","","","","","","","","","","","","","","","","","","","","","","","","","","","","","","","","","","","","","","","","","","","","","","","","","","","","","","","","","","","","","","","","","","","","","","","","","","","","","","","","","","","","","","","","","","","","","","","","","","","","","","","","","","","","","","","","","","","","","","","","","","","","","","","","","","","","","","","","","","","","","","","","","","","","","","","","","","","","","","","","","","","","","","","","","","","","","","","","","","","","","","","","","","","","","","","","","","","","","","","","","","","","","","","","","","","","","","","","","","","","","","","","","","","","","","","","","","","","","","","","","","","","","","","","","","","","","","","","","","","","","","","","",""]
[{"$f":"IF('5 Screening'!L104=\"y\", \"true\", \"false\")","v":"false"},{"$f":"IF($A219=\"TRUE\",'5 Screening'!B104,0)","v":0},{"$f":"IF(B219>0,MAX($C$131:C218)+1,0)","v":0},"","","","","","","","","","","","","","","","","","","","","","","","","","","","","","","","","","","","","","","","","","","","","","","","","","","","","","","","","","","","","","","","","","","","","","","","","","","","","","","","","","","","","","","","","","","","","","","","","","","","","","","","","","","","","","","","","","","","","","","","","","","","","","","","","","","","","","","","","","","","","","","","","","","","","","","","","","","","","","","","","","","","","","","","","","","","","","","","","","","","","","","","","","","","","","","","","","","","","","","","","","","","","","","","","","","","","","","","","","","","","","","","","","","","","","","","","","","","","","","","","","","","","","","","","","","","","","","","","","","","","","","","","","","","","","","","","","","","","","","","","","","","","","","","","","","","","","","","","","","","","","","","","","","","","","","","","","","","","","","","","","","","","","","","","","","","","","","","","","","","","","","","","","","","","",""]
[{"$f":"IF('5 Screening'!L105=\"y\", \"true\", \"false\")","v":"false"},{"$f":"IF($A220=\"TRUE\",'5 Screening'!B105,0)","v":0},{"$f":"IF(B220>0,MAX($C$131:C219)+1,0)","v":0},"","","","","","","","","","","","","","","","","","","","","","","","","","","","","","","","","","","","","","","","","","","","","","","","","","","","","","","","","","","","","","","","","","","","","","","","","","","","","","","","","","","","","","","","","","","","","","","","","","","","","","","","","","","","","","","","","","","","","","","","","","","","","","","","","","","","","","","","","","","","","","","","","","","","","","","","","","","","","","","","","","","","","","","","","","","","","","","","","","","","","","","","","","","","","","","","","","","","","","","","","","","","","","","","","","","","","","","","","","","","","","","","","","","","","","","","","","","","","","","","","","","","","","","","","","","","","","","","","","","","","","","","","","","","","","","","","","","","","","","","","","","","","","","","","","","","","","","","","","","","","","","","","","","","","","","","","","","","","","","","","","","","","","","","","","","","","","","","","","","","","","","","","","","","","",""]
[{"$f":"IF('5 Screening'!L106=\"y\", \"true\", \"false\")","v":"false"},{"$f":"IF($A221=\"TRUE\",'5 Screening'!B106,0)","v":0},{"$f":"IF(B221>0,MAX($C$131:C220)+1,0)","v":0},"","","","","","","","","","","","","","","","","","","","","","","","","","","","","","","","","","","","","","","","","","","","","","","","","","","","","","","","","","","","","","","","","","","","","","","","","","","","","","","","","","","","","","","","","","","","","","","","","","","","","","","","","","","","","","","","","","","","","","","","","","","","","","","","","","","","","","","","","","","","","","","","","","","","","","","","","","","","","","","","","","","","","","","","","","","","","","","","","","","","","","","","","","","","","","","","","","","","","","","","","","","","","","","","","","","","","","","","","","","","","","","","","","","","","","","","","","","","","","","","","","","","","","","","","","","","","","","","","","","","","","","","","","","","","","","","","","","","","","","","","","","","","","","","","","","","","","","","","","","","","","","","","","","","","","","","","","","","","","","","","","","","","","","","","","","","","","","","","","","","","","","","","","","","","",""]
[{"$f":"IF('5 Screening'!L107=\"y\", \"true\", \"false\")","v":"false"},{"$f":"IF($A222=\"TRUE\",'5 Screening'!B107,0)","v":0},{"$f":"IF(B222>0,MAX($C$131:C221)+1,0)","v":0},"","","","","","","","","","","","","","","","","","","","","","","","","","","","","","","","","","","","","","","","","","","","","","","","","","","","","","","","","","","","","","","","","","","","","","","","","","","","","","","","","","","","","","","","","","","","","","","","","","","","","","","","","","","","","","","","","","","","","","","","","","","","","","","","","","","","","","","","","","","","","","","","","","","","","","","","","","","","","","","","","","","","","","","","","","","","","","","","","","","","","","","","","","","","","","","","","","","","","","","","","","","","","","","","","","","","","","","","","","","","","","","","","","","","","","","","","","","","","","","","","","","","","","","","","","","","","","","","","","","","","","","","","","","","","","","","","","","","","","","","","","","","","","","","","","","","","","","","","","","","","","","","","","","","","","","","","","","","","","","","","","","","","","","","","","","","","","","","","","","","","","","","","","","","","",""]
[{"$f":"IF('5 Screening'!L108=\"y\", \"true\", \"false\")","v":"false"},{"$f":"IF($A223=\"TRUE\",'5 Screening'!B108,0)","v":0},{"$f":"IF(B223>0,MAX($C$131:C222)+1,0)","v":0},"","","","","","","","","","","","","","","","","","","","","","","","","","","","","","","","","","","","","","","","","","","","","","","","","","","","","","","","","","","","","","","","","","","","","","","","","","","","","","","","","","","","","","","","","","","","","","","","","","","","","","","","","","","","","","","","","","","","","","","","","","","","","","","","","","","","","","","","","","","","","","","","","","","","","","","","","","","","","","","","","","","","","","","","","","","","","","","","","","","","","","","","","","","","","","","","","","","","","","","","","","","","","","","","","","","","","","","","","","","","","","","","","","","","","","","","","","","","","","","","","","","","","","","","","","","","","","","","","","","","","","","","","","","","","","","","","","","","","","","","","","","","","","","","","","","","","","","","","","","","","","","","","","","","","","","","","","","","","","","","","","","","","","","","","","","","","","","","","","","","","","","","","","","","","",""]
[{"$f":"IF('5 Screening'!L109=\"y\", \"true\", \"false\")","v":"false"},{"$f":"IF($A224=\"TRUE\",'5 Screening'!B109,0)","v":0},{"$f":"IF(B224>0,MAX($C$131:C223)+1,0)","v":0},"","","","","","","","","","","","","","","","","","","","","","","","","","","","","","","","","","","","","","","","","","","","","","","","","","","","","","","","","","","","","","","","","","","","","","","","","","","","","","","","","","","","","","","","","","","","","","","","","","","","","","","","","","","","","","","","","","","","","","","","","","","","","","","","","","","","","","","","","","","","","","","","","","","","","","","","","","","","","","","","","","","","","","","","","","","","","","","","","","","","","","","","","","","","","","","","","","","","","","","","","","","","","","","","","","","","","","","","","","","","","","","","","","","","","","","","","","","","","","","","","","","","","","","","","","","","","","","","","","","","","","","","","","","","","","","","","","","","","","","","","","","","","","","","","","","","","","","","","","","","","","","","","","","","","","","","","","","","","","","","","","","","","","","","","","","","","","","","","","","","","","","","","","","","","",""]
[{"$f":"IF('5 Screening'!L110=\"y\", \"true\", \"false\")","v":"false"},{"$f":"IF($A225=\"TRUE\",'5 Screening'!B110,0)","v":0},{"$f":"IF(B225>0,MAX($C$131:C224)+1,0)","v":0},"","","","","","","","","","","","","","","","","","","","","","","","","","","","","","","","","","","","","","","","","","","","","","","","","","","","","","","","","","","","","","","","","","","","","","","","","","","","","","","","","","","","","","","","","","","","","","","","","","","","","","","","","","","","","","","","","","","","","","","","","","","","","","","","","","","","","","","","","","","","","","","","","","","","","","","","","","","","","","","","","","","","","","","","","","","","","","","","","","","","","","","","","","","","","","","","","","","","","","","","","","","","","","","","","","","","","","","","","","","","","","","","","","","","","","","","","","","","","","","","","","","","","","","","","","","","","","","","","","","","","","","","","","","","","","","","","","","","","","","","","","","","","","","","","","","","","","","","","","","","","","","","","","","","","","","","","","","","","","","","","","","","","","","","","","","","","","","","","","","","","","","","","","","","","",""]
[{"$f":"IF('5 Screening'!L111=\"y\", \"true\", \"false\")","v":"false"},{"$f":"IF($A226=\"TRUE\",'5 Screening'!B111,0)","v":0},{"$f":"IF(B226>0,MAX($C$131:C225)+1,0)","v":0},"","","","","","","","","","","","","","","","","","","","","","","","","","","","","","","","","","","","","","","","","","","","","","","","","","","","","","","","","","","","","","","","","","","","","","","","","","","","","","","","","","","","","","","","","","","","","","","","","","","","","","","","","","","","","","","","","","","","","","","","","","","","","","","","","","","","","","","","","","","","","","","","","","","","","","","","","","","","","","","","","","","","","","","","","","","","","","","","","","","","","","","","","","","","","","","","","","","","","","","","","","","","","","","","","","","","","","","","","","","","","","","","","","","","","","","","","","","","","","","","","","","","","","","","","","","","","","","","","","","","","","","","","","","","","","","","","","","","","","","","","","","","","","","","","","","","","","","","","","","","","","","","","","","","","","","","","","","","","","","","","","","","","","","","","","","","","","","","","","","","","","","","","","","","","",""]
[{"$f":"IF('5 Screening'!L112=\"y\", \"true\", \"false\")","v":"false"},{"$f":"IF($A227=\"TRUE\",'5 Screening'!B112,0)","v":0},{"$f":"IF(B227>0,MAX($C$131:C226)+1,0)","v":0},"","","","","","","","","","","","","","","","","","","","","","","","","","","","","","","","","","","","","","","","","","","","","","","","","","","","","","","","","","","","","","","","","","","","","","","","","","","","","","","","","","","","","","","","","","","","","","","","","","","","","","","","","","","","","","","","","","","","","","","","","","","","","","","","","","","","","","","","","","","","","","","","","","","","","","","","","","","","","","","","","","","","","","","","","","","","","","","","","","","","","","","","","","","","","","","","","","","","","","","","","","","","","","","","","","","","","","","","","","","","","","","","","","","","","","","","","","","","","","","","","","","","","","","","","","","","","","","","","","","","","","","","","","","","","","","","","","","","","","","","","","","","","","","","","","","","","","","","","","","","","","","","","","","","","","","","","","","","","","","","","","","","","","","","","","","","","","","","","","","","","","","","","","","","","",""]
[{"$f":"IF('5 Screening'!L113=\"y\", \"true\", \"false\")","v":"false"},{"$f":"IF($A228=\"TRUE\",'5 Screening'!B113,0)","v":0},{"$f":"IF(B228>0,MAX($C$131:C227)+1,0)","v":0},"","","","","","","","","","","","","","","","","","","","","","","","","","","","","","","","","","","","","","","","","","","","","","","","","","","","","","","","","","","","","","","","","","","","","","","","","","","","","","","","","","","","","","","","","","","","","","","","","","","","","","","","","","","","","","","","","","","","","","","","","","","","","","","","","","","","","","","","","","","","","","","","","","","","","","","","","","","","","","","","","","","","","","","","","","","","","","","","","","","","","","","","","","","","","","","","","","","","","","","","","","","","","","","","","","","","","","","","","","","","","","","","","","","","","","","","","","","","","","","","","","","","","","","","","","","","","","","","","","","","","","","","","","","","","","","","","","","","","","","","","","","","","","","","","","","","","","","","","","","","","","","","","","","","","","","","","","","","","","","","","","","","","","","","","","","","","","","","","","","","","","","","","","","","","",""]
[{"$f":"IF('5 Screening'!L114=\"y\", \"true\", \"false\")","v":"false"},{"$f":"IF($A229=\"TRUE\",'5 Screening'!B114,0)","v":0},{"$f":"IF(B229>0,MAX($C$131:C228)+1,0)","v":0},"","","","","","","","","","","","","","","","","","","","","","","","","","","","","","","","","","","","","","","","","","","","","","","","","","","","","","","","","","","","","","","","","","","","","","","","","","","","","","","","","","","","","","","","","","","","","","","","","","","","","","","","","","","","","","","","","","","","","","","","","","","","","","","","","","","","","","","","","","","","","","","","","","","","","","","","","","","","","","","","","","","","","","","","","","","","","","","","","","","","","","","","","","","","","","","","","","","","","","","","","","","","","","","","","","","","","","","","","","","","","","","","","","","","","","","","","","","","","","","","","","","","","","","","","","","","","","","","","","","","","","","","","","","","","","","","","","","","","","","","","","","","","","","","","","","","","","","","","","","","","","","","","","","","","","","","","","","","","","","","","","","","","","","","","","","","","","","","","","","","","","","","","","","","","",""]
[{"$f":"IF('5 Screening'!L115=\"y\", \"true\", \"false\")","v":"false"},{"$f":"IF($A230=\"TRUE\",'5 Screening'!B115,0)","v":0},{"$f":"IF(B230>0,MAX($C$131:C229)+1,0)","v":0},"","","","","","","","","","","","","","","","","","","","","","","","","","","","","","","","","","","","","","","","","","","","","","","","","","","","","","","","","","","","","","","","","","","","","","","","","","","","","","","","","","","","","","","","","","","","","","","","","","","","","","","","","","","","","","","","","","","","","","","","","","","","","","","","","","","","","","","","","","","","","","","","","","","","","","","","","","","","","","","","","","","","","","","","","","","","","","","","","","","","","","","","","","","","","","","","","","","","","","","","","","","","","","","","","","","","","","","","","","","","","","","","","","","","","","","","","","","","","","","","","","","","","","","","","","","","","","","","","","","","","","","","","","","","","","","","","","","","","","","","","","","","","","","","","","","","","","","","","","","","","","","","","","","","","","","","","","","","","","","","","","","","","","","","","","","","","","","","","","","","","","","","","","","","","",""]
[{"$f":"IF('5 Screening'!L116=\"y\", \"true\", \"false\")","v":"false"},{"$f":"IF($A231=\"TRUE\",'5 Screening'!B116,0)","v":0},{"$f":"IF(B231>0,MAX($C$131:C230)+1,0)","v":0},"","","","","","","","","","","","","","","","","","","","","","","","","","","","","","","","","","","","","","","","","","","","","","","","","","","","","","","","","","","","","","","","","","","","","","","","","","","","","","","","","","","","","","","","","","","","","","","","","","","","","","","","","","","","","","","","","","","","","","","","","","","","","","","","","","","","","","","","","","","","","","","","","","","","","","","","","","","","","","","","","","","","","","","","","","","","","","","","","","","","","","","","","","","","","","","","","","","","","","","","","","","","","","","","","","","","","","","","","","","","","","","","","","","","","","","","","","","","","","","","","","","","","","","","","","","","","","","","","","","","","","","","","","","","","","","","","","","","","","","","","","","","","","","","","","","","","","","","","","","","","","","","","","","","","","","","","","","","","","","","","","","","","","","","","","","","","","","","","","","","","","","","","","","","","",""]
[{"$f":"IF('5 Screening'!L117=\"y\", \"true\", \"false\")","v":"false"},{"$f":"IF($A232=\"TRUE\",'5 Screening'!B117,0)","v":0},{"$f":"IF(B232>0,MAX($C$131:C231)+1,0)","v":0},"","","","","","","","","","","","","","","","","","","","","","","","","","","","","","","","","","","","","","","","","","","","","","","","","","","","","","","","","","","","","","","","","","","","","","","","","","","","","","","","","","","","","","","","","","","","","","","","","","","","","","","","","","","","","","","","","","","","","","","","","","","","","","","","","","","","","","","","","","","","","","","","","","","","","","","","","","","","","","","","","","","","","","","","","","","","","","","","","","","","","","","","","","","","","","","","","","","","","","","","","","","","","","","","","","","","","","","","","","","","","","","","","","","","","","","","","","","","","","","","","","","","","","","","","","","","","","","","","","","","","","","","","","","","","","","","","","","","","","","","","","","","","","","","","","","","","","","","","","","","","","","","","","","","","","","","","","","","","","","","","","","","","","","","","","","","","","","","","","","","","","","","","","","","","",""]
[{"$f":"IF('5 Screening'!L118=\"y\", \"true\", \"false\")","v":"false"},{"$f":"IF($A233=\"TRUE\",'5 Screening'!B118,0)","v":0},{"$f":"IF(B233>0,MAX($C$131:C232)+1,0)","v":0},"","","","","","","","","","","","","","","","","","","","","","","","","","","","","","","","","","","","","","","","","","","","","","","","","","","","","","","","","","","","","","","","","","","","","","","","","","","","","","","","","","","","","","","","","","","","","","","","","","","","","","","","","","","","","","","","","","","","","","","","","","","","","","","","","","","","","","","","","","","","","","","","","","","","","","","","","","","","","","","","","","","","","","","","","","","","","","","","","","","","","","","","","","","","","","","","","","","","","","","","","","","","","","","","","","","","","","","","","","","","","","","","","","","","","","","","","","","","","","","","","","","","","","","","","","","","","","","","","","","","","","","","","","","","","","","","","","","","","","","","","","","","","","","","","","","","","","","","","","","","","","","","","","","","","","","","","","","","","","","","","","","","","","","","","","","","","","","","","","","","","","","","","","","","","",""]
[{"$f":"IF('5 Screening'!L119=\"y\", \"true\", \"false\")","v":"false"},{"$f":"IF($A234=\"TRUE\",'5 Screening'!B119,0)","v":0},{"$f":"IF(B234>0,MAX($C$131:C233)+1,0)","v":0},"","","","","","","","","","","","","","","","","","","","","","","","","","","","","","","","","","","","","","","","","","","","","","","","","","","","","","","","","","","","","","","","","","","","","","","","","","","","","","","","","","","","","","","","","","","","","","","","","","","","","","","","","","","","","","","","","","","","","","","","","","","","","","","","","","","","","","","","","","","","","","","","","","","","","","","","","","","","","","","","","","","","","","","","","","","","","","","","","","","","","","","","","","","","","","","","","","","","","","","","","","","","","","","","","","","","","","","","","","","","","","","","","","","","","","","","","","","","","","","","","","","","","","","","","","","","","","","","","","","","","","","","","","","","","","","","","","","","","","","","","","","","","","","","","","","","","","","","","","","","","","","","","","","","","","","","","","","","","","","","","","","","","","","","","","","","","","","","","","","","","","","","","","","","","",""]
[{"$f":"IF('5 Screening'!L120=\"y\", \"true\", \"false\")","v":"false"},{"$f":"IF($A235=\"TRUE\",'5 Screening'!B120,0)","v":0},{"$f":"IF(B235>0,MAX($C$131:C234)+1,0)","v":0},"","","","","","","","","","","","","","","","","","","","","","","","","","","","","","","","","","","","","","","","","","","","","","","","","","","","","","","","","","","","","","","","","","","","","","","","","","","","","","","","","","","","","","","","","","","","","","","","","","","","","","","","","","","","","","","","","","","","","","","","","","","","","","","","","","","","","","","","","","","","","","","","","","","","","","","","","","","","","","","","","","","","","","","","","","","","","","","","","","","","","","","","","","","","","","","","","","","","","","","","","","","","","","","","","","","","","","","","","","","","","","","","","","","","","","","","","","","","","","","","","","","","","","","","","","","","","","","","","","","","","","","","","","","","","","","","","","","","","","","","","","","","","","","","","","","","","","","","","","","","","","","","","","","","","","","","","","","","","","","","","","","","","","","","","","","","","","","","","","","","","","","","","","","","","",""]
[{"$f":"IF('5 Screening'!L121=\"y\", \"true\", \"false\")","v":"false"},{"$f":"IF($A236=\"TRUE\",'5 Screening'!B121,0)","v":0},{"$f":"IF(B236>0,MAX($C$131:C235)+1,0)","v":0},"","","","","","","","","","","","","","","","","","","","","","","","","","","","","","","","","","","","","","","","","","","","","","","","","","","","","","","","","","","","","","","","","","","","","","","","","","","","","","","","","","","","","","","","","","","","","","","","","","","","","","","","","","","","","","","","","","","","","","","","","","","","","","","","","","","","","","","","","","","","","","","","","","","","","","","","","","","","","","","","","","","","","","","","","","","","","","","","","","","","","","","","","","","","","","","","","","","","","","","","","","","","","","","","","","","","","","","","","","","","","","","","","","","","","","","","","","","","","","","","","","","","","","","","","","","","","","","","","","","","","","","","","","","","","","","","","","","","","","","","","","","","","","","","","","","","","","","","","","","","","","","","","","","","","","","","","","","","","","","","","","","","","","","","","","","","","","","","","","","","","","","","","","","","","",""]
[{"$f":"IF('5 Screening'!L122=\"y\", \"true\", \"false\")","v":"false"},{"$f":"IF($A237=\"TRUE\",'5 Screening'!B122,0)","v":0},{"$f":"IF(B237>0,MAX($C$131:C236)+1,0)","v":0},"","","","","","","","","","","","","","","","","","","","","","","","","","","","","","","","","","","","","","","","","","","","","","","","","","","","","","","","","","","","","","","","","","","","","","","","","","","","","","","","","","","","","","","","","","","","","","","","","","","","","","","","","","","","","","","","","","","","","","","","","","","","","","","","","","","","","","","","","","","","","","","","","","","","","","","","","","","","","","","","","","","","","","","","","","","","","","","","","","","","","","","","","","","","","","","","","","","","","","","","","","","","","","","","","","","","","","","","","","","","","","","","","","","","","","","","","","","","","","","","","","","","","","","","","","","","","","","","","","","","","","","","","","","","","","","","","","","","","","","","","","","","","","","","","","","","","","","","","","","","","","","","","","","","","","","","","","","","","","","","","","","","","","","","","","","","","","","","","","","","","","","","","","","","","",""]
[{"$f":"IF('5 Screening'!L123=\"y\", \"true\", \"false\")","v":"false"},{"$f":"IF($A238=\"TRUE\",'5 Screening'!B123,0)","v":0},{"$f":"IF(B238>0,MAX($C$131:C237)+1,0)","v":0},"","","","","","","","","","","","","","","","","","","","","","","","","","","","","","","","","","","","","","","","","","","","","","","","","","","","","","","","","","","","","","","","","","","","","","","","","","","","","","","","","","","","","","","","","","","","","","","","","","","","","","","","","","","","","","","","","","","","","","","","","","","","","","","","","","","","","","","","","","","","","","","","","","","","","","","","","","","","","","","","","","","","","","","","","","","","","","","","","","","","","","","","","","","","","","","","","","","","","","","","","","","","","","","","","","","","","","","","","","","","","","","","","","","","","","","","","","","","","","","","","","","","","","","","","","","","","","","","","","","","","","","","","","","","","","","","","","","","","","","","","","","","","","","","","","","","","","","","","","","","","","","","","","","","","","","","","","","","","","","","","","","","","","","","","","","","","","","","","","","","","","","","","","","","","",""]
[{"$f":"IF('5 Screening'!L124=\"y\", \"true\", \"false\")","v":"false"},{"$f":"IF($A239=\"TRUE\",'5 Screening'!B124,0)","v":0},{"$f":"IF(B239>0,MAX($C$131:C238)+1,0)","v":0},"","","","","","","","","","","","","","","","","","","","","","","","","","","","","","","","","","","","","","","","","","","","","","","","","","","","","","","","","","","","","","","","","","","","","","","","","","","","","","","","","","","","","","","","","","","","","","","","","","","","","","","","","","","","","","","","","","","","","","","","","","","","","","","","","","","","","","","","","","","","","","","","","","","","","","","","","","","","","","","","","","","","","","","","","","","","","","","","","","","","","","","","","","","","","","","","","","","","","","","","","","","","","","","","","","","","","","","","","","","","","","","","","","","","","","","","","","","","","","","","","","","","","","","","","","","","","","","","","","","","","","","","","","","","","","","","","","","","","","","","","","","","","","","","","","","","","","","","","","","","","","","","","","","","","","","","","","","","","","","","","","","","","","","","","","","","","","","","","","","","","","","","","","","","","",""]
[{"$f":"IF('5 Screening'!L125=\"y\", \"true\", \"false\")","v":"false"},{"$f":"IF($A240=\"TRUE\",'5 Screening'!B125,0)","v":0},{"$f":"IF(B240>0,MAX($C$131:C239)+1,0)","v":0},"","","","","","","","","","","","","","","","","","","","","","","","","","","","","","","","","","","","","","","","","","","","","","","","","","","","","","","","","","","","","","","","","","","","","","","","","","","","","","","","","","","","","","","","","","","","","","","","","","","","","","","","","","","","","","","","","","","","","","","","","","","","","","","","","","","","","","","","","","","","","","","","","","","","","","","","","","","","","","","","","","","","","","","","","","","","","","","","","","","","","","","","","","","","","","","","","","","","","","","","","","","","","","","","","","","","","","","","","","","","","","","","","","","","","","","","","","","","","","","","","","","","","","","","","","","","","","","","","","","","","","","","","","","","","","","","","","","","","","","","","","","","","","","","","","","","","","","","","","","","","","","","","","","","","","","","","","","","","","","","","","","","","","","","","","","","","","","","","","","","","","","","","","","","","",""]
[{"$f":"IF('5 Screening'!L126=\"y\", \"true\", \"false\")","v":"false"},{"$f":"IF($A241=\"TRUE\",'5 Screening'!B126,0)","v":0},{"$f":"IF(B241>0,MAX($C$131:C240)+1,0)","v":0},"","","","","","","","","","","","","","","","","","","","","","","","","","","","","","","","","","","","","","","","","","","","","","","","","","","","","","","","","","","","","","","","","","","","","","","","","","","","","","","","","","","","","","","","","","","","","","","","","","","","","","","","","","","","","","","","","","","","","","","","","","","","","","","","","","","","","","","","","","","","","","","","","","","","","","","","","","","","","","","","","","","","","","","","","","","","","","","","","","","","","","","","","","","","","","","","","","","","","","","","","","","","","","","","","","","","","","","","","","","","","","","","","","","","","","","","","","","","","","","","","","","","","","","","","","","","","","","","","","","","","","","","","","","","","","","","","","","","","","","","","","","","","","","","","","","","","","","","","","","","","","","","","","","","","","","","","","","","","","","","","","","","","","","","","","","","","","","","","","","","","","","","","","","","","",""]
[{"$f":"IF('5 Screening'!L127=\"y\", \"true\", \"false\")","v":"false"},{"$f":"IF($A242=\"TRUE\",'5 Screening'!B127,0)","v":0},{"$f":"IF(B242>0,MAX($C$131:C241)+1,0)","v":0},"","","","","","","","","","","","","","","","","","","","","","","","","","","","","","","","","","","","","","","","","","","","","","","","","","","","","","","","","","","","","","","","","","","","","","","","","","","","","","","","","","","","","","","","","","","","","","","","","","","","","","","","","","","","","","","","","","","","","","","","","","","","","","","","","","","","","","","","","","","","","","","","","","","","","","","","","","","","","","","","","","","","","","","","","","","","","","","","","","","","","","","","","","","","","","","","","","","","","","","","","","","","","","","","","","","","","","","","","","","","","","","","","","","","","","","","","","","","","","","","","","","","","","","","","","","","","","","","","","","","","","","","","","","","","","","","","","","","","","","","","","","","","","","","","","","","","","","","","","","","","","","","","","","","","","","","","","","","","","","","","","","","","","","","","","","","","","","","","","","","","","","","","","","","","",""]
[{"$f":"IF('5 Screening'!L128=\"y\", \"true\", \"false\")","v":"false"},{"$f":"IF($A243=\"TRUE\",'5 Screening'!B128,0)","v":0},{"$f":"IF(B243>0,MAX($C$131:C242)+1,0)","v":0},"","","","","","","","","","","","","","","","","","","","","","","","","","","","","","","","","","","","","","","","","","","","","","","","","","","","","","","","","","","","","","","","","","","","","","","","","","","","","","","","","","","","","","","","","","","","","","","","","","","","","","","","","","","","","","","","","","","","","","","","","","","","","","","","","","","","","","","","","","","","","","","","","","","","","","","","","","","","","","","","","","","","","","","","","","","","","","","","","","","","","","","","","","","","","","","","","","","","","","","","","","","","","","","","","","","","","","","","","","","","","","","","","","","","","","","","","","","","","","","","","","","","","","","","","","","","","","","","","","","","","","","","","","","","","","","","","","","","","","","","","","","","","","","","","","","","","","","","","","","","","","","","","","","","","","","","","","","","","","","","","","","","","","","","","","","","","","","","","","","","","","","","","","","","","",""]
[{"$f":"IF('5 Screening'!L129=\"y\", \"true\", \"false\")","v":"false"},{"$f":"IF($A244=\"TRUE\",'5 Screening'!B129,0)","v":0},{"$f":"IF(B244>0,MAX($C$131:C243)+1,0)","v":0},"","","","","","","","","","","","","","","","","","","","","","","","","","","","","","","","","","","","","","","","","","","","","","","","","","","","","","","","","","","","","","","","","","","","","","","","","","","","","","","","","","","","","","","","","","","","","","","","","","","","","","","","","","","","","","","","","","","","","","","","","","","","","","","","","","","","","","","","","","","","","","","","","","","","","","","","","","","","","","","","","","","","","","","","","","","","","","","","","","","","","","","","","","","","","","","","","","","","","","","","","","","","","","","","","","","","","","","","","","","","","","","","","","","","","","","","","","","","","","","","","","","","","","","","","","","","","","","","","","","","","","","","","","","","","","","","","","","","","","","","","","","","","","","","","","","","","","","","","","","","","","","","","","","","","","","","","","","","","","","","","","","","","","","","","","","","","","","","","","","","","","","","","","","","","",""]
[{"$f":"IF('5 Screening'!L130=\"y\", \"true\", \"false\")","v":"false"},{"$f":"IF($A245=\"TRUE\",'5 Screening'!B130,0)","v":0},{"$f":"IF(B245>0,MAX($C$131:C244)+1,0)","v":0},"","","","","","","","","","","","","","","","","","","","","","","","","","","","","","","","","","","","","","","","","","","","","","","","","","","","","","","","","","","","","","","","","","","","","","","","","","","","","","","","","","","","","","","","","","","","","","","","","","","","","","","","","","","","","","","","","","","","","","","","","","","","","","","","","","","","","","","","","","","","","","","","","","","","","","","","","","","","","","","","","","","","","","","","","","","","","","","","","","","","","","","","","","","","","","","","","","","","","","","","","","","","","","","","","","","","","","","","","","","","","","","","","","","","","","","","","","","","","","","","","","","","","","","","","","","","","","","","","","","","","","","","","","","","","","","","","","","","","","","","","","","","","","","","","","","","","","","","","","","","","","","","","","","","","","","","","","","","","","","","","","","","","","","","","","","","","","","","","","","","","","","","","","","","","",""]
[{"$f":"IF('5 Screening'!L131=\"y\", \"true\", \"false\")","v":"false"},{"$f":"IF($A246=\"TRUE\",'5 Screening'!B131,0)","v":0},{"$f":"IF(B246>0,MAX($C$131:C245)+1,0)","v":0},"","","","","","","","","","","","","","","","","","","","","","","","","","","","","","","","","","","","","","","","","","","","","","","","","","","","","","","","","","","","","","","","","","","","","","","","","","","","","","","","","","","","","","","","","","","","","","","","","","","","","","","","","","","","","","","","","","","","","","","","","","","","","","","","","","","","","","","","","","","","","","","","","","","","","","","","","","","","","","","","","","","","","","","","","","","","","","","","","","","","","","","","","","","","","","","","","","","","","","","","","","","","","","","","","","","","","","","","","","","","","","","","","","","","","","","","","","","","","","","","","","","","","","","","","","","","","","","","","","","","","","","","","","","","","","","","","","","","","","","","","","","","","","","","","","","","","","","","","","","","","","","","","","","","","","","","","","","","","","","","","","","","","","","","","","","","","","","","","","","","","","","","","","","","","",""]
[{"$f":"IF('5 Screening'!L132=\"y\", \"true\", \"false\")","v":"false"},{"$f":"IF($A247=\"TRUE\",'5 Screening'!B132,0)","v":0},{"$f":"IF(B247>0,MAX($C$131:C246)+1,0)","v":0},"","","","","","","","","","","","","","","","","","","","","","","","","","","","","","","","","","","","","","","","","","","","","","","","","","","","","","","","","","","","","","","","","","","","","","","","","","","","","","","","","","","","","","","","","","","","","","","","","","","","","","","","","","","","","","","","","","","","","","","","","","","","","","","","","","","","","","","","","","","","","","","","","","","","","","","","","","","","","","","","","","","","","","","","","","","","","","","","","","","","","","","","","","","","","","","","","","","","","","","","","","","","","","","","","","","","","","","","","","","","","","","","","","","","","","","","","","","","","","","","","","","","","","","","","","","","","","","","","","","","","","","","","","","","","","","","","","","","","","","","","","","","","","","","","","","","","","","","","","","","","","","","","","","","","","","","","","","","","","","","","","","","","","","","","","","","","","","","","","","","","","","","","","","","","",""]
[{"$f":"IF('5 Screening'!L133=\"y\", \"true\", \"false\")","v":"false"},{"$f":"IF($A248=\"TRUE\",'5 Screening'!B133,0)","v":0},{"$f":"IF(B248>0,MAX($C$131:C247)+1,0)","v":0},"","","","","","","","","","","","","","","","","","","","","","","","","","","","","","","","","","","","","","","","","","","","","","","","","","","","","","","","","","","","","","","","","","","","","","","","","","","","","","","","","","","","","","","","","","","","","","","","","","","","","","","","","","","","","","","","","","","","","","","","","","","","","","","","","","","","","","","","","","","","","","","","","","","","","","","","","","","","","","","","","","","","","","","","","","","","","","","","","","","","","","","","","","","","","","","","","","","","","","","","","","","","","","","","","","","","","","","","","","","","","","","","","","","","","","","","","","","","","","","","","","","","","","","","","","","","","","","","","","","","","","","","","","","","","","","","","","","","","","","","","","","","","","","","","","","","","","","","","","","","","","","","","","","","","","","","","","","","","","","","","","","","","","","","","","","","","","","","","","","","","","","","","","","","","",""]
[{"$f":"IF('5 Screening'!L134=\"y\", \"true\", \"false\")","v":"false"},{"$f":"IF($A249=\"TRUE\",'5 Screening'!B134,0)","v":0},{"$f":"IF(B249>0,MAX($C$131:C248)+1,0)","v":0},"","","","","","","","","","","","","","","","","","","","","","","","","","","","","","","","","","","","","","","","","","","","","","","","","","","","","","","","","","","","","","","","","","","","","","","","","","","","","","","","","","","","","","","","","","","","","","","","","","","","","","","","","","","","","","","","","","","","","","","","","","","","","","","","","","","","","","","","","","","","","","","","","","","","","","","","","","","","","","","","","","","","","","","","","","","","","","","","","","","","","","","","","","","","","","","","","","","","","","","","","","","","","","","","","","","","","","","","","","","","","","","","","","","","","","","","","","","","","","","","","","","","","","","","","","","","","","","","","","","","","","","","","","","","","","","","","","","","","","","","","","","","","","","","","","","","","","","","","","","","","","","","","","","","","","","","","","","","","","","","","","","","","","","","","","","","","","","","","","","","","","","","","","","","","",""]
[{"$f":"IF('5 Screening'!L135=\"y\", \"true\", \"false\")","v":"false"},{"$f":"IF($A250=\"TRUE\",'5 Screening'!B135,0)","v":0},{"$f":"IF(B250>0,MAX($C$131:C249)+1,0)","v":0},"","","","","","","","","","","","","","","","","","","","","","","","","","","","","","","","","","","","","","","","","","","","","","","","","","","","","","","","","","","","","","","","","","","","","","","","","","","","","","","","","","","","","","","","","","","","","","","","","","","","","","","","","","","","","","","","","","","","","","","","","","","","","","","","","","","","","","","","","","","","","","","","","","","","","","","","","","","","","","","","","","","","","","","","","","","","","","","","","","","","","","","","","","","","","","","","","","","","","","","","","","","","","","","","","","","","","","","","","","","","","","","","","","","","","","","","","","","","","","","","","","","","","","","","","","","","","","","","","","","","","","","","","","","","","","","","","","","","","","","","","","","","","","","","","","","","","","","","","","","","","","","","","","","","","","","","","","","","","","","","","","","","","","","","","","","","","","","","","","","","","","","","","","","","","",""]
[]
[]
[]
[]
[]
[]
[]
[]
[]
[]
[]
[]
[]
[]
[]
[]
[]
[]
[]
[]
[]
[]
[]
[]
[]
[]
[]
[]
[]
[]
[]
[]
[]
[]
[]
[]
[]
[]
[]
[]
[]
[]
[]
[]
[]
[]
[]
[]
[]
[]
[]
[]
[]
[]
[]
[]
[]
[]
[]
[]
[]
[]
[]
[]
[]
[]
[]
[]
[]
[]
[]
[]
[]
[]
[]
[]
[]
[]
[]
[]
[]
[]
[]
[]
[]
[]
[]
[]
[]
[]
[]
[]
[]
[]
[]
[]
[]
[]
[]
[]
[]
[]
[]
[]
[]
[]
[]
[]
[]
[]
[]
[]
[]
[]
[]
[]
[]
[]
[]
[]
[]
[]
[]
[]
[]
[]
[]
[]
[]
[]
[]
[]
[]
[]
[]
[]
[]
[]
[]
[]
[]
[]
[]
[]
[]
[]
[]
[]
[]
[]
[]
[]
[]
[]
[]
[]
[]
[]
[]
[]
[]
[]
[]
[]
[]
[]
[]
[]
[]
[]
[]
[]
[]
[]
[]
[]
[]
[]
[]
[]
[]
[]
[]
[]
[]
[]
[]
[]
[]
[]
[]
[]
[]
[]
[]
[]
[]
[]
[]
[]
[]
[]
[]
[]
[]
[]
[]
[]
[]
[]
[]
[]
[]
[]
[]
[]
[]
[]
[]
[]
[]
[]
[]
[]
[]
[]
[]
[]
[]
[]
[]
[]
[]
[]
[]
[]
[]
[]
[]
[]
[]
[]
[]
[]
[]
[]
[]
[]
[]
[]
[]
[]
[]
[]
[]
[]
[]
[]
[]
[]
[]
[]
[]
[]
[]
[]
[]
[]
[]
[]
[]
[]
[]
[]
[]
[]
[]
[]
[]
[]
[]
[]
[]
[]
[]
[]
[]
[]
[]
[]
[]
[]
[]
[]
[]
[]
[]
[]
[]
[]
[]
[]
[]
[]
[]
[]
[]
[]
[]
[]
[]
[null,null,null,null,15]

{"sheet":"Salaries","index":11,"n_rows":108,"n_cols":9,"rows_kept":108,"cut":false,"hidden":true,"merged":[]}
["Effective","June 20, 2020",null,null,null,"Effective","June 20, 2020"]
[1,"CBA - June 20, 2020 to June 18, 2021",null,null,null,1,"CBA - June 20, 2020 to June 18, 2021"]
[2,"SALARY RANGE - FULL TIME",null,null,null,2,"SALARY RANGE - FULL TIME"]
[3,"B01 (72.5) - $29,656 - $40,569 per annum","B01","$29,656 - $40,569 per annum",null,3,"B01 (72.5) - $29,656 - $40,569 per annum","B01","$29,656 - $40,569 per annum"]
[4,"B02 (72.5) - $32,606 - $44,616 per annum","B02","$32,606 - $44,616 per annum",null,4,"B02 (72.5) - $32,606 - $44,616 per annum","B02","$32,606 - $44,616 per annum"]
[5,"B03 (72.5) - $35,878 - $49,080 per annum","B03","$35,878 - $49,080 per annum",null,5,"B03 (72.5) - $35,878 - $49,080 per annum","B03","$35,878 - $49,080 per annum"]
[6,"B04 (72.5) - $39,453 - $53,997 per annum","B04","$39,453 - $53,997 per annum",null,6,"B04 (72.5) - $39,453 - $53,997 per annum","B04","$39,453 - $53,997 per annum"]
[7,"B05 (72.5) - $43,424 - $59,387 per annum","B05","$43,424 - $59,387 per annum",null,7,"B05 (72.5) - $43,424 - $59,387 per annum","B05","$43,424 - $59,387 per annum"]
[8,"B06 (72.5) - $47,774 - $65,326 per annum","B06","$47,774 - $65,326 per annum",null,8,"B06 (72.5) - $47,774 - $65,326 per annum","B06","$47,774 - $65,326 per annum"]
[9,"B07 (72.5) - $52,465 - $71,851 per annum","B07","$52,465 - $71,851 per annum",null,9,"B07 (72.5) - $52,465 - $71,851 per annum","B07","$52,465 - $71,851 per annum"]
[10,"B08 (72.5) - $57,780 - $79,057 per annum","B08","$57,780 - $79,057 per annum",null,10,"B08 (72.5) - $57,780 - $79,057 per annum","B08","$57,780 - $79,057 per annum"]
[11,"B09 (72.5) - $63,548 - $86,962 per annum","B09","$63,548 - $86,962 per annum",null,11,"B09 (72.5) - $63,548 - $86,962 per annum","B09","$63,548 - $86,962 per annum"]
[12,"B10 (72.5) - $69,903 - $95,662 per annum","B10","$69,903 - $95,662 per annum",null,12,"B10 (72.5) - $69,903 - $95,662 per annum","B10","$69,903 - $95,662 per annum"]
[13,"B11 (72.5) - $76,882 - $105,195 per annum","B11","$76,882 - $105,195 per annum",null,13,"B11 (72.5) - $76,882 - $105,195 per annum","B11","$76,882 - $105,195 per annum"]
[14,"B01 (80) - $32,724 - $44,765 per annum","B01","$32,724 - $44,765 per annum",null,14,"B01 (80) - $32,724 - $44,765 per annum","B01","$32,724 - $44,765 per annum"]
[15,"B02 (80) - $35,979 - $49,231 per annum","B02","$35,979 - $49,231 per annum",null,15,"B02 (80) - $35,979 - $49,231 per annum","B02","$35,979 - $49,231 per annum"]
[16,"B03 (80) - $39,590 - $54,157 per annum","B03","$39,590 - $54,157 per annum",null,16,"B03 (80) - $39,590 - $54,157 per annum","B03","$39,590 - $54,157 per annum"]
[17,"B04 (80) - $43,534 - $59,583 per annum","B04","$43,534 - $59,583 per annum",null,17,"B04 (80) - $43,534 - $59,583 per annum","B04","$43,534 - $59,583 per annum"]
[18,"B05 (80) - $47,917 - $65,531 per annum","B05","$47,917 - $65,531 per annum",null,18,"B05 (80) - $47,917 - $65,531 per annum","B05","$47,917 - $65,531 per annum"]
[19,"B06 (80) - $52,717 - $72,084 per annum","B06","$52,717 - $72,084 per annum",null,19,"B06 (80) - $52,717 - $72,084 per annum","B06","$52,717 - $72,084 per annum"]
[20,"B07 (80) - $57,892 - $79,284 per annum","B07","$57,892 - $79,284 per annum",null,20,"B07 (80) - $57,892 - $79,284 per annum","B07","$57,892 - $79,284 per annum"]
[21,"B08 (80) - $63,757 - $87,235 per annum","B08","$63,757 - $87,235 per annum",null,21,"B08 (80) - $63,757 - $87,235 per annum","B08","$63,757 - $87,235 per annum"]
[22,"B09 (80) - $70,122 - $95,958 per annum","B09","$70,122 - $95,958 per annum",null,22,"B09 (80) - $70,122 - $95,958 per annum","B09","$70,122 - $95,958 per annum"]
[23,"B10 (80) - $77,134 - $105,558 per annum","B10","$77,134 - $105,558 per annum",null,23,"B10 (80) - $77,134 - $105,558 per annum","B10","$77,134 - $105,558 per annum"]
[24,"B11 (80) - $84,835 - $116,077 per annum","B11","$84,835 - $116,077 per annum",null,24,"B11 (80) - $84,835 - $116,077 per annum","B11","$84,835 - $116,077 per annum"]
[25,"INS - $58,744 - $87,246 per annum*","INS","$58,744 - $87,246 per annum*",null,25,"INS - $58,744 - $87,246 per annum*","INS","$58,744 - $87,246 per annum*"]
[26,"CK0 - $35,144 - $42,783 per annum","CK0","$35,144 - $42,783 per annum",null,26,"CK0 - $35,144 - $42,783 per annum","CK0","$35,144 - $42,783 per annum"]
[27,"FCC - $41,364 - $50,317 per annum","FCC","$41,364 - $50,317 per annum",null,27,"FCC - $41,364 - $50,317 per annum","FCC","$41,364 - $50,317 per annum"]
[28,"FPC - $41,384 - $50,379 per annum","FPC","$41,384 - $50,379 per annum",null,28,"FPC - $41,384 - $50,379 per annum","FPC","$41,384 - $50,379 per annum"]
[29,"FS1 - $25,711 - $26,755 per annum","FS1","$25,711 - $26,755 per annum",null,29,"FS1 - $25,711 - $26,755 per annum","FS1","$25,711 - $26,755 per annum"]
[30,"FS2 - $30,157 - $36,689 per annum","FS2","$30,157 - $36,689 per annum",null,30,"FS2 - $30,157 - $36,689 per annum","FS2","$30,157 - $36,689 per annum"]
[31,"FSS - $41,364 - $50,317 per annum","FSS","$41,364 - $50,317 per annum",null,31,"FSS - $41,364 - $50,317 per annum","FSS","$41,364 - $50,317 per annum"]
[32,"IT6 - $52,578 - $71,889 per annum","IT6","$52,578 - $71,889 per annum",null,32,"IT6 - $52,578 - $71,889 per annum","IT6","$52,578 - $71,889 per annum"]
[33,"IT7 - $57,723 - $79,057 per annum","IT7","$57,723 - $79,057 per annum",null,33,"IT7 - $57,723 - $79,057 per annum","IT7","$57,723 - $79,057 per annum"]
[34,"IT8 - $63,586 - $86,981 per annum","IT8","$63,586 - $86,981 per annum",null,34,"IT8 - $63,586 - $86,981 per annum","IT8","$63,586 - $86,981 per annum"]
[35,"IT9 - $69,884 - $95,681 per annum","IT9","$69,884 - $95,681 per annum",null,35,"IT9 - $69,884 - $95,681 per annum","IT9","$69,884 - $95,681 per annum"]
[36,"ITS - $65,874 - $90,121 per annum","ITS","$65,874 - $90,121 per annum",null,36,"ITS - $65,874 - $90,121 per annum","ITS","$65,874 - $90,121 per annum"]
[37,"E03 - $34,706 - $45,127 per annum","E03","$34,706 - $45,127 per annum",null,37,"E03 - $34,706 - $45,127 per annum","E03","$34,706 - $45,127 per annum"]
[38,"E04 - $43,651 - $56,796 per annum","E04","$43,651 - $56,796 per annum",null,38,"E04 - $43,651 - $56,796 per annum","E04","$43,651 - $56,796 per annum"]
[39,"E05 - $45,845 - $59,595 per annum","E05","$45,845 - $59,595 per annum",null,39,"E05 - $45,845 - $59,595 per annum","E05","$45,845 - $59,595 per annum"]
[40,"E06 - $49,931 - $64,891 per annum","E06","$49,931 - $64,891 per annum",null,40,"E06 - $49,931 - $64,891 per annum","E06","$49,931 - $64,891 per annum"]
[41,"E07 - $53,165 - $69,090 per annum","E07","$53,165 - $69,090 per annum",null,41,"E07 - $53,165 - $69,090 per annum","E07","$53,165 - $69,090 per annum"]
[42,"E08 - $64,626 - $84,031 per annum","E08","$64,626 - $84,031 per annum",null,42,"E08 - $64,626 - $84,031 per annum","E08","$64,626 - $84,031 per annum"]
[43,"E09 - $66,952 - $87,057 per annum","E09","$66,952 - $87,057 per annum",null,43,"E09 - $66,952 - $87,057 per annum","E09","$66,952 - $87,057 per annum"]
[44,"E10 - $78,660 - $102,244 per annum","E10","$78,660 - $102,244 per annum",null,44,"E10 - $78,660 - $102,244 per annum","E10","$78,660 - $102,244 per annum"]
[45,"E11 - $86,244 - $112,136 per annum","E11","$86,244 - $112,136 per annum",null,45,"E11 - $86,244 - $112,136 per annum","E11","$86,244 - $112,136 per annum"]
[46,"E12 - $93,998 - $122,216 per annum","E12","$93,998 - $122,216 per annum",null,46,"E12 - $93,998 - $122,216 per annum","E12","$93,998 - $122,216 per annum"]
[47,"E13 - $109,204 - $141,943 per annum","E13","$109,204 - $141,943 per annum",null,47,"E13 - $109,204 - $141,943 per annum","E13","$109,204 - $141,943 per annum"]
[48,"E14 - $120,344 - $156,430 per annum","E14","$120,344 - $156,430 per annum",null,48,"E14 - $120,344 - $156,430 per annum","E14","$120,344 - $156,430 per annum"]
[49,"E15 - $144,042 - $187,258 per annum","E15","$144,042 - $187,258 per annum",null,49,"E15 - $144,042 - $187,258 per annum","E15","$144,042 - $187,258 per annum"]
[50,"E16 - $166,492 - $216,460 per annum","E16","$166,492 - $216,460 per annum",null,50,"E16 - $166,492 - $216,460 per annum","E16","$166,492 - $216,460 per annum"]
[51,"E17 - $208,252 - $270,741 per annum","E17","$208,252 - $270,741 per annum",null,51,"E17 - $208,252 - $270,741 per annum","E17","$208,252 - $270,741 per annum"]
[52,"SALARY RANGE - HOURLY",null,null,null,52,"SALARY RANGE - HOURLY"]
[53,"B01 (72.5) - $15.68 - $21.45 hourly","B01","$15.68 - $21.45 hourly",null,53,"B01 (72.5) - $15.68 - $21.45 hourly","B01","$15.68 - $21.45 hourly"]
[54,"B02 (72.5) - $17.24 - $23.59 hourly","B02","$17.24 - $23.59 hourly",null,54,"B02 (72.5) - $17.24 - $23.59 hourly","B02","$17.24 - $23.59 hourly"]
[55,"B03 (72.5) - $18.97 - $25.95 hourly","B03","$18.97 - $25.95 hourly",null,55,"B03 (72.5) - $18.97 - $25.95 hourly","B03","$18.97 - $25.95 hourly"]
[56,"B04 (72.5) - $20.86 - $28.55 hourly","B04","$20.86 - $28.55 hourly",null,56,"B04 (72.5) - $20.86 - $28.55 hourly","B04","$20.86 - $28.55 hourly"]
[57,"B05 (72.5) - $22.96 - $31.40 hourly","B05","$22.96 - $31.4 hourly",null,57,"B05 (72.5) - $22.96 - $31.40 hourly","B05","$22.96 - $31.4 hourly"]
[58,"B06 (72.5) - $25.26 - $34.54 hourly","B06","$25.26 - $34.54 hourly",null,58,"B06 (72.5) - $25.26 - $34.54 hourly","B06","$25.26 - $34.54 hourly"]
[59,"B07 (72.5) - $27.74 - $37.99 hourly","B07","$27.74 - $37.99 hourly",null,59,"B07 (72.5) - $27.74 - $37.99 hourly","B07","$27.74 - $37.99 hourly"]
[60,"B08 (72.5) - $30.55 - $41.8 hourly","B08","$30.55 - $41.80 hourly",null,60,"B08 (72.5) - $30.55 - $41.8 hourly","B08","$30.55 - $41.80 hourly"]
[61,"B09 (72.5) - $33.60 - $45.98 hourly","B09","$33.60 - $45.98 hourly",null,61,"B09 (72.5) - $33.60 - $45.98 hourly","B09","$33.60 - $45.98 hourly"]
[62,"B10 (72.5) - $36.96 - $50.58 hourly","B10","$36.96 - $50.58 hourly",null,62,"B10 (72.5) - $36.96 - $50.58 hourly","B10","$36.96 - $50.58 hourly"]
[63,"B11 (72.5) - $40.65 - $55.62 hourly","B11","$40.65 - $55.62 hourly",null,63,"B11 (72.5) - $40.65 - $55.62 hourly","B11","$40.65 - $55.62 hourly"]
[64,"B01 (80) - $15.68 - $21.45 hourly","B01","$15.68 - $21.45 hourly",null,64,"B01 (80) - $15.68 - $21.45 hourly","B01","$15.68 - $21.45 hourly"]
[65,"B02 (80) - $17.24 - $23.59 hourly","B02","$17.24 - $23.59 hourly",null,65,"B02 (80) - $17.24 - $23.59 hourly","B02","$17.24 - $23.59 hourly"]
[66,"B03 (80) - $18.97 - $25.95 hourly","B03","$18.97 - $25.95 hourly",null,66,"B03 (80) - $18.97 - $25.95 hourly","B03","$18.97 - $25.95 hourly"]
[67,"B04 (80) - $20.86 - $28.55 hourly","B04","$20.86 - $28.55 hourly",null,67,"B04 (80) - $20.86 - $28.55 hourly","B04","$20.86 - $28.55 hourly"]
[68,"B05 (80) - $22.96 - $31.40 hourly","B05","$22.96 - $31.40 hourly",null,68,"B05 (80) - $22.96 - $31.40 hourly","B05","$22.96 - $31.40 hourly"]
[69,"B06 (80) - $25.26 - $34.54 hourly","B06","$25.26 - $34.54 hourly",null,69,"B06 (80) - $25.26 - $34.54 hourly","B06","$25.26 - $34.54 hourly"]
[70,"B07 (80) - $27.74 - $37.99 hourly","B07","$27.74 - $37.99 hourly",null,70,"B07 (80) - $27.74 - $37.99 hourly","B07","$27.74 - $37.99 hourly"]
[71,"B08 (80) - $30.55 - $41.80 hourly","B08","$30.55 - $41.80 hourly",null,71,"B08 (80) - $30.55 - $41.80 hourly","B08","$30.55 - $41.80 hourly"]
[72,"B09 (80) - $33.60 - $45.98 hourly","B09","$33.60 - $45.98 hourly",null,72,"B09 (80) - $33.60 - $45.98 hourly","B09","$33.60 - $45.98 hourly"]
[73,"B10 (80) - $36.96 - $50.58 hourly","B10","$36.96 - $50.58 hourly",null,73,"B10 (80) - $36.96 - $50.58 hourly","B10","$36.96 - $50.58 hourly"]
[74,"B11 (80) - $40.65 - $55.62 hourly","B11","$40.65 - $55.62 hourly",null,74,"B11 (80) - $40.65 - $55.62 hourly","B11","$40.65 - $55.62 hourly"]
[75,"INS - $31.06 - $46.13 hourly*","INS","$31.06 - $46.13 hourly*",null,75,"INS - $31.06 - $46.13 hourly*","INS","$31.06 - $46.13 hourly*"]
[76,"CK0 - $16.84 - $20.50 hourly","CK0","$16.84 - $20.50 hourly",null,76,"CK0 - $16.84 - $20.50 hourly","CK0","$16.84 - $20.50 hourly"]
[77,"FCC - $19.82 - $24.11 hourly","FCC","$19.82 - $24.11 hourly",null,77,"FCC - $19.82 - $24.11 hourly","FCC","$19.82 - $24.11 hourly"]
[78,"FPC - $19.83 - $24.14 hourly","FPC","$19.83 - $24.14 hourly",null,78,"FPC - $19.83 - $24.14 hourly","FPC","$19.83 - $24.14 hourly"]
[79,"FS1 - $12.32 - $12.82 hourly","FS1","$12.32 - $12.82 hourly",null,79,"FS1 - $12.32 - $12.82 hourly","FS1","$12.32 - $12.82 hourly"]
[80,"FS2 - $14.45 - $17.58 hourly","FS2","$14.45 - $17.58 hourly",null,80,"FS2 - $14.45 - $17.58 hourly","FS2","$14.45 - $17.58 hourly"]
[81,"FSS - $19.82 - $24.11 hourly","FSS","$19.82 - $24.11 hourly",null,81,"FSS - $19.82 - $24.11 hourly","FSS","$19.82 - $24.11 hourly"]
[82,"IT6 - $25.26 - $34.54 hourly*","IT6","$25.26 - $34.54 hourly*",null,82,"IT6 - $25.26 - $34.54 hourly*","IT6","$25.26 - $34.54 hourly*"]
[83,"IT7 - $27.74 - $37.99 hourly*","IT7","$27.74 - $37.99 hourly*",null,83,"IT7 - $27.74 - $37.99 hourly*","IT7","$27.74 - $37.99 hourly*"]
[84,"IT8 - $30.55 - $41.80 hourly*","IT8","$30.55 - $41.80 hourly*",null,84,"IT8 - $30.55 - $41.80 hourly*","IT8","$30.55 - $41.80 hourly*"]
[85,"IT9 - $33.60 - $45.98 hourly*","IT9","$33.60 - $45.98 hourly*",null,85,"IT9 - $33.60 - $45.98 hourly*","IT9","$33.60 - $45.98 hourly*"]
[86,"ITS - $30.55 - $41.80 hourly*","ITS","$30.55 - $41.80 hourly*",null,86,"ITS - $30.55 - $41.80 hourly*","ITS","$30.55 - $41.80 hourly*"]
[87,"E03 - $18.35 - $23.86 hourly","E03","$18.35 - $23.86 hourly",null,87,"E03 - $18.35 - $23.86 hourly","E03","$18.35 - $23.86 hourly"]
[88,"E04 - $23.08 - $30.03 hourly","E04","$23.08 - $30.03 hourly",null,88,"E04 - $23.08 - $30.03 hourly","E04","$23.08 - $30.03 hourly"]
[89,"E05 - $24.24 - $31.51 hourly","E05","$24.24 - $31.51 hourly",null,89,"E05 - $24.24 - $31.51 hourly","E05","$24.24 - $31.51 hourly"]
[90,"E06 - $26.40 - $34.31 hourly","E06","$26.40 - $34.31 hourly",null,90,"E06 - $26.40 - $34.31 hourly","E06","$26.40 - $34.31 hourly"]
[91,"E07 - $28.11 - $36.53 hourly","E07","$28.11 - $36.53 hourly",null,91,"E07 - $28.11 - $36.53 hourly","E07","$28.11 - $36.53 hourly"]
[92,"E08 - $34.17 - $44.43 hourly","E08","$34.17 - $44.43 hourly",null,92,"E08 - $34.17 - $44.43 hourly","E08","$34.17 - $44.43 hourly"]
[93,"E09 - $35.40 - $46.03 hourly","E09","$35.40 - $46.03 hourly",null,93,"E09 - $35.40 - $46.03 hourly","E09","$35.40 - $46.03 hourly"]
[94,"E10 - $41.59 - $54.06 hourly","E10","$41.59 - $54.06 hourly",null,94,"E10 - $41.59 - $54.06 hourly","E10","$41.59 - $54.06 hourly"]
[95,"E11 - $45.60 - $59.29 hourly","E11","$45.60 - $59.29 hourly",null,95,"E11 - $45.60 - $59.29 hourly","E11","$45.60 - $59.29 hourly"]
[96,"E12 - $49.70 - $64.62 hourly","E12","$49.70 - $64.62 hourly",null,96,"E12 - $49.70 - $64.62 hourly","E12","$49.70 - $64.62 hourly"]
[97,"E13 - $57.74 - $75.05 hourly","E13","$57.74 - $75.05 hourly",null,97,"E13 - $57.74 - $75.05 hourly","E13","$57.74 - $75.05 hourly"]
[98,"E14 - $63.63 - $82.71 hourly","E14","$63.63 - $82.71 hourly",null,98,"E14 - $63.63 - $82.71 hourly","E14","$63.63 - $82.71 hourly"]
[99,"E15 - $76.16 - $99.01 hourly","E15","$76.16 - $99.01 hourly",null,99,"E15 - $76.16 - $99.01 hourly","E15","$76.16 - $99.01 hourly"]
[100,"E16 - $88.03 - $114.45 hourly","E16","$88.03 - $114.45 hourly",null,100,"E16 - $88.03 - $114.45 hourly","E16","$88.03 - $114.45 hourly"]
[101,"E17 - $110.11 - $143.15 hourly","E17","$110.11 - $143.15 hourly",null,101,"E17 - $110.11 - $143.15 hourly","E17","$110.11 - $143.15 hourly"]
[102,"TBD",null,"To Be Determined",null,102,"TBD",null,"To Be Determined"]
[]
[1]
[null,{"$f":"VLOOKUP(A105, Salaries!A2:D103, 4, 0)","v":0},null,{"$f":"VLOOKUP(A105, Salaries!A3:D103, 3, 0)","v":{"$error":"#N/A"}}]
[]
["new rate",{"$f":"VLOOKUP(A105, F4:I103, 4, 0)","v":{"$error":"#N/A"}}]

{"sheet":"Selected for Interview","index":12,"n_rows":351,"n_cols":1,"rows_kept":351,"cut":false,"hidden":true,"merged":[]}
["INTERVIEWEES"]
[{"$f":"Variables!D$484","v":""}]
[{"$f":"Variables!E$484","v":""}]
[{"$f":"Variables!F$484","v":""}]
[{"$f":"Variables!G$484","v":""}]
[{"$f":"Variables!H$484","v":""}]
[{"$f":"Variables!I$484","v":""}]
[{"$f":"Variables!J$484","v":""}]
[{"$f":"Variables!K$484","v":""}]
[{"$f":"Variables!L$484","v":""}]
[{"$f":"Variables!M$484","v":""}]
[{"$f":"Variables!N$484","v":""}]
[{"$f":"Variables!O$484","v":""}]
[{"$f":"Variables!P$484","v":""}]
[{"$f":"Variables!Q$484","v":""}]
[{"$f":"Variables!R$484","v":""}]
[{"$f":"Variables!S$484","v":""}]
[{"$f":"Variables!T$484","v":""}]
[{"$f":"Variables!U$484","v":""}]
[{"$f":"Variables!V$484","v":""}]
[{"$f":"Variables!W$484","v":""}]
[{"$f":"Variables!X$484","v":""}]
[{"$f":"Variables!Y$484","v":""}]
[{"$f":"Variables!Z$484","v":""}]
[{"$f":"Variables!AA$484","v":""}]
[{"$f":"Variables!AB$484","v":""}]
[{"$f":"Variables!AC$484","v":""}]
[{"$f":"Variables!AD$484","v":""}]
[{"$f":"Variables!AE$484","v":""}]
[{"$f":"Variables!AF$484","v":""}]
[{"$f":"Variables!AG$484","v":""}]
[{"$f":"Variables!AH$484","v":""}]
[{"$f":"Variables!AI$484","v":""}]
[{"$f":"Variables!AJ$484","v":""}]
[{"$f":"Variables!AK$484","v":""}]
[{"$f":"Variables!AL$484","v":""}]
[{"$f":"Variables!AM$484","v":""}]
[{"$f":"Variables!AN$484","v":""}]
[{"$f":"Variables!AO$484","v":""}]
[{"$f":"Variables!AP$484","v":""}]
[{"$f":"Variables!AQ$484","v":""}]
[{"$f":"Variables!AR$484","v":""}]
[{"$f":"Variables!AS$484","v":""}]
[{"$f":"Variables!AT$484","v":""}]
[{"$f":"Variables!AU$484","v":""}]
[{"$f":"Variables!AV$484","v":""}]
[{"$f":"Variables!AW$484","v":""}]
[{"$f":"Variables!AX$484","v":""}]
[{"$f":"Variables!AY$484","v":""}]
[{"$f":"Variables!AZ$484","v":""}]
[{"$f":"Variables!BA$484","v":""}]
[{"$f":"Variables!BB$484","v":""}]
[{"$f":"Variables!BC$484","v":""}]
[{"$f":"Variables!BD$484","v":""}]
[{"$f":"Variables!BE$484","v":""}]
[{"$f":"Variables!BF$484","v":""}]
[{"$f":"Variables!BG$484","v":""}]
[{"$f":"Variables!BH$484","v":""}]
[{"$f":"Variables!BI$484","v":""}]
[{"$f":"Variables!BJ$484","v":""}]
[{"$f":"Variables!BK$484","v":""}]
[{"$f":"Variables!BL$484","v":""}]
[{"$f":"Variables!BM$484","v":""}]
[{"$f":"Variables!BN$484","v":""}]
[{"$f":"Variables!BO$484","v":""}]
[{"$f":"Variables!BP$484","v":""}]
[{"$f":"Variables!BQ$484","v":""}]
[{"$f":"Variables!BR$484","v":""}]
[{"$f":"Variables!BS$484","v":""}]
[{"$f":"Variables!BT$484","v":""}]
[{"$f":"Variables!BU$484","v":""}]
[{"$f":"Variables!BV$484","v":""}]
[{"$f":"Variables!BW$484","v":""}]
[{"$f":"Variables!BX$484","v":""}]
[{"$f":"Variables!BY$484","v":""}]
[{"$f":"Variables!BZ$484","v":""}]
[{"$f":"Variables!CA$484","v":""}]
[{"$f":"Variables!CB$484","v":""}]
[{"$f":"Variables!CC$484","v":""}]
[{"$f":"Variables!CD$484","v":""}]
[{"$f":"Variables!CE$484","v":""}]
[{"$f":"Variables!CF$484","v":""}]
[{"$f":"Variables!CG$484","v":""}]
[{"$f":"Variables!CH$484","v":""}]
[{"$f":"Variables!CI$484","v":""}]
[{"$f":"Variables!CJ$484","v":""}]
[{"$f":"Variables!CK$484","v":""}]
[{"$f":"Variables!CL$484","v":""}]
[{"$f":"Variables!CM$484","v":""}]
[{"$f":"Variables!CN$484","v":""}]
[{"$f":"Variables!CO$484","v":""}]
[{"$f":"Variables!CP$484","v":""}]
[{"$f":"Variables!CQ$484","v":""}]
[{"$f":"Variables!CR$484","v":""}]
[{"$f":"Variables!CS$484","v":""}]
[{"$f":"Variables!CT$484","v":""}]
[{"$f":"Variables!CU$484","v":""}]
[{"$f":"Variables!CV$484","v":""}]
[{"$f":"Variables!CW$484","v":""}]
[{"$f":"Variables!CX$484","v":""}]
[{"$f":"Variables!CY$484","v":""}]
[{"$f":"Variables!CZ$484","v":""}]
[{"$f":"Variables!DA$484","v":""}]
[{"$f":"Variables!DB$484","v":""}]
[{"$f":"Variables!DC$484","v":""}]
[{"$f":"Variables!DD$484","v":""}]
[{"$f":"Variables!DE$484","v":""}]
[{"$f":"Variables!DF$484","v":""}]
[{"$f":"Variables!DG$484","v":""}]
[{"$f":"Variables!DH$484","v":""}]
[{"$f":"Variables!DI$484","v":""}]
[{"$f":"Variables!DJ$484","v":""}]
[{"$f":"Variables!DK$484","v":""}]
[{"$f":"Variables!DL$484","v":""}]
[{"$f":"Variables!DM$484","v":""}]
[{"$f":"Variables!DN$484","v":""}]
[{"$f":"Variables!DO$484","v":""}]
[{"$f":"Variables!DP$484","v":""}]
[{"$f":"Variables!DQ$484","v":""}]
[{"$f":"Variables!DR$484","v":""}]
[{"$f":"Variables!DS$484","v":""}]
[{"$f":"Variables!DT$484","v":""}]
[{"$f":"Variables!DU$484","v":""}]
[{"$f":"Variables!DV$484","v":""}]
[{"$f":"Variables!DW$484","v":""}]
[{"$f":"Variables!DX$484","v":""}]
[{"$f":"Variables!DY$484","v":""}]
[{"$f":"Variables!DZ$484","v":""}]
[{"$f":"Variables!EA$484","v":""}]
[{"$f":"Variables!EB$484","v":""}]
[{"$f":"Variables!EC$484","v":""}]
[{"$f":"Variables!ED$484","v":""}]
[{"$f":"Variables!EE$484","v":""}]
[{"$f":"Variables!EF$484","v":""}]
[{"$f":"Variables!EG$484","v":""}]
[{"$f":"Variables!EH$484","v":""}]
[{"$f":"Variables!EI$484","v":""}]
[{"$f":"Variables!EJ$484","v":""}]
[{"$f":"Variables!EK$484","v":""}]
[{"$f":"Variables!EL$484","v":""}]
[{"$f":"Variables!EM$484","v":""}]
[{"$f":"Variables!EN$484","v":""}]
[{"$f":"Variables!EO$484","v":""}]
[{"$f":"Variables!EP$484","v":""}]
[{"$f":"Variables!EQ$484","v":""}]
[{"$f":"Variables!ER$484","v":""}]
[{"$f":"Variables!ES$484","v":""}]
[{"$f":"Variables!ET$484","v":""}]
[{"$f":"Variables!EU$484","v":""}]
[{"$f":"Variables!EV$484","v":""}]
[{"$f":"Variables!EW$484","v":""}]
[{"$f":"Variables!EX$484","v":""}]
[{"$f":"Variables!EY$484","v":""}]
[{"$f":"Variables!EZ$484","v":""}]
[{"$f":"Variables!FA$484","v":""}]
[{"$f":"Variables!FB$484","v":""}]
[{"$f":"Variables!FC$484","v":""}]
[{"$f":"Variables!FD$484","v":""}]
[{"$f":"Variables!FE$484","v":""}]
[{"$f":"Variables!FF$484","v":""}]
[{"$f":"Variables!FG$484","v":""}]
[{"$f":"Variables!FH$484","v":""}]
[{"$f":"Variables!FI$484","v":""}]
[{"$f":"Variables!FJ$484","v":""}]
[{"$f":"Variables!FK$484","v":""}]
[{"$f":"Variables!FL$484","v":""}]
[{"$f":"Variables!FM$484","v":""}]
[{"$f":"Variables!FN$484","v":""}]
[{"$f":"Variables!FO$484","v":""}]
[{"$f":"Variables!FP$484","v":""}]
[{"$f":"Variables!FQ$484","v":""}]
[{"$f":"Variables!FR$484","v":""}]
[{"$f":"Variables!FS$484","v":""}]
[{"$f":"Variables!FT$484","v":""}]
[{"$f":"Variables!FU$484","v":""}]
[{"$f":"Variables!FV$484","v":""}]
[{"$f":"Variables!FW$484","v":""}]
[{"$f":"Variables!FX$484","v":""}]
[{"$f":"Variables!FY$484","v":""}]
[{"$f":"Variables!FZ$484","v":""}]
[{"$f":"Variables!GA$484","v":""}]
[{"$f":"Variables!GB$484","v":""}]
[{"$f":"Variables!GC$484","v":""}]
[{"$f":"Variables!GD$484","v":""}]
[{"$f":"Variables!GE$484","v":""}]
[{"$f":"Variables!GF$484","v":""}]
[{"$f":"Variables!GG$484","v":""}]
[{"$f":"Variables!GH$484","v":""}]
[{"$f":"Variables!GI$484","v":""}]
[{"$f":"Variables!GJ$484","v":""}]
[{"$f":"Variables!GK$484","v":""}]
[{"$f":"Variables!GL$484","v":""}]
[{"$f":"Variables!GM$484","v":""}]
[{"$f":"Variables!GN$484","v":""}]
[{"$f":"Variables!GO$484","v":""}]
[{"$f":"Variables!GP$484","v":""}]
[{"$f":"Variables!GQ$484","v":""}]
[{"$f":"Variables!GR$484","v":""}]
[{"$f":"Variables!GS$484","v":""}]
[{"$f":"Variables!GT$484","v":""}]
[{"$f":"Variables!GU$484","v":""}]
[{"$f":"Variables!GV$484","v":""}]
[{"$f":"Variables!GW$484","v":""}]
[{"$f":"Variables!GX$484","v":""}]
[{"$f":"Variables!GY$484","v":""}]
[{"$f":"Variables!GZ$484","v":""}]
[{"$f":"Variables!HA$484","v":""}]
[{"$f":"Variables!HB$484","v":""}]
[{"$f":"Variables!HC$484","v":""}]
[{"$f":"Variables!HD$484","v":""}]
[{"$f":"Variables!HE$484","v":""}]
[{"$f":"Variables!HF$484","v":""}]
[{"$f":"Variables!HG$484","v":""}]
[{"$f":"Variables!HH$484","v":""}]
[{"$f":"Variables!HI$484","v":""}]
[{"$f":"Variables!HJ$484","v":""}]
[{"$f":"Variables!HK$484","v":""}]
[{"$f":"Variables!HL$484","v":""}]
[{"$f":"Variables!HM$484","v":""}]
[{"$f":"Variables!HN$484","v":""}]
[{"$f":"Variables!HO$484","v":""}]
[{"$f":"Variables!HP$484","v":""}]
[{"$f":"Variables!HQ$484","v":""}]
[{"$f":"Variables!HR$484","v":""}]
[{"$f":"Variables!HS$484","v":""}]
[{"$f":"Variables!HT$484","v":""}]
[{"$f":"Variables!HU$484","v":""}]
[{"$f":"Variables!HV$484","v":""}]
[{"$f":"Variables!HW$484","v":""}]
[{"$f":"Variables!HX$484","v":""}]
[{"$f":"Variables!HY$484","v":""}]
[{"$f":"Variables!HZ$484","v":""}]
[{"$f":"Variables!IA$484","v":""}]
[{"$f":"Variables!IB$484","v":""}]
[{"$f":"Variables!IC$484","v":""}]
[{"$f":"Variables!ID$484","v":""}]
[{"$f":"Variables!IE$484","v":""}]
[{"$f":"Variables!IF$484","v":""}]
[{"$f":"Variables!IG$484","v":""}]
[{"$f":"Variables!IH$484","v":""}]
[{"$f":"Variables!II$484","v":""}]
[{"$f":"Variables!IJ$484","v":""}]
[{"$f":"Variables!IK$484","v":""}]
[{"$f":"Variables!IL$484","v":""}]
[{"$f":"Variables!IM$484","v":""}]
[{"$f":"Variables!IN$484","v":""}]
[{"$f":"Variables!IO$484","v":""}]
[{"$f":"Variables!IP$484","v":""}]
[{"$f":"Variables!IQ$484","v":""}]
[{"$f":"Variables!IR$484","v":""}]
[{"$f":"Variables!IS$484","v":""}]
[{"$f":"Variables!IT$484","v":""}]
[{"$f":"Variables!IU$484","v":""}]
[{"$f":"Variables!IV$484","v":""}]
[{"$f":"Variables!IW$484","v":""}]
[{"$f":"Variables!IX$484","v":""}]
[{"$f":"Variables!IY$484","v":""}]
[{"$f":"Variables!IZ$484","v":""}]
[{"$f":"Variables!JA$484","v":""}]
[{"$f":"Variables!JB$484","v":""}]
[{"$f":"Variables!JC$484","v":""}]
[{"$f":"Variables!JD$484","v":""}]
[{"$f":"Variables!JE$484","v":""}]
[{"$f":"Variables!JF$484","v":""}]
[{"$f":"Variables!JG$484","v":""}]
[{"$f":"Variables!JH$484","v":""}]
[{"$f":"Variables!JI$484","v":""}]
[{"$f":"Variables!JJ$484","v":""}]
[{"$f":"Variables!JK$484","v":""}]
[{"$f":"Variables!JL$484","v":""}]
[{"$f":"Variables!JM$484","v":""}]
[{"$f":"Variables!JN$484","v":""}]
[{"$f":"Variables!JO$484","v":""}]
[{"$f":"Variables!JP$484","v":""}]
[{"$f":"Variables!JQ$484","v":""}]
[{"$f":"Variables!JR$484","v":""}]
[{"$f":"Variables!JS$484","v":""}]
[{"$f":"Variables!JT$484","v":""}]
[{"$f":"Variables!JU$484","v":""}]
[{"$f":"Variables!JV$484","v":""}]
[{"$f":"Variables!JW$484","v":""}]
[{"$f":"Variables!JX$484","v":""}]
[{"$f":"Variables!JY$484","v":""}]
[{"$f":"Variables!JZ$484","v":""}]
[{"$f":"Variables!KA$484","v":""}]
[{"$f":"Variables!KB$484","v":""}]
[{"$f":"Variables!KC$484","v":""}]
[{"$f":"Variables!KD$484","v":""}]
[{"$f":"Variables!KE$484","v":""}]
[{"$f":"Variables!KF$484","v":""}]
[{"$f":"Variables!KG$484","v":""}]
[{"$f":"Variables!KH$484","v":""}]
[{"$f":"Variables!KI$484","v":""}]
[{"$f":"Variables!KJ$484","v":""}]
[{"$f":"Variables!KK$484","v":""}]
[{"$f":"Variables!KL$484","v":""}]
[{"$f":"Variables!KM$484","v":""}]
[{"$f":"Variables!KN$484","v":""}]
[{"$f":"Variables!KO$484","v":""}]
[{"$f":"Variables!KP$484","v":""}]
[{"$f":"Variables!KQ$484","v":""}]
[{"$f":"Variables!KR$484","v":""}]
[{"$f":"Variables!KS$484","v":""}]
[{"$f":"Variables!KT$484","v":""}]
[{"$f":"Variables!KU$484","v":""}]
[{"$f":"Variables!KV$484","v":""}]
[{"$f":"Variables!KW$484","v":""}]
[{"$f":"Variables!KX$484","v":""}]
[{"$f":"Variables!KY$484","v":""}]
[{"$f":"Variables!KZ$484","v":""}]
[{"$f":"Variables!LA$484","v":""}]
[{"$f":"Variables!LB$484","v":""}]
[{"$f":"Variables!LC$484","v":""}]
[{"$f":"Variables!LD$484","v":""}]
[{"$f":"Variables!LE$484","v":""}]
[{"$f":"Variables!LF$484","v":""}]
[{"$f":"Variables!LG$484","v":""}]
[{"$f":"Variables!LH$484","v":""}]
[{"$f":"Variables!LI$484","v":""}]
[{"$f":"Variables!LJ$484","v":""}]
[{"$f":"Variables!LK$484","v":""}]
[{"$f":"Variables!LL$484","v":""}]
[{"$f":"Variables!LM$484","v":""}]
[{"$f":"Variables!LN$484","v":""}]
[{"$f":"Variables!LO$484","v":""}]
[{"$f":"Variables!LP$484","v":""}]
[{"$f":"Variables!LQ$484","v":""}]
[{"$f":"Variables!LR$484","v":""}]
[{"$f":"Variables!LS$484","v":""}]
[{"$f":"Variables!LT$484","v":""}]
[{"$f":"Variables!LU$484","v":""}]
[{"$f":"Variables!LV$484","v":""}]
[{"$f":"Variables!LW$484","v":""}]
[{"$f":"Variables!LX$484","v":""}]
[{"$f":"Variables!LY$484","v":""}]
[{"$f":"Variables!LZ$484","v":""}]
[{"$f":"Variables!MA$484","v":""}]
[{"$f":"Variables!MB$484","v":""}]
[{"$f":"Variables!MC$484","v":""}]
[{"$f":"Variables!MD$484","v":""}]
[{"$f":"Variables!ME$484","v":""}]
[{"$f":"Variables!MF$484","v":""}]
[{"$f":"Variables!MG$484","v":""}]
[{"$f":"Variables!MH$484","v":""}]
[{"$f":"Variables!MI$484","v":""}]
[{"$f":"Variables!MJ$484","v":""}]
[{"$f":"Variables!MK$484","v":""}]
[{"$f":"Variables!ML$484","v":""}]
[{"$f":"Variables!MM$484","v":""}]
[{"$f":"Variables!MN$484","v":""}]
[{"$f":"Variables!MO$484","v":""}]

{"sheet":"Q&A and REF merge","index":13,"n_rows":51,"n_cols":152,"rows_kept":51,"cut":false,"hidden":true,"merged":[]}
["PositionTitle","CompetitionNumber","Salary","CritOrder1","Criteria1","Level1","LevelA","Weight1","CritOrder2","Criteria2","Level2","LevelB","Weight2","CritOrder3","Criteria3","Level3","LevelC","Weight3","CritOrder4","Criteria4","Level4","LevelD","Weight4","CritOrder5","Criteria5","Level5","LevelE","Weight5","CritOrder6","Criteria6","Level6","LevelF","Weight6","CritOrder7","Criteria7","Level7","LevelG","Weight7","CritOrder8","Criteria8","Level8","LevelH","Weight8","CritOrder9","Criteria9","Level9","LevelI","Weight9","CritOrder10","Criteria10","Level10","LevelJ","Weight10","CritOrder11","Criteria11","Level11","LevelK","Weight11","CritOrder12","Criteria12","Level12","LevelL","Weight12","CritOrder13","Criteria13","Level13","LevelM","Weight13","CritOrder14","Criteria14","Level14","LevelN","Weight14","CritOrder15","Criteria15","Level15","LevelO","Weight15","CritOrder16","Criteria16","Level16","LevelP","Weight16","CritOrder17","Criteria17","Level17","LevelQ","Weight17","CritOrder18","Criteria18","Level18","LevelR","Weight18","CritOrder19","Criteria19","Level19","LevelS","Weight19","CritOrder20","Criteria20","Level20","LevelT","Weight20","CritOrder21","Criteria21","Level21","LevelU","Weight21","CritOrder22","Criteria22","Level22","LevelV","Weight22","CritOrder23","Criteria23","Level23","LevelW","Weight23","CritOrder24","Criteria24","Level24","LevelX","Weight24","CritOrder25","Criteria25","Level25","LevelY","Weight25","CritOrder26","Criteria26","Level26","LevelZ","Weight26","CritOrder27","Criteria27","Level27","LevelAA","Weight27","CritOrder28","Criteria28","Level28","LevelAB","Weight28","Cond1","Cond2","Cond3","Cond4","Cond5","Cond6","Cond7","Cond8","Cond9"]
[{"$f":"PosTitle","v":0},{"$f":"CompNumber","v":0},{"$f":"Salaries!B106","v":0},1,{"$f":"G34","v":""},{"$f":"H34","v":""},{"$f":"IF(F2=\"A\", \"Desirable\", IF(F2=\"R\", \"Essential\", IF(F2=\"C\", \"Critical\")))","v":false},{"$f":"IF(F2=\"r\", 10, IF(F2=\"a\", 5, IF(F2=\"c\", 15, 0)))","v":0},{"$f":"D2+1","v":2},{"$f":"I34","v":""},{"$f":"J34","v":""},{"$f":"IF(K2=\"A\", \"Desirable\", IF(K2=\"R\", \"Essential\", IF(K2=\"C\", \"Critical\")))","v":false},{"$f":"IF(K2=\"r\", 10, IF(K2=\"a\", 5, IF(K2=\"c\", 15, 0)))","v":0},{"$f":"I2+1","v":3},{"$f":"K34","v":""},{"$f":"L34","v":""},{"$f":"IF(P2=\"A\", \"Desirable\", IF(P2=\"R\", \"Essential\", IF(P2=\"C\", \"Critical\")))","v":false},{"$f":"IF(P2=\"r\", 10, IF(P2=\"a\", 5, IF(P2=\"c\", 15, 0)))","v":0},{"$f":"N2+1","v":4},{"$f":"M34","v":""},{"$f":"N34","v":""},{"$f":"IF(U2=\"A\", \"Desirable\", IF(U2=\"R\", \"Essential\", IF(U2=\"C\", \"Critical\")))","v":false},{"$f":"IF(U2=\"r\", 10, IF(U2=\"a\", 5, IF(U2=\"c\", 15, 0)))","v":0},{"$f":"S2+1","v":5},{"$f":"O34","v":""},{"$f":"P34","v":""},{"$f":"IF(Z2=\"A\", \"Desirable\", IF(Z2=\"R\", \"Essential\", IF(Z2=\"C\", \"Critical\")))","v":false},{"$f":"IF(Z2=\"r\", 10, IF(Z2=\"a\", 5, IF(Z2=\"c\", 15, 0)))","v":0},{"$f":"X2+1","v":6},{"$f":"Q34","v":""},{"$f":"R34","v":""},{"$f":"IF(AE2=\"A\", \"Desirable\", IF(AE2=\"R\", \"Essential\", IF(AE2=\"C\", \"Critical\")))","v":false},{"$f":"IF(AE2=\"r\", 10, IF(AE2=\"a\", 5, IF(AE2=\"c\", 15, 0)))","v":0},{"$f":"AC2+1","v":7},{"$f":"S34","v":""},{"$f":"T34","v":""},{"$f":"IF(AJ2=\"A\", \"Desirable\", IF(AJ2=\"R\", \"Essential\", IF(AJ2=\"C\", \"Critical\")))","v":false},{"$f":"IF(AJ2=\"r\", 10, IF(AJ2=\"a\", 5, IF(AJ2=\"c\", 15, 0)))","v":0},{"$f":"AH2+1","v":8},{"$f":"U34","v":""},{"$f":"V34","v":""},{"$f":"IF(AO2=\"A\", \"Desirable\", IF(AO2=\"R\", \"Essential\", IF(AO2=\"C\", \"Critical\")))","v":false},{"$f":"IF(AO2=\"r\", 10, IF(AO2=\"a\", 5, IF(AO2=\"c\", 15, 0)))","v":0},{"$f":"AM2+1","v":9},{"$f":"W34","v":""},{"$f":"X34","v":""},{"$f":"IF(AT2=\"A\", \"Desirable\", IF(AT2=\"R\", \"Essential\", IF(AT2=\"C\", \"Critical\")))","v":false},{"$f":"IF(AT2=\"r\", 10, IF(AT2=\"a\", 5, IF(AT2=\"c\", 15, 0)))","v":0},{"$f":"AR2+1","v":10},{"$f":"Y34","v":""},{"$f":"Z34","v":""},{"$f":"IF(AY2=\"A\", \"Desirable\", IF(AY2=\"R\", \"Essential\", IF(AY2=\"C\", \"Critical\")))","v":false},{"$f":"IF(AY2=\"r\", 10, IF(AY2=\"a\", 5, IF(AY2=\"c\", 15, 0)))","v":0},{"$f":"AW2+1","v":11},{"$f":"AA34","v":""},{"$f":"AB34","v":""},{"$f":"IF(BD2=\"A\", \"Desirable\", IF(BD2=\"R\", \"Essential\", IF(BD2=\"C\", \"Critical\")))","v":false},{"$f":"IF(BD2=\"r\", 10, IF(BD2=\"a\", 5, IF(BD2=\"c\", 15, 0)))","v":0},{"$f":"BB2+1","v":12},{"$f":"AC34","v":""},{"$f":"AD34","v":""},{"$f":"IF(BI2=\"A\", \"Desirable\", IF(BI2=\"R\", \"Essential\", IF(BI2=\"C\", \"Critical\")))","v":false},{"$f":"IF(BI2=\"r\", 10, IF(BI2=\"a\", 5, IF(BI2=\"c\", 15, 0)))","v":0},{"$f":"BG2+1","v":13},{"$f":"AE34","v":""},{"$f":"AF34","v":""},{"$f":"IF(BN2=\"A\", \"Desirable\", IF(BN2=\"R\", \"Essential\", IF(BN2=\"C\", \"Critical\")))","v":false},{"$f":"IF(BN2=\"r\", 10, IF(BN2=\"a\", 5, IF(BN2=\"c\", 15, 0)))","v":0},{"$f":"BL2+1","v":14},{"$f":"AG34","v":""},{"$f":"AH34","v":""},{"$f":"IF(BS2=\"A\", \"Desirable\", IF(BS2=\"R\", \"Essential\", IF(BS2=\"C\", \"Critical\")))","v":false},{"$f":"IF(BS2=\"r\", 10, IF(BS2=\"a\", 5, IF(BS2=\"c\", 15, 0)))","v":0},{"$f":"BQ2+1","v":15},{"$f":"AI34","v":""},{"$f":"AJ34","v":""},{"$f":"IF(BX2=\"A\", \"Desirable\", IF(BX2=\"R\", \"Essential\", IF(BX2=\"C\", \"Critical\")))","v":false},{"$f":"IF(BX2=\"r\", 10, IF(BX2=\"a\", 5, IF(BX2=\"c\", 15, 0)))","v":0},{"$f":"BV2+1","v":16},{"$f":"AK34","v":""},{"$f":"AL34","v":""},{"$f":"IF(CC2=\"A\", \"Desirable\", IF(CC2=\"R\", \"Essential\", IF(CC2=\"C\", \"Critical\")))","v":false},{"$f":"IF(CC2=\"r\", 10, IF(CC2=\"a\", 5, IF(CC2=\"c\", 15, 0)))","v":0},{"$f":"CA2+1","v":17},{"$f":"AM34","v":""},{"$f":"AN34","v":""},{"$f":"IF(CH2=\"A\", \"Desirable\", IF(CH2=\"R\", \"Essential\", IF(CH2=\"C\", \"Critical\")))","v":false},{"$f":"IF(CH2=\"r\", 10, IF(CH2=\"a\", 5, IF(CH2=\"c\", 15, 0)))","v":0},{"$f":"CF2+1","v":18},{"$f":"AO34","v":""},{"$f":"AP34","v":""},{"$f":"IF(CM2=\"A\", \"Desirable\", IF(CM2=\"R\", \"Essential\", IF(CM2=\"C\", \"Critical\")))","v":false},{"$f":"IF(CM2=\"r\", 10, IF(CM2=\"a\", 5, IF(CM2=\"c\", 15, 0)))","v":0},{"$f":"CK2+1","v":19},{"$f":"AQ34","v":""},{"$f":"AR34","v":""},{"$f":"IF(CR2=\"A\", \"Desirable\", IF(CR2=\"R\", \"Essential\", IF(CR2=\"C\", \"Critical\")))","v":false},{"$f":"IF(CR2=\"r\", 10, IF(CR2=\"a\", 5, IF(CR2=\"c\", 15, 0)))","v":0},{"$f":"CP2+1","v":20},{"$f":"AS34","v":""},{"$f":"AT34","v":""},{"$f":"IF(CW2=\"A\", \"Desirable\", IF(CW2=\"R\", \"Essential\", IF(CW2=\"C\", \"Critical\")))","v":false},{"$f":"IF(CW2=\"r\", 10, IF(CW2=\"a\", 5, IF(CW2=\"c\", 15, 0)))","v":0},{"$f":"CU2+1","v":21},{"$f":"AU34","v":""},{"$f":"AV34","v":""},{"$f":"IF(DB2=\"A\", \"Desirable\", IF(DB2=\"R\", \"Essential\", IF(DB2=\"C\", \"Critical\")))","v":false},{"$f":"IF(DB2=\"r\", 10, IF(DB2=\"a\", 5, IF(DB2=\"c\", 15, 0)))","v":0},{"$f":"CZ2+1","v":22},{"$f":"AW34","v":""},{"$f":"AX34","v":""},{"$f":"IF(DG2=\"A\", \"Desirable\", IF(DG2=\"R\", \"Essential\", IF(DG2=\"C\", \"Critical\")))","v":false},{"$f":"IF(DG2=\"r\", 10, IF(DG2=\"a\", 5, IF(DG2=\"c\", 15, 0)))","v":0},{"$f":"DE2+1","v":23},{"$f":"AY34","v":""},{"$f":"AZ34","v":""},{"$f":"IF(DL2=\"A\", \"Desirable\", IF(DL2=\"R\", \"Essential\", IF(DL2=\"C\", \"Critical\")))","v":false},{"$f":"IF(DL2=\"r\", 10, IF(DL2=\"a\", 5, IF(DL2=\"c\", 15, 0)))","v":0},{"$f":"DJ2+1","v":24},{"$f":"BA34","v":""},{"$f":"BB34","v":""},{"$f":"IF(DQ2=\"A\", \"Desirable\", IF(DQ2=\"R\", \"Essential\", IF(DQ2=\"C\", \"Critical\")))","v":false},{"$f":"IF(DQ2=\"r\", 10, IF(DQ2=\"a\", 5, IF(DQ2=\"c\", 15, 0)))","v":0},{"$f":"DO2+1","v":25},{"$f":"BC34","v":""},{"$f":"BD34","v":""},{"$f":"IF(DV2=\"A\", \"Desirable\", IF(DV2=\"R\", \"Essential\", IF(DV2=\"C\", \"Critical\")))","v":false},{"$f":"IF(DV2=\"r\", 10, IF(DV2=\"a\", 5, IF(DV2=\"c\", 15, 0)))","v":0},{"$f":"DT2+1","v":26},{"$f":"BE34","v":""},{"$f":"BF34","v":""},{"$f":"IF(EA2=\"A\", \"Desirable\", IF(EA2=\"R\", \"Essential\", IF(EA2=\"C\", \"Critical\")))","v":false},{"$f":"IF(EA2=\"r\", 10, IF(EA2=\"a\", 5, IF(EA2=\"c\", 15, 0)))","v":0},{"$f":"DY2+1","v":27},{"$f":"BG34","v":""},{"$f":"BH34","v":""},{"$f":"IF(EF2=\"A\", \"Desirable\", IF(EF2=\"R\", \"Essential\", IF(EF2=\"C\", \"Critical\")))","v":false},{"$f":"IF(EF2=\"r\", 10, IF(EF2=\"a\", 5, IF(EF2=\"c\", 15, 0)))","v":0},{"$f":"ED2+1","v":28},{"$f":"BI34","v":""},{"$f":"BJ34","v":""},{"$f":"IF(EK2=\"A\", \"Desirable\", IF(EK2=\"R\", \"Essential\", IF(EK2=\"C\", \"Critical\")))","v":false},{"$f":"IF(EK2=\"r\", 10, IF(EK2=\"a\", 5, IF(EK2=\"c\", 15, 0)))","v":0},{"$f":"G48","v":"0"},{"$f":"H48","v":""},"","","","","","",""]
[]
[null,null,null,null,null," "]
[null,null,null,null,null,null,"C1 ",null,"C2 ",null,"C3 ",null,"C4 ",null,"C5 ",null,"C6 ",null,"C7 ",null,"C8 ",null,"C9",null,"C10",null,"C11",null,"C12",null,"C13",null,"C14",null,"C15 ",null,"C16 ",null,"C17",null,"C18",null,"C19",null,"C20",null,"C21",null,"C22",null,"C23",null,"C24",null,"C25",null,"C26",null,"C27",null,"C28"]
[{"$f":"'3 Duties & Requirements'!B8","v":0},false,{"$f":"IF(B6=TRUE, \"C\", 0)","v":0},{"$f":"IF(C6=\"C\", C6, \"R\")","v":"R"},{"$f":"IF(A6>0,A6,0)","v":0},{"$f":"IF(E6>0, 1, 0)","v":0},{"$f":"IF($F6=1, $E6, \"\")","v":""},{"$f":"IF($F6=1, $D6, \"\")","v":""},{"$f":"IF($F6=2, $E6, \"\")","v":""},{"$f":"IF($F6=2, $D6, \"\")","v":""},{"$f":"IF($F6=3, $E6, \"\")","v":""},{"$f":"IF($F6=3, $D6, \"\")","v":""},{"$f":"IF($F6=4, $E6, \"\")","v":""},{"$f":"IF($F6=4, $D6, \"\")","v":""},{"$f":"IF($F6=5, $E6, \"\")","v":""},{"$f":"IF($F6=5, $D6, \"\")","v":""},{"$f":"IF($F6=6, $E6, \"\")","v":""},{"$f":"IF($F6=6, $D6, \"\")","v":""},{"$f":"IF($F6=7, $E6, \"\")","v":""},{"$f":"IF($F6=7, $D6, \"\")","v":""},{"$f":"IF($F6=8, $E6, \"\")","v":""},{"$f":"IF($F6=8, $D6, \"\")","v":""},{"$f":"IF($F6=9, $E6, \"\")","v":""},{"$f":"IF($F6=9, $D6, \"\")","v":""},{"$f":"IF($F6=10, $E6, \"\")","v":""},{"$f":"IF($F6=10, $D6, \"\")","v":""},{"$f":"IF($F6=11, $E6, \"\")","v":""},{"$f":"IF($F6=11, $D6, \"\")","v":""},{"$f":"IF($F6=12, $E6, \"\")","v":""},{"$f":"IF($F6=12, $D6, \"\")","v":""},{"$f":"IF($F6=13, $E6, \"\")","v":""},{"$f":"IF($F6=13, $D6, \"\")","v":""},{"$f":"IF($F6=14, $E6, \"\")","v":""},{"$f":"IF($F6=14, $D6, \"\")","v":""},{"$f":"IF($F6=15, $E6, \"\")","v":""},{"$f":"IF($F6=15, $D6, \"\")","v":""},{"$f":"IF($F6=16, $E6, \"\")","v":""},{"$f":"IF($F6=16, $D6, \"\")","v":""},{"$f":"IF($F6=17, $E6, \"\")","v":""},{"$f":"IF($F6=17, $D6, \"\")","v":""},{"$f":"IF($F6=18, $E6, \"\")","v":""},{"$f":"IF($F6=18, $D6, \"\")","v":""},{"$f":"IF($F6=19, $E6, \"\")","v":""},{"$f":"IF($F6=19, $D6, \"\")","v":""},{"$f":"IF($F6=20, $E6, \"\")","v":""},{"$f":"IF($F6=20, $D6, \"\")","v":""},{"$f":"IF($F6=21, $E6, \"\")","v":""},{"$f":"IF($F6=21, $D6, \"\")","v":""},{"$f":"IF($F6=22, $E6, \"\")","v":""},{"$f":"IF($F6=22, $D6, \"\")","v":""},{"$f":"IF($F6=23, $E6, \"\")","v":""},{"$f":"IF($F6=23, $D6, \"\")","v":""},{"$f":"IF($F6=24, $E6, \"\")","v":""},{"$f":"IF($F6=24, $D6, \"\")","v":""},{"$f":"IF($F6=25, $E6, \"\")","v":""},{"$f":"IF($F6=25, $D6, \"\")","v":""},{"$f":"IF($F6=26, $E6, \"\")","v":""},{"$f":"IF($F6=26, $D6, \"\")","v":""},{"$f":"IF($F6=27, $E6, \"\")","v":""},{"$f":"IF($F6=27, $D6, \"\")","v":""},{"$f":"IF($F6=28, $E6, \"\")","v":""},{"$f":"IF($F6=28, $D6, \"\")","v":""}]
[{"$f":"'3 Duties & Requirements'!B9","v":0},false,{"$f":"IF(B7=TRUE, \"C\", 0)","v":0},"R",0,{"$f":"IF(E7>0,MAX(F6)+1,0)","v":0},{"$f":"IF($F7=1, $E7, \"\")","v":""},{"$f":"IF($F7=1, $D7, \"\")","v":""},{"$f":"IF($F7=2, $E7, \"\")","v":""},{"$f":"IF($F7=2, $D7, \"\")","v":""},{"$f":"IF($F7=3, $E7, \"\")","v":""},{"$f":"IF($F7=3, $D7, \"\")","v":""},{"$f":"IF($F7=4, $E7, \"\")","v":""},{"$f":"IF($F7=4, $D7, \"\")","v":""},{"$f":"IF($F7=5, $E7, \"\")","v":""},{"$f":"IF($F7=5, $D7, \"\")","v":""},{"$f":"IF($F7=6, $E7, \"\")","v":""},{"$f":"IF($F7=6, $D7, \"\")","v":""},{"$f":"IF($F7=7, $E7, \"\")","v":""},{"$f":"IF($F7=7, $D7, \"\")","v":""},{"$f":"IF($F7=8, $E7, \"\")","v":""},{"$f":"IF($F7=8, $D7, \"\")","v":""},{"$f":"IF($F7=9, $E7, \"\")","v":""},{"$f":"IF($F7=9, $D7, \"\")","v":""},{"$f":"IF($F7=10, $E7, \"\")","v":""},{"$f":"IF($F7=10, $D7, \"\")","v":""},{"$f":"IF($F7=11, $E7, \"\")","v":""},{"$f":"IF($F7=11, $D7, \"\")","v":""},{"$f":"IF($F7=12, $E7, \"\")","v":""},{"$f":"IF($F7=12, $D7, \"\")","v":""},{"$f":"IF($F7=13, $E7, \"\")","v":""},{"$f":"IF($F7=13, $D7, \"\")","v":""},"","",{"$f":"IF($F7=15, $E7, \"\")","v":""},{"$f":"IF($F7=15, $D7, \"\")","v":""},{"$f":"IF($F7=16, $E7, \"\")","v":""},{"$f":"IF($F7=16, $D7, \"\")","v":""},{"$f":"IF($F7=17, $E7, \"\")","v":""},{"$f":"IF($F7=17, $D7, \"\")","v":""},{"$f":"IF($F7=18, $E7, \"\")","v":""},{"$f":"IF($F7=18, $D7, \"\")","v":""},{"$f":"IF($F7=19, $E7, \"\")","v":""},{"$f":"IF($F7=19, $D7, \"\")","v":""},{"$f":"IF($F7=20, $E7, \"\")","v":""},{"$f":"IF($F7=20, $D7, \"\")","v":""},{"$f":"IF($F7=21, $E7, \"\")","v":""},{"$f":"IF($F7=21, $D7, \"\")","v":""},{"$f":"IF($F7=22, $E7, \"\")","v":""},{"$f":"IF($F7=22, $D7, \"\")","v":""},{"$f":"IF($F7=23, $E7, \"\")","v":""},{"$f":"IF($F7=23, $D7, \"\")","v":""},{"$f":"IF($F7=24, $E7, \"\")","v":""},{"$f":"IF($F7=24, $D7, \"\")","v":""},{"$f":"IF($F7=25, $E7, \"\")","v":""},{"$f":"IF($F7=25, $D7, \"\")","v":""},{"$f":"IF($F7=26, $E7, \"\")","v":""},{"$f":"IF($F7=26, $D7, \"\")","v":""},{"$f":"IF($F7=27, $E7, \"\")","v":""},{"$f":"IF($F7=27, $D7, \"\")","v":""},{"$f":"IF($F7=28, $E7, \"\")","v":""},{"$f":"IF($F7=28, $D7, \"\")","v":""}]
[{"$f":"'3 Duties & Requirements'!B10","v":0},false,0,"R",0,{"$f":"IF(E8>0,MAX(F6:F7)+1,0)","v":0},"","","","","","","","","","","","","","","","","","","","","","","","","","","","","","","","","","","","","","","","","","","","","","","","","","","","","","","",""]
[{"$f":"'3 Duties & Requirements'!B11","v":0},false,0,"R",0,{"$f":"IF(E9>0,MAX(F6:F8)+1,0)","v":0},"","","","","","","","","","","","","","","","","","","","","","","","","","","","","","","","","","","","","","","","","","","","","","","","","","","","","","","",""]
[{"$f":"'3 Duties & Requirements'!B12","v":0},false,0,"R",0,{"$f":"IF(E10>0,MAX(F6:F9)+1,0)","v":0},"","","","","","","","","","","","","","","","","","","","","","","","","","","","","","","","","","","","","","","","","","","","","","","","","","","","","","","",""]
[{"$f":"'3 Duties & Requirements'!B13","v":0},false,0,"R",0,{"$f":"IF(E11>0,MAX(F6:F10)+1,0)","v":0},"","","","","","","","","","","","","","","","","","","","","","","","","","","","","","","","","","","","","","","","","","","","","","","","","","","","","","","",""]
[{"$f":"'3 Duties & Requirements'!B14","v":0},false,0,"R",0,{"$f":"IF(E12>0,MAX(F6:F11)+1,0)","v":0},"","","","","","","","","","","","","","","","","","","","","","","","","","","","","","","","","","","","","","","","","","","","","","","","","","","","","","","",""]
[{"$f":"'3 Duties & Requirements'!B15","v":0},false,0,"R",0,{"$f":"IF(E13>0,MAX(F6:F12)+1,0)","v":0},"","","","","","","","","","","","","","","","","","","","","","","","","","","","","","","","","","","","","","","","","","","","","","","","","","","","","","","",""]
[{"$f":"'3 Duties & Requirements'!B16","v":0},false,0,"R",0,{"$f":"IF(E14>0,MAX(F6:F13)+1,0)","v":0},"","","","","","","","","","","","","","","","","","","","","","","","","","","","","","","","","","","","","","","","","","","","","","","","","","","","","","","",""]
[{"$f":"'3 Duties & Requirements'!B17","v":0},false,0,"R",0,{"$f":"IF(E15>0,MAX(F6:F14)+1,0)","v":0},"","","","","","","","","","","","","","","","","","","","","","","","","","","","","","","","","","","","","","","","","","","","","","","","","","","","","","","",""]
[{"$f":"'3 Duties & Requirements'!B18","v":0},false,0,"R",0,{"$f":"IF(E16>0,MAX(F6:F15)+1,0)","v":0},"","","","","","","","","","","","","","","","","","","","","","","","","","","","","","","","","","","","","","","","","","","","","","","","","","","","","","","",""]
[{"$f":"'3 Duties & Requirements'!B19","v":0},false,0,"R",0,{"$f":"IF(E17>0,MAX(F6:F16)+1,0)","v":0},"","","","","","","","","","","","","","","","","","","","","","","","","","","","","","","","","","","","","","","","","","","","","","","","","","","","","","","",""]
[{"$f":"'3 Duties & Requirements'!B20","v":0},false,0,"R",0,{"$f":"IF(E18>0,MAX(F6:F17)+1,0)","v":0},"","","","","","","","","","","","","","","","","","","","","","","","","","","","","","","","","","","","","","","","","","","","","","","","","","","","","","","",""]
[{"$f":"'3 Duties & Requirements'!B21","v":0},false,0,"R",0,{"$f":"IF(E19>0,MAX(F6:F18)+1,0)","v":0},"","","","","","","","","","","","","","","","","","","","","","","","","","","","","","","","","","","","","","","","","","","","","","","","","","","","","","","",""]
[{"$f":"'3 Duties & Requirements'!B22","v":0},false,0,"R",0,{"$f":"IF(E20>0,MAX(F6:F19)+1,0)","v":0},"","","","","","","","","","","","","","","","","","","","","","","","","","","","","","","","","","","","","","","","","","","","","","","","","","","","","","","",""]
[{"$f":"'3 Duties & Requirements'!B23","v":0},false,0,"R",0,{"$f":"IF(E21>0,MAX(F6:F20)+1,0)","v":0},"","","","","","","","","","","","","","","","","","","","","","","","","","","","","","","","","","","","","","","","","","","","","","","","","","","","","","","",""]
[{"$f":"'3 Duties & Requirements'!B24","v":0},false,0,"R",0,{"$f":"IF(E22>0,MAX(F6:F21)+1,0)","v":0},"","","","","","","","","","","","","","","","","","","","","","","","","","","","","","","","","","","","","","","","","","","","","","","","","","","","","","","",""]
[{"$f":"'3 Duties & Requirements'!B25","v":0},false,0,"R",0,{"$f":"IF(E23>0,MAX(F6:F22)+1,0)","v":0},"","","","","","","","","","","","","","","","","","","","","","","","","","","","","","","","","","","","","","","","","","","","","","","","","","","","","","","",""]
[{"$f":"'3 Duties & Requirements'!B26","v":0},false,0,"R",0,{"$f":"IF(E24>0,MAX(F6:F23)+1,0)","v":0},"","","","","","","","","","","","","","","","","","","","","","","","","","","","","","","","","","","","","","","","","","","","","","","","","","","","","","","",""]
[{"$f":"'3 Duties & Requirements'!B27","v":0},false,0,"R",0,{"$f":"IF(E25>0,MAX(F6:F24)+1,0)","v":0},"","","","","","","","","","","","","","","","","","","","","","","","","","","","","","","","","","","","","","","","","","","","","","","","","","","","","","","",""]
[{"$f":"'3 Duties & Requirements'!B33","v":0},null,null,"A",0,{"$f":"IF(E26>0,MAX(F6:F25)+1,0)","v":0},"","","","","","","","","","","","",{"$f":"IF($F26=7, $E26, \"\")","v":""},{"$f":"IF($F26=7, $D26, \"\")","v":""},{"$f":"IF($F26=8, $E26, \"\")","v":""},{"$f":"IF($F26=8, $D26, \"\")","v":""},{"$f":"IF($F26=9, $E26, \"\")","v":""},{"$f":"IF($F26=9, $D26, \"\")","v":""},{"$f":"IF($F26=10, $E26, \"\")","v":""},{"$f":"IF($F26=10, $D26, \"\")","v":""},{"$f":"IF($F26=11, $E26, \"\")","v":""},{"$f":"IF($F26=11, $D26, \"\")","v":""},{"$f":"IF($F26=12, $E26, \"\")","v":""},{"$f":"IF($F26=12, $D26, \"\")","v":""},{"$f":"IF($F26=13, $E26, \"\")","v":""},{"$f":"IF($F26=13, $D26, \"\")","v":""},"","",{"$f":"IF($F26=15, $E26, \"\")","v":""},{"$f":"IF($F26=15, $D26, \"\")","v":""},{"$f":"IF($F26=16, $E26, \"\")","v":""},{"$f":"IF($F26=16, $D26, \"\")","v":""},{"$f":"IF($F26=17, $E26, \"\")","v":""},{"$f":"IF($F26=17, $D26, \"\")","v":""},{"$f":"IF($F26=18, $E26, \"\")","v":""},{"$f":"IF($F26=18, $D26, \"\")","v":""},{"$f":"IF($F26=19, $E26, \"\")","v":""},{"$f":"IF($F26=19, $D26, \"\")","v":""},{"$f":"IF($F26=20, $E26, \"\")","v":""},{"$f":"IF($F26=20, $D26, \"\")","v":""},{"$f":"IF($F26=21, $E26, \"\")","v":""},{"$f":"IF($F26=21, $D26, \"\")","v":""},{"$f":"IF($F26=22, $E26, \"\")","v":""},{"$f":"IF($F26=22, $D26, \"\")","v":""},{"$f":"IF($F26=23, $E26, \"\")","v":""},{"$f":"IF($F26=23, $D26, \"\")","v":""},{"$f":"IF($F26=24, $E26, \"\")","v":""},{"$f":"IF($F26=24, $D26, \"\")","v":""},{"$f":"IF($F26=25, $E26, \"\")","v":""},{"$f":"IF($F26=25, $D26, \"\")","v":""},{"$f":"IF($F26=26, $E26, \"\")","v":""},{"$f":"IF($F26=26, $D26, \"\")","v":""},{"$f":"IF($F26=27, $E26, \"\")","v":""},{"$f":"IF($F26=27, $D26, \"\")","v":""},{"$f":"IF($F26=28, $E26, \"\")","v":""},{"$f":"IF($F26=28, $D26, \"\")","v":""}]
[{"$f":"'3 Duties & Requirements'!B34","v":0},null,null,"A",0,{"$f":"IF(E27>0,MAX(F6:F26)+1,0)","v":0},"","","","","","","","","","","","","","","","","","",{"$f":"IF($F27=10, $E27, \"\")","v":""},"","","","","","","","","","","","","","","","","","","","","","","","","","","","","","","","","","","","",""]
[{"$f":"'3 Duties & Requirements'!B35","v":0},null,null,"A",{"$f":"IF(A28>0,A28,0)","v":0},{"$f":"IF(E28>0,MAX(F6:F27)+1,0)","v":0},"","","","","","","","","","","","","","","","","","","","","","","","","","","","","","","","","","","","","","","","","","","","","","","","","","","","","","","",""]
[{"$f":"'3 Duties & Requirements'!B36","v":0},null,null,"A",0,{"$f":"IF(E29>0,MAX(F6:F28)+1,0)","v":0},"","","","","","","","","","","","","","","","","","","","","","","","","","","","","","","","","","","","","","","","","","","","","","","","","","","","","","","",""]
[{"$f":"'3 Duties & Requirements'!B37","v":0},null,null,"A",0,{"$f":"IF(E30>0,MAX(F6:F29)+1,0)","v":0},"","","","","","","","","","","","","","","","","","","","","","","","","","","","","","","","","","","","","","","","","","","","","","","","","","","","","","","",""]
[{"$f":"'3 Duties & Requirements'!B38","v":0},null,null,"A",0,{"$f":"IF(E31>0,MAX(F6:F30)+1,0)","v":0},"","","","","","","","","","","","","","","","","","","","","","","","","","","","","","","","","","","","","","","","","","","","","","","","","","","","","","","",""]
[{"$f":"'3 Duties & Requirements'!B39","v":0},null,null,"A",0,{"$f":"IF(E32>0,MAX(F6:F31)+1,0)","v":0},"","","","","","","","","","","","","","","","","","","","","","","","","","","","","","","","","","","","","","","","","","","","","","","","","","","","","","","",""]
[{"$f":"'3 Duties & Requirements'!B40","v":0},null,null,"A",0,{"$f":"IF(E33>0,MAX(F6:F32)+1,0)","v":0},"","","","",{"$f":"IF($F33=3, $E33, \"\")","v":""},"","","","","","","","","","","","","","","","","","","","","","","","","","","","","","","","","","","","","","","","","","","","","","","","","","",""]
[null,null,null,null,null,"RESULT",{"$f":" CONCATENATE(G6,G7,G8,G9,G10,G11,G12,G13,G14,G15,G16,G17,G18,G19, G20, G21, G22, G23, G24, G25,G26,G27,G28,G29,G30,G31,G32,G33)","v":""},{"$f":" CONCATENATE(H6,H7,H8,H9,H10,H11,H12,H13,H14,H15,H16,H17,H18,H19, H20, H21, H22, H23, H24, H25,H26,H27,H28,H29,H30,H31,H32,H33)","v":""},"","","","","","","","","","","","","","","","","","","","","","","","","","","","","","","","","","","","","","","","","","","","","","","","","","","","","",""]
[]
[null,null,null,null,null,null,"C1 ",null,"C2 ",null,"C3 ",null,"C4 ",null,"C5 ",null,"C6 ",null,"C7 ",null,"C8 ",null,"C9",null,"C10",null,"C11",null,"C12",null,"C13",null,"C14",null,"C15 ",null,"C16 ",null,"C17",null,"C18",null,"C19",null,"C20",null,"C21",null,"C22",null,"C23",null,"C24",null,"C25",null,"C26",null,"C27",null,"C28"]
[]
["Conditions of Employment"]
[{"$f":"IF(Variables!H77=1,0,IF(Variables!H77=2,Variables!$A$77,IF(Variables!H77=3,Variables!$A$78,IF(Variables!H77=4,Variables!$A$79,IF(Variables!H77=5,Variables!$A$80,IF(Variables!H77=6,Variables!$A$81,\"\"))))))&IF(Variables!H77=7,Variables!$A$82,IF(Variables!H77=8,Variables!$A$83,IF(Variables!H77=9,Variables!$A$84,IF(Variables!H77=10,Variables!$A$85,IF(Variables!H77=11,Variables!$A$86,IF(Variables!H77=12,Variables!$A$87,IF(Variables!H77=13,Variables!$A$88,IF(Variables!H77=14,Variables!$A$89,\"\"))))))))","v":"0"},null,null,null,{"$f":"IF(A39>\"0\",A39,0)","v":0},{"$f":"IF(E3+9>0, 1, 0)","v":1},{"$f":"IF($F39=1, $E39, \"\")","v":0},{"$f":"IF($F39=2, $E39, \"\")","v":""},{"$f":"IF($F39=3, $E39, \"\")","v":""},{"$f":"IF($F39=4, $E39, \"\")","v":""},{"$f":"IF($F39=5, $E39, \"\")","v":""},{"$f":"IF($F39=6, $E39, \"\")","v":""},{"$f":"IF($F39=7, $E39, \"\")","v":""},{"$f":"IF($F39=8, $E39, \"\")","v":""},{"$f":"IF($F39=9, $E39, \"\")","v":""},{"$f":"IF($F39=10, $E39, \"\")","v":""},{"$f":"IF($F39=10, $D39, \"\")","v":""},{"$f":"IF($F39=11, $E39, \"\")","v":""},{"$f":"IF($F39=11, $D39, \"\")","v":""},{"$f":"IF($F39=12, $E39, \"\")","v":""},{"$f":"IF($F39=12, $D39, \"\")","v":""},{"$f":"IF($F39=13, $E39, \"\")","v":""},{"$f":"IF($F39=13, $D39, \"\")","v":""},{"$f":"IF($F39=14, $E39, \"\")","v":""},{"$f":"IF($F39=14, $D39, \"\")","v":""},{"$f":"IF($F39=15, $E39, \"\")","v":""},{"$f":"IF($F39=15, $D39, \"\")","v":""},{"$f":"IF($F39=16, $E39, \"\")","v":""},{"$f":"IF($F39=16, $D39, \"\")","v":""},{"$f":"IF($F39=17, $E39, \"\")","v":""},{"$f":"IF($F39=17, $D39, \"\")","v":""},{"$f":"IF($F39=18, $E39, \"\")","v":""},{"$f":"IF($F39=18, $D39, \"\")","v":""},{"$f":"IF($F39=19, $E39, \"\")","v":""},{"$f":"IF($F39=19, $D39, \"\")","v":""},{"$f":"IF($F39=20, $E39, \"\")","v":""},{"$f":"IF($F39=20, $D39, \"\")","v":""},{"$f":"IF($F39=21, $E39, \"\")","v":""},{"$f":"IF($F39=21, $D39, \"\")","v":""},{"$f":"IF($F39=22, $E39, \"\")","v":""},{"$f":"IF($F39=22, $D39, \"\")","v":""},{"$f":"IF($F39=23, $E39, \"\")","v":""},{"$f":"IF($F39=23, $D39, \"\")","v":""},{"$f":"IF($F39=24, $E39, \"\")","v":""},{"$f":"IF($F39=24, $D39, \"\")","v":""},{"$f":"IF($F39=25, $E39, \"\")","v":""},{"$f":"IF($F39=25, $D39, \"\")","v":""},{"$f":"IF($F39=26, $E39, \"\")","v":""},{"$f":"IF($F39=26, $D39, \"\")","v":""},{"$f":"IF($F39=27, $E39, \"\")","v":""},{"$f":"IF($F39=27, $D39, \"\")","v":""},{"$f":"IF($F39=28, $E39, \"\")","v":""},{"$f":"IF($F39=28, $D39, \"\")","v":""}]
[{"$f":"IF(Variables!H78=1,0,IF(Variables!H78=2, Variables!$A$77,IF(Variables!H78=3, Variables!$A$78, IF(Variables!H78=4, Variables!$A$79, IF(Variables!H78=5, Variables!$A$80, IF(Variables!H78=6, Variables!$A$81,\"\"))))))&IF(Variables!H78=7,Variables!$A$82,IF(Variables!H78=8,Variables!$A$83,IF(Variables!H78=9,Variables!$A$84,IF(Variables!H78=10,Variables!$A$85,IF(Variables!H78=11,Variables!$A$86,IF(Variables!H78=12,Variables!$A$87,IF(Variables!H78=13,Variables!$A$88,IF(Variables!H78=14,Variables!$A$89,\"\"))))))))","v":"0"},null,null,null,{"$f":"IF(A40>\"0\",A40,0)","v":0},{"$f":"IF(E40>0,MAX(F39)+1,0)","v":0},"","","","","","","","","","","","","","","","","","","","","","","","","","","","","","","","","","","","","","","","","","","","","","",""]
[{"$f":"IF(Variables!H79=1,0,IF(Variables!H79=2, Variables!$A$77,IF(Variables!H79=3, Variables!$A$78, IF(Variables!H79=4, Variables!$A$79, IF(Variables!H79=5, Variables!$A$80, IF('[2]3Variables'!H62=6, Variables!$A$81,\"\"))))))&IF(Variables!H79=7,Variables!$A$82,IF(Variables!H79=8,Variables!$A$83,IF(Variables!H79=9,Variables!$A$84,IF(Variables!H79=10,Variables!$A$85,IF(Variables!H79=11,Variables!$A$86,IF(Variables!H79=12,Variables!$A$87,IF(Variables!H79=13,Variables!$A$88,IF(Variables!H79=14,Variables!$A$89,\"\"))))))))","v":"0"},null,null,null,{"$f":"IF(A41>\"0\",A41,0)","v":0},{"$f":"IF(E41>0,MAX(F39:F40)+1,0)","v":0},"","","","","","","","","","","","","","","","","","","","","","","","","","","","","","","","","","","","","","","","","","","","","","",""]
[{"$f":"IF(Variables!H80=1,0,IF(Variables!H80=2, Variables!$A$77,IF(Variables!H80=3, Variables!$A$78, IF(Variables!H80=4, Variables!$A$79, IF(Variables!H80=5, Variables!$A$80, IF(Variables!H80=6, Variables!$A$81,\"\"))))))&IF(Variables!H80=7,Variables!$A$82,IF(Variables!H80=8,Variables!$A$83,IF(Variables!H80=9,Variables!$A$84,IF(Variables!H80=10,Variables!$A$85,IF(Variables!H80=11,Variables!$A$86,IF(Variables!H80=12,Variables!$A$87,IF(Variables!H80=13,Variables!$A$88,IF(Variables!H80=14,Variables!$A$89,\"\"))))))))","v":"0"},null,null,null,{"$f":"IF(A42>\"0\",A42,0)","v":0},{"$f":"IF(E42>0,MAX(F39:F41)+1,0)","v":0},"","","","","","","","","","","","","","","","","","","","","","","","","","","","","","","","","","","","","","","","","","","","","","",""]
[{"$f":"IF(Variables!H81=1,0,IF(Variables!H81=2, Variables!$A$77,IF(Variables!H81=3, Variables!$A$78, IF(Variables!H81=4, Variables!$A$79, IF(Variables!H81=5, Variables!$A$80, IF(Variables!H81=6, Variables!$A$81,\"\"))))))&IF(Variables!H81=7,Variables!$A$82,IF(Variables!H81=8,Variables!$A$83,IF(Variables!H81=9,Variables!$A$84,IF(Variables!H81=10,Variables!$A$85,IF(Variables!H81=11,Variables!$A$86,IF(Variables!H81=12,Variables!$A$87,IF(Variables!H81=13,Variables!$A$88,IF(Variables!H81=14,Variables!$A$89,\"\"))))))))","v":"0"},null,null,null,{"$f":"IF(A43>\"0\",A43,0)","v":0},{"$f":"IF(E43>0,MAX(F39:F42)+1,0)","v":0},"","","","","","","","","","","","","","","","","","","","","","","","","","","","","","","","","","","","","","","","","","","","","","",""]
[{"$f":"'3 Duties & Requirements'!B50","v":0},null,null,null,{"$f":"IF(A44>0,A44,0)","v":0},{"$f":"IF(E44>0,MAX(F39:F43)+1,0)","v":0},"","","","","","","","","","","","","","","","","","","","","","","","","","","","","","","","","","","","","","","","","","","","","","",""]
[{"$f":"'3 Duties & Requirements'!B51","v":0},null,null,null,0,{"$f":"IF(E45>0,MAX(F39:F44)+1,0)","v":0},"","","","","","","","","","","","","","","","","","","","","","","","","","","","","","","","","","","","","","","","","","","","","","",""]
[{"$f":"'3 Duties & Requirements'!B52","v":0},null,null,null,0,{"$f":"IF(E46>0,MAX(F39:F45)+1,0)","v":0},"","","","","","","","","","","","","","","","","","","","","","","","","","","","","","","","","","","","","","","","","","","","","","",""]
[null,null,null,null,null,null,"","","","","","","","","","","","","","","","","","","","","","","","","","","","","","","","","","","","","","","","","","","","","","",""]
[{"$f":"IF(Variables!H95=1,\" \",IF(Variables!H95=2, Variables!$A$77,IF(Variables!H95=3, Variables!$A$78, IF(Variables!H95=4, Variables!$A$79, IF(Variables!H95=5, Variables!$A$80, IF(Variables!H95=6, Variables!$A$81,\" \"))))))","v":" "},null,null,null,null,"RESULT",{"$f":" CONCATENATE(G39,G40,G41,G42,G43,G44,G45,G46,G47)","v":"0"},{"$f":" CONCATENATE(H39,H40,H41,H42,H43,H44,H45,H46,H47)","v":""},"","","","",{"$f":" CONCATENATE(M39,M40,M41,M42,M43,M44,M45,M46,M47)","v":""},{"$f":" CONCATENATE(N39,N40,N41,N42,N43,N44,N45,N46,N47)","v":""},""]
[{"$f":"IF(Variables!H96=1,\" \",IF(Variables!H96=2, Variables!$A$77,IF(Variables!H96=3, Variables!$A$78, IF(Variables!H96=4, Variables!$A$79, IF(Variables!H96=5, Variables!$A$80, IF(Variables!H96=6, Variables!$A$81,\" \"))))))","v":" "}]
[{"$f":"IF(Variables!H97=1,\" \",IF(Variables!H97=2, Variables!$A$77,IF(Variables!H97=3, Variables!$A$78, IF(Variables!H97=4, Variables!$A$79, IF(Variables!H97=5, Variables!$A$80, IF(Variables!H97=6, Variables!$A$81,\" \"))))))","v":" "}]
[{"$f":"IF(Variables!H98=1,\" \",IF(Variables!H98=2, Variables!$A$77,IF(Variables!H98=3, Variables!$A$78, IF(Variables!H98=4, Variables!$A$79, IF(Variables!H98=5, Variables!$A$80, IF(Variables!H98=6, Variables!$A$81,\" \"))))))","v":" "}]

{"sheet":"Dev Notes","index":14,"n_rows":3,"n_cols":2,"rows_kept":3,"cut":false,"hidden":true,"merged":[]}
["version 12","2019-06-07"]
[]
["- Updated salary scales for new collective agreement: June 22, 2019 – June 19, 2020 and June 20, 2020 – June 18, 2021"]